BEGIN:VCALENDAR
VERSION:2.0
PRODID:-//The Natural Nurse - ECPv6.15.17.1//NONSGML v1.0//EN
CALSCALE:GREGORIAN
METHOD:PUBLISH
X-ORIGINAL-URL:https://www.naturalnurse.com
X-WR-CALDESC:Events for The Natural Nurse
REFRESH-INTERVAL;VALUE=DURATION:PT1H
X-Robots-Tag:noindex
X-PUBLISHED-TTL:PT1H
BEGIN:VTIMEZONE
TZID:America/New_York
BEGIN:DAYLIGHT
TZOFFSETFROM:-0500
TZOFFSETTO:-0400
TZNAME:EDT
DTSTART:20230312T070000
END:DAYLIGHT
BEGIN:STANDARD
TZOFFSETFROM:-0400
TZOFFSETTO:-0500
TZNAME:EST
DTSTART:20231105T060000
END:STANDARD
BEGIN:DAYLIGHT
TZOFFSETFROM:-0500
TZOFFSETTO:-0400
TZNAME:EDT
DTSTART:20240310T070000
END:DAYLIGHT
BEGIN:STANDARD
TZOFFSETFROM:-0400
TZOFFSETTO:-0500
TZNAME:EST
DTSTART:20241103T060000
END:STANDARD
BEGIN:DAYLIGHT
TZOFFSETFROM:-0500
TZOFFSETTO:-0400
TZNAME:EDT
DTSTART:20250309T070000
END:DAYLIGHT
BEGIN:STANDARD
TZOFFSETFROM:-0400
TZOFFSETTO:-0500
TZNAME:EST
DTSTART:20251102T060000
END:STANDARD
END:VTIMEZONE
BEGIN:VEVENT
DTSTART;TZID=America/New_York:20240714T110000
DTEND;TZID=America/New_York:20240714T150000
DTSTAMP:20260425T002324
CREATED:20240415T135408Z
LAST-MODIFIED:20240415T135408Z
UID:19081-1720954800-1720969200@www.naturalnurse.com
SUMMARY:2024 Herbal Medicine Making Workshop at Restoration Farm
DESCRIPTION:To register: https://www.restorationfarm.com/product-page/herb-identification-walk-medicine-making-workshop\nThis is a two-part event. First\, participants walk the gardens and fields\, learning about and gathering wild medicinal herbs. Then\, participants assemble in the Tin House and process the herbs into simple tinctures\, salves\, and smudge sticks. Led by Ellen Kamhi\, PhD\, RN\, AHG\, AHN-BC\, and by Dr. Eugene Zampieron\, ND.\nParticipants should bring a bag to gather the herbs and 2-3 small jars for transporting home their own tinctures and skin salve. \n \nFee: $45 in advance (until July 5) \n$50 at the door if there is still seat available. This event is usually sold out before the event date\, so register early.\n \nIf you have any questions\, please call ‪(954) 418-2388\nTo watch a preview of the herbal medicine making workshop (below is from a few years back)\, please click the video link below: \n \nFeel free to share this event with your friends and families by clicking any of the sharing icon below.\n  \n 
URL:https://www.naturalnurse.com/event/2024-herbal-medicine-making-workshop-restoration-farm/
LOCATION:RESTORATION FARM\, 140 Bethpage-Sweet Hollow Road\, Old Bethpage\, NY\, 11804\, United States
CATEGORIES:2024 Events,Funshop,Herbal Worshops,Restoration Farm
ATTACH;FMTTYPE=image/jpeg:https://www.naturalnurse.com/wp-content/uploads/2022/02/Medicinal-Herbs-gathering-Restoration-Farm-2021-1600.jpg
ORGANIZER;CN="Restoration Farm":MAILTO:info@restorationfarm.com
END:VEVENT
END:VCALENDAR