BEGIN:VCALENDAR
VERSION:2.0
PRODID:-//The Natural Nurse - ECPv6.15.17.1//NONSGML v1.0//EN
CALSCALE:GREGORIAN
METHOD:PUBLISH
X-WR-CALNAME:The Natural Nurse
X-ORIGINAL-URL:https://www.naturalnurse.com
X-WR-CALDESC:Events for The Natural Nurse
REFRESH-INTERVAL;VALUE=DURATION:PT1H
X-Robots-Tag:noindex
X-PUBLISHED-TTL:PT1H
BEGIN:VTIMEZONE
TZID:America/New_York
BEGIN:DAYLIGHT
TZOFFSETFROM:-0500
TZOFFSETTO:-0400
TZNAME:EDT
DTSTART:20220313T070000
END:DAYLIGHT
BEGIN:STANDARD
TZOFFSETFROM:-0400
TZOFFSETTO:-0500
TZNAME:EST
DTSTART:20221106T060000
END:STANDARD
BEGIN:DAYLIGHT
TZOFFSETFROM:-0500
TZOFFSETTO:-0400
TZNAME:EDT
DTSTART:20230312T070000
END:DAYLIGHT
BEGIN:STANDARD
TZOFFSETFROM:-0400
TZOFFSETTO:-0500
TZNAME:EST
DTSTART:20231105T060000
END:STANDARD
BEGIN:DAYLIGHT
TZOFFSETFROM:-0500
TZOFFSETTO:-0400
TZNAME:EDT
DTSTART:20240310T070000
END:DAYLIGHT
BEGIN:STANDARD
TZOFFSETFROM:-0400
TZOFFSETTO:-0500
TZNAME:EST
DTSTART:20241103T060000
END:STANDARD
END:VTIMEZONE
BEGIN:VEVENT
DTSTART;TZID=America/New_York:20231105T150000
DTEND;TZID=America/New_York:20231105T170000
DTSTAMP:20260425T171605
CREATED:20230926T011124Z
LAST-MODIFIED:20230926T011124Z
UID:17890-1699196400-1699203600@www.naturalnurse.com
SUMMARY:Herbs and Extraterrestrials
DESCRIPTION:Attendees will learn about: \n·         Direct Contact with Extraterrestrials as  described in her book SYNCHRONOUS CONNECTIONS \n·         Herbal Medicine Techniques – from her book NATURAL ALTERNATIVES \n·         Living in a Grass Shack for 2 years with a Mexican Curandera \n·         Exploration  with Indigenous Healers www.ecotoursforcures.com \n·         Living in a cave in the Pyranees mountains with Spanish Gypsies \n·         Setting up an OFF THE GRID totally self sufficient prepper community in Bisbee Arizona \n·         Energy Medicine – radionics\, radiaesthesia\, dowsing\nAND MORE … \n\n\nNo Pre-registration Required. FREE and OPEN to ALL \nJust Show Up: \nThe Theosophical Society\n3907 N. Federal Highway\nPO Box #151\nPompano Beach\, FL 33064 le
URL:https://www.naturalnurse.com/event/herbs-and-extraterrestrials/
LOCATION:The Theosophical Society of America\, 3907 N. Federal Highway\, Pompano Beach\, 33064
CATEGORIES:2023 Events,Lectures
ATTACH;FMTTYPE=image/jpeg:https://www.naturalnurse.com/wp-content/uploads/2023/09/image.jpg
END:VEVENT
END:VCALENDAR