BEGIN:VCALENDAR
VERSION:2.0
PRODID:-//The Natural Nurse - ECPv6.15.17.1//NONSGML v1.0//EN
CALSCALE:GREGORIAN
METHOD:PUBLISH
X-ORIGINAL-URL:https://www.naturalnurse.com
X-WR-CALDESC:Events for The Natural Nurse
REFRESH-INTERVAL;VALUE=DURATION:PT1H
X-Robots-Tag:noindex
X-PUBLISHED-TTL:PT1H
BEGIN:VTIMEZONE
TZID:America/New_York
BEGIN:DAYLIGHT
TZOFFSETFROM:-0500
TZOFFSETTO:-0400
TZNAME:EDT
DTSTART:20250309T070000
END:DAYLIGHT
BEGIN:STANDARD
TZOFFSETFROM:-0400
TZOFFSETTO:-0500
TZNAME:EST
DTSTART:20251102T060000
END:STANDARD
BEGIN:DAYLIGHT
TZOFFSETFROM:-0500
TZOFFSETTO:-0400
TZNAME:EDT
DTSTART:20260308T070000
END:DAYLIGHT
BEGIN:STANDARD
TZOFFSETFROM:-0400
TZOFFSETTO:-0500
TZNAME:EST
DTSTART:20261101T060000
END:STANDARD
BEGIN:DAYLIGHT
TZOFFSETFROM:-0500
TZOFFSETTO:-0400
TZNAME:EDT
DTSTART:20270314T070000
END:DAYLIGHT
BEGIN:STANDARD
TZOFFSETFROM:-0400
TZOFFSETTO:-0500
TZNAME:EST
DTSTART:20271107T060000
END:STANDARD
END:VTIMEZONE
BEGIN:VEVENT
DTSTART;TZID=America/New_York:20260510T093000
DTEND;TZID=America/New_York:20260510T110000
DTSTAMP:20260423T151739
CREATED:20260102T185602Z
LAST-MODIFIED:20260102T185602Z
UID:22476-1778405400-1778410800@www.naturalnurse.com
SUMMARY:[Live ONLINE] 2026 Natural Nurse Herbal Certification - Class 3 – Using Herbs for Yourself and Your Family
DESCRIPTION:REGISTER HERE: https://www.holisticlivingschool.org/product/natural-nurse-using-herbs-for-yourself-and-your-family-class-3-may-10-2026/\n   3 CE Broker Credits are available for Licensed:  Nurses\, Midwives\, Massage Therapists\, Acupuncturists & Nutritionists when this class is taken individually\n  \nThis class covers common herbal “first aids” for colds\, flu\, ear infections\, stomach upsets\, and other mild health issues that can be handled at home and can help cut down on the use of potentially problematic pharmaceutical interventions. \nTuition: $50 \nDate: Sunday\, May 10\, 2026 \nTime: 9:30-11:00 am \nLocation: Live via Zoom online (Here’s how to access your class.) \nLevel: All Levels \n3 CEUs are available to Acupuncturists\, Massage Therapists\, Dietitians\, Nurses\, Respiratory Care & Midwives in the state of Florida through CE Broker for students who successfully complete the course through attendance and submission of assignments. To add CEU credits to your enrollment\, click here. An additional $15 educational credit processing fee will apply. \nAll registrants will receive the course recording and handouts\, with access to materials for one year. \nThis class can be taken a la carte or sign up for the entire 4-part The Natural Nurse Herbal Certification Course – 2026  (18 CEUs are available for the full course). If you’ve already registered for this standalone course and wish to add-on the entire series\, click here. \n\nAll of our classes\, unless otherwise noted\, are available and accessible to everyone – whether you are an experienced herbalist\, a budding herbalist\, or simply herb-curious. Everyone is welcome. \nPlease review this link for our school’s tuition and cancellation policies. \n\nDESCRIPTION\nThis class is one of four included in the full Natural Nurse Herbal Certification Course. Students may register for a single class\, or for the full four-part series. When you buy the entire series\, you save $25 on the total price and have 18 CUEs available. The individual classes are $50 each. Each class has 3 CEUs available\, with the Continuing Education fee required for each one\, and a total of 12 CEUs when purchased individually. Should you decide you want the full series after trying a single class\, that option is available with an add-on fee – click here to add-on the entire series. \nNatural Nurse Herbal Certification Course \nClass 1 – Basics of Herbal Medicine: Sunday\, March 8\, 2026 – 9:30 – 11am \nClass 2 – Botany & Botanical Nomenclature: Sunday\, April 12\, 2026 – 9:30 – 11am \nClass 3 – Using Herbs for Yourself and Your Family: Sunday\, May 10\, 2026 – 9:30 – 11am \nClass 4 – Feeling the Consciousness of Plants: Sunday\, June 14\, 2026 – 9:30 – 11am \nFull Series (All 4 classes) –Natural Nurse Herbal Certification Course 2026 \nAssignments can be emailed to the instructor. Capstone Herbal Preparation Project will need to be ‘snail-mailed’ to the instructor. All attendees who complete the full series and submit all assignments will receive a Certificate of Completion from the Florida School of Holistic Living. \nFlorida School of Holistic Living Certificate available for any attendees who complete the requirements below (Recommended for all interested individuals\, as well as natural health professionals.) \nTo receive CEU’s or a Certificate participants must: \n\nAttend class(es)*\nPurchase course textbook\, The Natural Medicine Chest\, by Ellen Kamhi\, PhD RN and Eugene Zampieron\, ND\nComplete homework assignments\n\nParticipants will receive a certificate indicating the level of course work and hours of study completed. \n  \n 
URL:https://www.naturalnurse.com/event/online-2026-natural-nurse-herbal-certification-class-3-using-herbs-for-yourself-your-family/
LOCATION:Zoom Online by FSHL
CATEGORIES:2026 Events,CEU available,Continuing Education Courses,Holistic Living School,Online Herbal Medicine Course
ATTACH;FMTTYPE=image/jpeg:https://www.naturalnurse.com/wp-content/uploads/2026/01/2026-FSHL-Classes-Square-class3.jpg
ORGANIZER;CN="Florida School of Holistic Living":MAILTO:info@holisticlivingschool.org
END:VEVENT
END:VCALENDAR