BEGIN:VCALENDAR
VERSION:2.0
PRODID:-//The Natural Nurse - ECPv6.15.17.1//NONSGML v1.0//EN
CALSCALE:GREGORIAN
METHOD:PUBLISH
X-WR-CALNAME:The Natural Nurse
X-ORIGINAL-URL:https://www.naturalnurse.com
X-WR-CALDESC:Events for The Natural Nurse
REFRESH-INTERVAL;VALUE=DURATION:PT1H
X-Robots-Tag:noindex
X-PUBLISHED-TTL:PT1H
BEGIN:VTIMEZONE
TZID:America/New_York
BEGIN:DAYLIGHT
TZOFFSETFROM:-0500
TZOFFSETTO:-0400
TZNAME:EDT
DTSTART:20220313T070000
END:DAYLIGHT
BEGIN:STANDARD
TZOFFSETFROM:-0400
TZOFFSETTO:-0500
TZNAME:EST
DTSTART:20221106T060000
END:STANDARD
BEGIN:DAYLIGHT
TZOFFSETFROM:-0500
TZOFFSETTO:-0400
TZNAME:EDT
DTSTART:20230312T070000
END:DAYLIGHT
BEGIN:STANDARD
TZOFFSETFROM:-0400
TZOFFSETTO:-0500
TZNAME:EST
DTSTART:20231105T060000
END:STANDARD
BEGIN:DAYLIGHT
TZOFFSETFROM:-0500
TZOFFSETTO:-0400
TZNAME:EDT
DTSTART:20240310T070000
END:DAYLIGHT
BEGIN:STANDARD
TZOFFSETFROM:-0400
TZOFFSETTO:-0500
TZNAME:EST
DTSTART:20241103T060000
END:STANDARD
END:VTIMEZONE
BEGIN:VEVENT
DTSTART;TZID=America/New_York:20230916T130000
DTEND;TZID=America/New_York:20230916T150000
DTSTAMP:20260425T164626
CREATED:20230304T181529Z
LAST-MODIFIED:20260126T042104Z
UID:16372-1694869200-1694876400@www.naturalnurse.com
SUMMARY:2023 Autumn Wild Edible & Herb Identification Walk at Restoration Farm
DESCRIPTION:To register: https://www.restorationfarm.com/product-page/autumn-herb-identification-walk\nJoin Natural Nurse Ellen Kamhi PhD\, RN\, AHG \, as we walk the gardens and fields of Restoration Farm\, identifying and gathering edible and medicinal herbs that are available in Autumn. Participants may bring a bag or basket for gathering plant samples. \n \n  \nFee: $25\nIf you have any questions\, please call (954) 418-2388\n\n  \n 
URL:https://www.naturalnurse.com/event/2023-autumn-wild-edible-herb-identification-walk-at-restoration-farm/
LOCATION:RESTORATION FARM\, 140 Bethpage-Sweet Hollow Road\, Old Bethpage\, NY\, 11804\, United States
CATEGORIES:2023 Events,Restoration Farm
ATTACH;FMTTYPE=image/jpeg:https://www.naturalnurse.com/wp-content/uploads/2022/09/Herb-Walk-Sep-20-2022-featured-1600x440-1.jpg
ORGANIZER;CN="Restoration Farm":MAILTO:info@restorationfarm.com
END:VEVENT
END:VCALENDAR