BEGIN:VCALENDAR
VERSION:2.0
PRODID:-//The Natural Nurse - ECPv6.15.17.1//NONSGML v1.0//EN
CALSCALE:GREGORIAN
METHOD:PUBLISH
X-WR-CALNAME:The Natural Nurse
X-ORIGINAL-URL:https://www.naturalnurse.com
X-WR-CALDESC:Events for The Natural Nurse
REFRESH-INTERVAL;VALUE=DURATION:PT1H
X-Robots-Tag:noindex
X-PUBLISHED-TTL:PT1H
BEGIN:VTIMEZONE
TZID:America/New_York
BEGIN:DAYLIGHT
TZOFFSETFROM:-0500
TZOFFSETTO:-0400
TZNAME:EDT
DTSTART:20240310T070000
END:DAYLIGHT
BEGIN:STANDARD
TZOFFSETFROM:-0400
TZOFFSETTO:-0500
TZNAME:EST
DTSTART:20241103T060000
END:STANDARD
BEGIN:DAYLIGHT
TZOFFSETFROM:-0500
TZOFFSETTO:-0400
TZNAME:EDT
DTSTART:20250309T070000
END:DAYLIGHT
BEGIN:STANDARD
TZOFFSETFROM:-0400
TZOFFSETTO:-0500
TZNAME:EST
DTSTART:20251102T060000
END:STANDARD
BEGIN:DAYLIGHT
TZOFFSETFROM:-0500
TZOFFSETTO:-0400
TZNAME:EDT
DTSTART:20260308T070000
END:DAYLIGHT
BEGIN:STANDARD
TZOFFSETFROM:-0400
TZOFFSETTO:-0500
TZNAME:EST
DTSTART:20261101T060000
END:STANDARD
END:VTIMEZONE
BEGIN:VEVENT
DTSTART;TZID=America/New_York:20250909T210000
DTEND;TZID=America/New_York:20250917T235900
DTSTAMP:20260424T051211
CREATED:20250905T173743Z
LAST-MODIFIED:20250905T174155Z
UID:21521-1757451600-1758153540@www.naturalnurse.com
SUMMARY:Free eBook - Autoimmune Natural Solutions by The Sacred Science
DESCRIPTION:Register NOW for FREE Docu-series “Proven” by The Sacred Science and get the free e-Book: Natural Solutions for Autoimmune Disease\nHerbs and Natural Therapies have been used by humans since the beginning of time- even Neanderthals used it successfully !!\nNow\, MODERN SCIENCE is proving the safety and efficacy of ancient herbal remedies.\n  \n \nInside this eBook\, you’ll discover: \nInside\, you’ll discover: \n\nWhat Autoimmunity Really Means — demystify your condition and understand why symptoms can feel so unpredictable.\nFoundational Testing — learn how to detect hidden triggers like gut imbalances\, food sensitivities\, mold\, metals\, and chronic infections.\nHeal Your Gut\, Calm Your Immune System — proven strategies to restore gut integrity and balance the immune response from within.\nAnti-Inflammatory Nutrition — how to use food as powerful medicine to reduce flare-ups and rebuild resilience.\nDetox & Drainage — daily practices for clearing toxins and reducing your body’s burden.\nNervous System Regulation — the often-overlooked link between chronic stress\, immune dysregulation\, and lasting recovery.\nSleep\, Circadian Health\, and Nature-Based Healing — restoring your body’s innate healing rhythms for deeper resilience.\nPlus\, Create Your Personal Recovery Protocol — practical checklists\, roadmaps\, and reintroduction charts to help you move forward with clarity and confidence.\n\nPlus simple\, safe ways to use these herbs. This e-book is a great companion to the docuseries PROVEN which will be available to you for free from September 9-17 \nPROVEN offers information that will catapult the use of natural medicine to the forefront… it is SAFER and  more COST EFFECTIVE than Pharmaceuticals in most cases\, and should be Standard of Practice. Become an educated health consumer!\n \nSign up for the FREE DOCU-Series  PROVEN and receive your free e-book\n\n 
URL:https://www.naturalnurse.com/event/free-ebook-autoimmune-natural-solutions-by-the-sacred-science/
LOCATION:Your Own Viewing Device
CATEGORIES:2025 Events,Free Webinar,Summit and Conference
ATTACH;FMTTYPE=image/jpeg:https://www.naturalnurse.com/wp-content/uploads/2025/09/Proven-ebook3.jpg
END:VEVENT
END:VCALENDAR