BEGIN:VCALENDAR
VERSION:2.0
PRODID:-//The Natural Nurse - ECPv6.15.17.1//NONSGML v1.0//EN
CALSCALE:GREGORIAN
METHOD:PUBLISH
X-ORIGINAL-URL:https://www.naturalnurse.com
X-WR-CALDESC:Events for The Natural Nurse
REFRESH-INTERVAL;VALUE=DURATION:PT1H
X-Robots-Tag:noindex
X-PUBLISHED-TTL:PT1H
BEGIN:VTIMEZONE
TZID:America/New_York
BEGIN:DAYLIGHT
TZOFFSETFROM:-0500
TZOFFSETTO:-0400
TZNAME:EDT
DTSTART:20220313T070000
END:DAYLIGHT
BEGIN:STANDARD
TZOFFSETFROM:-0400
TZOFFSETTO:-0500
TZNAME:EST
DTSTART:20221106T060000
END:STANDARD
BEGIN:DAYLIGHT
TZOFFSETFROM:-0500
TZOFFSETTO:-0400
TZNAME:EDT
DTSTART:20230312T070000
END:DAYLIGHT
BEGIN:STANDARD
TZOFFSETFROM:-0400
TZOFFSETTO:-0500
TZNAME:EST
DTSTART:20231105T060000
END:STANDARD
BEGIN:DAYLIGHT
TZOFFSETFROM:-0500
TZOFFSETTO:-0400
TZNAME:EDT
DTSTART:20240310T070000
END:DAYLIGHT
BEGIN:STANDARD
TZOFFSETFROM:-0400
TZOFFSETTO:-0500
TZNAME:EST
DTSTART:20241103T060000
END:STANDARD
END:VTIMEZONE
BEGIN:VEVENT
DTSTART;TZID=America/New_York:20230919T200000
DTEND;TZID=America/New_York:20230919T210000
DTSTAMP:20260425T201322
CREATED:20230525T032440Z
LAST-MODIFIED:20240226T033444Z
UID:16968-1695153600-1695157200@www.naturalnurse.com
SUMMARY:Herbs for Eye Health and Electromagnetic Field Deflection
DESCRIPTION:Register: https://us02web.zoom.us/webinar/register/WN_VDGjcuAkTKCTwymUi7vawg \nOur Eyes have been called “the Windows to our Soul”!  Eye health is supported by antioxidants to protect against oxidative damage that occurs through many factors\, including aging\, limited consumption of protective nutrients\, and the constant onslaught of pollutants\, as well as modern day stress caused by blue light emissions from computers\, cell phones and other devices. \nWe can help to promote healthy vision and support normal eye function with eye exercise and Rainbow Nutrients\, and by including naturally occurring antioxidants in our daily regimen. \nThese include Anthocyanins from Bilberry\, Proanthocyanidins from Grape seed\, and Carotenoids like Lutein from Marigold along with Astaxanthin. \nWe Will Also Explore ‘Inner Vision and the Third Eye” \nHerbs Discussed Include: \n\nMarigold\nBilberry\nBlueberry\nAstaxanthin\nEyebright\nRosemary\n\nBio: Ellen Kamhi\, PhD\, RN\, RH (AHG)\, AHN-BC has been a member of the American Herbalist Guild since its inception and sits on the Board of Directors. She enjoyed a successful Herbal Consultation Practice for over 50 years. As a mentor\, Ellen is happy to support herbalists through the process of becoming RH (AHG).  Dr. Kamhi specializes in REGULATORY issues for both well established and new herbal manufacturers\, and assists with formulation and education. She is nationally board certified as a holistic nurse (AHN-BC)\, and has authored many books. Her Radio Shows\, including Herbally Yours\, have aired continually since 1990 and are now also available as podcasts. She offers CE approved classes\, including The Natural Nurse® Herbal Certification Course. Ellen teaches in conventional educational settings and mainstream universities. She has studied with master traditional healers from a variety of cultures. “It has been my honor to have shared time and knowledge with indigenous and master herbalists\, such as JAMBA of the MAROONS in Jamaica\, Dr. Anthony Kweku Andoh from Ghana\, Michael Moore and Mimi Kemp in Bisbee Arizona\, and a vast array of wonderful herbalists.” Her passions include sharing her decades of in-depth herbal knowledge with individuals that will carry natural healing arts forward into the next millennium. \n\n\n\n\n\nRegister for this webinar »
URL:https://www.naturalnurse.com/event/herbs-for-eye-health-and-electromagnetic-field-deflection/
LOCATION:Zoom Online by AHG
CATEGORIES:2023 Events,Free Webinar
ATTACH;FMTTYPE=image/jpeg:https://www.naturalnurse.com/wp-content/uploads/2023/05/AHG-healthy-eyes-1079.jpg
ORGANIZER;CN="American Herbalists Guild":MAILTO:office@americanherbalistsguild.com
END:VEVENT
END:VCALENDAR