BEGIN:VCALENDAR
VERSION:2.0
PRODID:-//The Natural Nurse - ECPv6.15.17.1//NONSGML v1.0//EN
CALSCALE:GREGORIAN
METHOD:PUBLISH
X-WR-CALNAME:The Natural Nurse
X-ORIGINAL-URL:https://www.naturalnurse.com
X-WR-CALDESC:Events for The Natural Nurse
REFRESH-INTERVAL;VALUE=DURATION:PT1H
X-Robots-Tag:noindex
X-PUBLISHED-TTL:PT1H
BEGIN:VTIMEZONE
TZID:America/New_York
BEGIN:DAYLIGHT
TZOFFSETFROM:-0500
TZOFFSETTO:-0400
TZNAME:EDT
DTSTART:20250309T070000
END:DAYLIGHT
BEGIN:STANDARD
TZOFFSETFROM:-0400
TZOFFSETTO:-0500
TZNAME:EST
DTSTART:20251102T060000
END:STANDARD
BEGIN:DAYLIGHT
TZOFFSETFROM:-0500
TZOFFSETTO:-0400
TZNAME:EDT
DTSTART:20260308T070000
END:DAYLIGHT
BEGIN:STANDARD
TZOFFSETFROM:-0400
TZOFFSETTO:-0500
TZNAME:EST
DTSTART:20261101T060000
END:STANDARD
BEGIN:DAYLIGHT
TZOFFSETFROM:-0500
TZOFFSETTO:-0400
TZNAME:EDT
DTSTART:20270314T070000
END:DAYLIGHT
BEGIN:STANDARD
TZOFFSETFROM:-0400
TZOFFSETTO:-0500
TZNAME:EST
DTSTART:20271107T060000
END:STANDARD
END:VTIMEZONE
BEGIN:VEVENT
DTSTART;TZID=America/New_York:20260127T183000
DTEND;TZID=America/New_York:20260127T200000
DTSTAMP:20260423T214903
CREATED:20251103T220720Z
LAST-MODIFIED:20260131T210007Z
UID:21853-1769538600-1769544000@www.naturalnurse.com
SUMMARY:[2026-Session 1] 6 Natural Remedies Classes at Century Village
DESCRIPTION:(Century Village Residents Only) \nNATURAL REMEDIES – Safe and Effective Use!\nEllen Kamhi PhD\, RN\, AHG_RH\, AHN-BC\, The Natural Nurse®\, has been involved in natural health care since 1964. She is a medical school instructor\, teaches botanical pharmacology\, is a professional member of the American Herbalist Guild\, and is Board Certified as a Holistic Nurse. Dr Kamhi has authored many books\, including THE NATURAL MEDICINE CHEST. She writes the monthly article “Health Matters” in the Century Village Reporter. \nTopics  Include:\n\n\n\n\n\nTopics  Include: \n\n  Bring YOUR Supplements so we can read the actual ingredients to determine efficacy\n\n\n  Bring YOUR Bloodwork so you can read it efficiently\n\n\n\n\n\n\n\n\n Herbs for Health and Energy\n Wild Plants that Grow in Century Village that can be used for Food and Medicine\n Homeopathics – are they real and do they help?\n Supplements and Vitamins- better off with them or without them?\n Organic\, Natural\, Gluten Free- what does it all mean?\n\n\n  \nCome with your QUESTIONS! \nTues Jan 6\, 2026\n6:30-8:00 pm \nNatural Remedies Class 1\nCentury Village\, Deerfield Beach Florida\nRegister: wpascal@cveevents.com\, 954-428-6892 Ext 4 \n\n Tues Jan 13\, 2026\n6:30-8:00 pm \nNatural Remedies Class 2\nCentury Village\, Deerfield Beach Florida\nRegister: wpascal@cveevents.com\, 954-428-6892 Ext 4 \n\nTues Jan 20\, 2026\n6:30-8:00 pm \nNatural Remedies Class 3\nCentury Village\, Deerfield Beach\, Florida\nRegister: wpascal@cveevents.com\, 954-428-6892 Ext 4 \n\nTues Jan 27\, 2026\n6:30-8:00 pm \nNatural Remedies Class 4\nCentury Village\, Deerfield Beach\, Florida\nRegister: wpascal@cveevents.com\, 954-428-6892 Ext 4 \n\nTues Feb 3\, 2026\n6:30-8:00 pm \nNatural Remedies Class 5\nCentury Village\, Deerfield Beach\, Florida\nRegister: wpascal@cveevents.com\, 954-428-6892 Ext 4 \n\nTues Feb 10\, 2026\n6:30-8:00 pm \nNatural Remedies Class 6\nCentury Village\, Deerfield Beach\, Florida\nRegister: wpascal@cveevents.com\, 954-428-6892 Ext 4 \n  \nImage credit:\nImage by Sasin Tipchai from Pixabay
URL:https://www.naturalnurse.com/event/2026-1-natural-remedies-classes-century-village-6/
LOCATION:Century Village Deerfield Beach\, GPG Room\, FL\, United States
CATEGORIES:2026 Events,Lectures
ATTACH;FMTTYPE=image/jpeg:https://www.naturalnurse.com/wp-content/uploads/2024/12/century-village_2025-session1-1600x440-1.jpg
ORGANIZER;CN="Century Village Deerfield Beach":MAILTO:Goodfishdr@aol.com
END:VEVENT
END:VCALENDAR