BEGIN:VCALENDAR
VERSION:2.0
PRODID:-//The Natural Nurse - ECPv6.15.17.1//NONSGML v1.0//EN
CALSCALE:GREGORIAN
METHOD:PUBLISH
X-WR-CALNAME:The Natural Nurse
X-ORIGINAL-URL:https://www.naturalnurse.com
X-WR-CALDESC:Events for The Natural Nurse
REFRESH-INTERVAL;VALUE=DURATION:PT1H
X-Robots-Tag:noindex
X-PUBLISHED-TTL:PT1H
BEGIN:VTIMEZONE
TZID:America/New_York
BEGIN:DAYLIGHT
TZOFFSETFROM:-0500
TZOFFSETTO:-0400
TZNAME:EDT
DTSTART:20240310T070000
END:DAYLIGHT
BEGIN:STANDARD
TZOFFSETFROM:-0400
TZOFFSETTO:-0500
TZNAME:EST
DTSTART:20241103T060000
END:STANDARD
BEGIN:DAYLIGHT
TZOFFSETFROM:-0500
TZOFFSETTO:-0400
TZNAME:EDT
DTSTART:20250309T070000
END:DAYLIGHT
BEGIN:STANDARD
TZOFFSETFROM:-0400
TZOFFSETTO:-0500
TZNAME:EST
DTSTART:20251102T060000
END:STANDARD
BEGIN:DAYLIGHT
TZOFFSETFROM:-0500
TZOFFSETTO:-0400
TZNAME:EDT
DTSTART:20260308T070000
END:DAYLIGHT
BEGIN:STANDARD
TZOFFSETFROM:-0400
TZOFFSETTO:-0500
TZNAME:EST
DTSTART:20261101T060000
END:STANDARD
END:VTIMEZONE
BEGIN:VEVENT
DTSTART;TZID=America/New_York:20251116T093000
DTEND;TZID=America/New_York:20251116T110000
DTSTAMP:20260423T235917
CREATED:20251003T195717Z
LAST-MODIFIED:20251003T195717Z
UID:21673-1763285400-1763290800@www.naturalnurse.com
SUMMARY:[ONLINE] The Happy Healthy Brain 2025
DESCRIPTION:3 CE Broker Credits are available for Licensed:  Nurses\, Midwives\, Massage Therapists\, Acupuncturists & Nutritionists\nRegister here: https://www.holisticlivingschool.org/product/the-happy-healthy-brain-with-ellen-kamhi-november-16-2025/ \n\n\nModern life offers a multitude of factors that can challenge brain health.\nThese include ongoing stress\, aging\, environmental toxicity\, a sedentary lifestyle and poor sleep habits and food choices.\nBy understanding the complex interconnected biochemical relationships between lifestyle\, foods\, nutrients and herbal constituents\, we can make better choices to support healthy memory\, mood\, and cognitive processes as we move through life.\nIn this session\, we will investigate:\n• Endogenous opiates (endorphins)\n• Neurotransmitters released during exercise\, eating\, sex\, excitement and pain\n• Nutritional Factors and Food Sources – Folic Acid\, N-acetylcysteine\, Amino acids\, Magnesium\, Omega 3 Fatty Acids\n• The link between cortisol and appetite\n• Relationship between Sugar and the Brain\n• Amino acids from foods and supplements\n• Herbs- Bacopa\, Ginkgo\, Saffron\, Rosemary \n\n\n\nTuition: Early Bird tuition $25 until Nov 2\, Regular Tuition is $35; for CEU credits add $15
URL:https://www.naturalnurse.com/event/online-the-happy-healthy-brain-2025/
LOCATION:ONLINE
CATEGORIES:2025 Events,Holistic Living School,Online Herbal Medicine Course
ATTACH;FMTTYPE=image/jpeg:https://www.naturalnurse.com/wp-content/uploads/2025/10/Natural-Nurse-Happy-Healthy-Brain-2025-1600x440-1.jpg
ORGANIZER;CN="Florida School of Holistic Living":MAILTO:info@holisticlivingschool.org
END:VEVENT
END:VCALENDAR