BEGIN:VCALENDAR
VERSION:2.0
PRODID:-//The Natural Nurse - ECPv6.15.17.1//NONSGML v1.0//EN
CALSCALE:GREGORIAN
METHOD:PUBLISH
X-ORIGINAL-URL:https://www.naturalnurse.com
X-WR-CALDESC:Events for The Natural Nurse
REFRESH-INTERVAL;VALUE=DURATION:PT1H
X-Robots-Tag:noindex
X-PUBLISHED-TTL:PT1H
BEGIN:VTIMEZONE
TZID:America/New_York
BEGIN:DAYLIGHT
TZOFFSETFROM:-0500
TZOFFSETTO:-0400
TZNAME:EDT
DTSTART:20150308T070000
END:DAYLIGHT
BEGIN:STANDARD
TZOFFSETFROM:-0400
TZOFFSETTO:-0500
TZNAME:EST
DTSTART:20151101T060000
END:STANDARD
BEGIN:DAYLIGHT
TZOFFSETFROM:-0500
TZOFFSETTO:-0400
TZNAME:EDT
DTSTART:20160313T070000
END:DAYLIGHT
BEGIN:STANDARD
TZOFFSETFROM:-0400
TZOFFSETTO:-0500
TZNAME:EST
DTSTART:20161106T060000
END:STANDARD
BEGIN:DAYLIGHT
TZOFFSETFROM:-0500
TZOFFSETTO:-0400
TZNAME:EDT
DTSTART:20170312T070000
END:DAYLIGHT
BEGIN:STANDARD
TZOFFSETFROM:-0400
TZOFFSETTO:-0500
TZNAME:EST
DTSTART:20171105T060000
END:STANDARD
BEGIN:DAYLIGHT
TZOFFSETFROM:-0500
TZOFFSETTO:-0400
TZNAME:EDT
DTSTART:20180311T070000
END:DAYLIGHT
BEGIN:STANDARD
TZOFFSETFROM:-0400
TZOFFSETTO:-0500
TZNAME:EST
DTSTART:20181104T060000
END:STANDARD
BEGIN:DAYLIGHT
TZOFFSETFROM:-0500
TZOFFSETTO:-0400
TZNAME:EDT
DTSTART:20190310T070000
END:DAYLIGHT
BEGIN:STANDARD
TZOFFSETFROM:-0400
TZOFFSETTO:-0500
TZNAME:EST
DTSTART:20191103T060000
END:STANDARD
BEGIN:DAYLIGHT
TZOFFSETFROM:-0500
TZOFFSETTO:-0400
TZNAME:EDT
DTSTART:20200308T070000
END:DAYLIGHT
BEGIN:STANDARD
TZOFFSETFROM:-0400
TZOFFSETTO:-0500
TZNAME:EST
DTSTART:20201101T060000
END:STANDARD
END:VTIMEZONE
BEGIN:VEVENT
DTSTART;TZID=America/New_York:20190613T183000
DTEND;TZID=America/New_York:20190613T200000
DTSTAMP:20260423T202919
CREATED:20190526T040702Z
LAST-MODIFIED:20190526T040702Z
UID:7066-1560450600-1560456000@www.naturalnurse.com
SUMMARY:[June 2019]American Herbalist Guild (AHG) Long Island Chapter Meeting
DESCRIPTION:Free and Open to All\n\nHerbs Of Summer plus Identification Plant Walk (weather permitting)\n \nFor more information\, call 800-829-0918 or email longisland.ahg@gmail.com
URL:https://www.naturalnurse.com/event/june-2019american-herbalist-guild-ahg-long-island-chapter-meeting/
LOCATION:Oyster Bay- East Norwich Library\, 89 E Main St\, Oyster Bay\, NY\, 11771\, United States
CATEGORIES:2019 events,Herb Walk,Lectures
ATTACH;FMTTYPE=image/png:https://www.naturalnurse.com/wp-content/uploads/2019/05/LargerLogo.png
ORGANIZER;CN="Angus J. Towse MSOM%2C BS(Hort)%2C LAc%2C LMT":MAILTO:LongIsland.AHG@gmail.com
END:VEVENT
BEGIN:VEVENT
DTSTART;TZID=America/New_York:20190528T180000
DTEND;TZID=America/New_York:20190528T193000
DTSTAMP:20260423T202919
CREATED:20190517T051119Z
LAST-MODIFIED:20190528T063723Z
UID:6955-1559066400-1559071800@www.naturalnurse.com
SUMMARY:[May 2019] Plant Walk / Herbal Field Botany - AHG LI Chapter Meeting
DESCRIPTION:Please join us on Tuesday May 28\, 2019 at 6:00pm for Nice Evening – Herb Walk / Herbal Field Botany with Angus Towse MSOM\, BS(Hort)\, LAc\, LMT \nFREE AND OPEN TO THE PUBLIC
URL:https://www.naturalnurse.com/event/may-2019-plant-walk-herbal-field-botany-ahg-li-chapter-meeting/
LOCATION:Sea Cliff Central Park\, Central Ave & 14th Ave\, Sea Cliff\, NY\, 11579\, United States
CATEGORIES:2019 events,Herb Walk,Lectures
ATTACH;FMTTYPE=image/png:https://www.naturalnurse.com/wp-content/uploads/2019/05/LargerLogo.png
ORGANIZER;CN="Angus J. Towse MSOM%2C BS(Hort)%2C LAc%2C LMT":MAILTO:LongIsland.AHG@gmail.com
END:VEVENT
BEGIN:VEVENT
DTSTART;VALUE=DATE:20190309
DTEND;VALUE=DATE:20190315
DTSTAMP:20260423T202919
CREATED:20180928T180048Z
LAST-MODIFIED:20180928T180048Z
UID:5992-1552089600-1552607999@www.naturalnurse.com
SUMMARY:Trip to Jamaica with EcoTours for Cures® 2019
DESCRIPTION:Travel with Dr. Eugene R. Zampieron (Dr. Z)\, Ellen Kamhi\, Ph.D.\, RN The Natural Nurse and a host of esteemed botanical experts/teachers to the island of \nJamaica\,WI on EcoTours for Cures® The Education Vacation!\nWhen: Spring Break 2019\nDates: Saturday\, March 9th – Thursday\, March 14th \nHike deep into tropical Rainforests…\nSwim in majestic waterfalls\,\n(still unknown to the Tourist traps)\nDiscover a part of Jamaica\, UNTOUCHED by tourism\nFunshops on Caribbean EthnoBotany &\nMedicinal Herbs\, Roots and Natural (ITAL) Foods\nTravel with Jamaican Bush doctors &\nmelt into the pulse of their natural lifestyle & Culture\nMoonlit Fire Ceremonies\nNight beach cookouts\nEscape the cold\, nasty winter \n…on the Caribbean sea \nTo view photos of past trips and more information about the tour\, visit Our Online Brochure \nFor terms and conditions of booking\, visit here \nPhone: 800-829-0918\nEmail: naturalalt@juno.com
URL:https://www.naturalnurse.com/event/trip-to-jamaica-with-ecotours-for-cures-2019/
LOCATION:NY
CATEGORIES:2019 events,Jamaica West Indies
ATTACH;FMTTYPE=image/jpeg:https://www.naturalnurse.com/wp-content/uploads/2015/12/ecotour-herbal-workshop-jamaica-6.jpg
ORGANIZER;CN="Natural Alternatives":MAILTO:drznaturally@gmail.com
END:VEVENT
BEGIN:VEVENT
DTSTART;TZID=America/New_York:20180520T110000
DTEND;TZID=America/New_York:20180520T160000
DTSTAMP:20260423T202919
CREATED:20170220T170458Z
LAST-MODIFIED:20180404T051141Z
UID:2232-1526814000-1526832000@www.naturalnurse.com
SUMMARY:Spring Season Chinatown Herb Walk Tour in NYC
DESCRIPTION:Have you always wanted to explore Chinatown but were unsure where to go and which herbal vendors are reputable? With Dr. Z and the Natural Nurse® as your tour guides\, you will explore Chinatown from a whole new perspective. They have been leading people through Chinatown twice a year for over 20 years. With their expertise in natural herbal medicine\, you’ll experience an authentic cultural excursion like going to another country on a budget for a day and learn about various Chinese herbal remedies. \n \nFor more information\, please visit the online brochure here. \nRegister NOW – This tour sells out quickly!\nCost: $45.00 ( student fee: $30.00)\nTo register\, mail check to:\nNatural Alternatives\nPO BOX 525\, Oyster Bay\, NY 11771\nspecific directions will be provided after registration
URL:https://www.naturalnurse.com/event/spring-chinatown-herb-walk-tour-nyc/
LOCATION:Chinatown NYC\, Manhattan\, NY\, 10013\, United States
CATEGORIES:2018 events,China Town
ATTACH;FMTTYPE=image/jpeg:https://www.naturalnurse.com/wp-content/uploads/2016/02/Dr-Z-and-The-Natural-Nurse-China-Town-Eco-Tour-e1461264612711.jpg
ORGANIZER;CN="Natural Alternatives":MAILTO:drznaturally@gmail.com
END:VEVENT
BEGIN:VEVENT
DTSTART;VALUE=DATE:20180310
DTEND;VALUE=DATE:20180316
DTSTAMP:20260423T202919
CREATED:20160723T212720Z
LAST-MODIFIED:20251230T194821Z
UID:2856-1520640000-1521158399@www.naturalnurse.com
SUMMARY:SOLD OUT!!! Trip to Jamaica with EcoTours for Cures® 2018
DESCRIPTION:Travel with Dr. Eugene R. Zampieron (Dr. Z)\, Ellen Kamhi\, Ph.D.\, RN The Natural Nurse and a host of esteemed botanical experts/teachers to the island of \nJamaica\,WI on EcoTours for Cures®  The Education Vacation!\nWhen: Spring Break 2018\nDates: Saturday\, March 10th – Thursday\, March 15th \nHike deep into tropical Rainforests…\nSwim in majestic waterfalls\,\n(still unknown to the Tourist traps)\nDiscover a part of Jamaica\, UNTOUCHED by tourism\nFunshops on Caribbean EthnoBotany &\nMedicinal Herbs\, Roots and Natural (ITAL) Foods\nTravel with Jamaican Bush doctors &\nmelt into the pulse of their natural lifestyle & Culture\nMoonlit Fire Ceremonies\nNight beach cookouts\nEscape the cold\, nasty winter \n…on the Caribbean sea \nTo view photos of past trips and more information about the tour\, visit Our Online Brochure \nFor terms and conditions of booking\, visit here \nPhone: 800-829-0918\nEmail: naturalalt@juno.com
URL:https://www.naturalnurse.com/event/trip-jamaica-ecotours-for-cures-2018/
LOCATION:NY
CATEGORIES:2018 events,Jamaica West Indies,Tour
ATTACH;FMTTYPE=image/jpeg:https://www.naturalnurse.com/wp-content/uploads/2015/12/IMG_0372.jpg
ORGANIZER;CN="Natural Alternatives":MAILTO:drznaturally@gmail.com
END:VEVENT
BEGIN:VEVENT
DTSTART;VALUE=DATE:20160312
DTEND;VALUE=DATE:20160318
DTSTAMP:20260423T202919
CREATED:20151104T041549Z
LAST-MODIFIED:20171216T210746Z
UID:570-1457740800-1458259199@www.naturalnurse.com
SUMMARY:Trip to Jamaica with EcoTours for Cures®
DESCRIPTION:Travel with Dr. Eugene R. Zampieron (Dr. Z)\, Ellen Kamhi\, Ph.D.\, RN The Natural Nurse and a host of esteemed botanical experts/teachers to the island of \nJamaica\,WI on EcoTours for Cures®  The Education Vacation!\nWhen: Spring Break 2016\nDates: Saturday\, March 12th – Thursday\, March 17th \nHike deep into tropical Rainforests…\nSwim in majestic waterfalls\,\n(still unknown to the Tourist traps)\nDiscover a part of Jamaica\, UNTOUCHED by tourism\nFunshops on Caribbean EthnoBotany &\nMedicinal Herbs\, Roots and Natural (ITAL) Foods\nTravel with Jamaican Bush doctors &\nmelt into the pulse of their natural lifestyle & Culture\nMoonlit Fire Ceremonies\nNight beach cookouts\nEscape the cold\, nasty winter \n…on the Caribbean sea \n  \nPRICE: $1500.00 (includes Accommodations\, 2 Delicious Meals per day\,\nGround Transportation\nDoes not Include Airfare\n(we will work on getting a group rate) \nTo view photos of past trips and more information about the tour\, visit Our Online Brochure \nPhone: 800-829-0918\nEmail: naturalalt@juno.com
URL:https://www.naturalnurse.com/event/trip-to-jamaica-with-ecotours-for-cures/
LOCATION:NY
CATEGORIES:2016 events,Jamaica West Indies,Tour
ATTACH;FMTTYPE=image/jpeg:https://www.naturalnurse.com/wp-content/uploads/2015/11/Jamaica-Herb-Class2.jpg
ORGANIZER;CN="Natural Alternatives":MAILTO:drznaturally@gmail.com
END:VEVENT
END:VCALENDAR