BEGIN:VCALENDAR
VERSION:2.0
PRODID:-//The Natural Nurse - ECPv6.15.17.1//NONSGML v1.0//EN
CALSCALE:GREGORIAN
METHOD:PUBLISH
X-ORIGINAL-URL:https://www.naturalnurse.com
X-WR-CALDESC:Events for The Natural Nurse
REFRESH-INTERVAL;VALUE=DURATION:PT1H
X-Robots-Tag:noindex
X-PUBLISHED-TTL:PT1H
BEGIN:VTIMEZONE
TZID:America/New_York
BEGIN:DAYLIGHT
TZOFFSETFROM:-0500
TZOFFSETTO:-0400
TZNAME:EDT
DTSTART:20250309T070000
END:DAYLIGHT
BEGIN:STANDARD
TZOFFSETFROM:-0400
TZOFFSETTO:-0500
TZNAME:EST
DTSTART:20251102T060000
END:STANDARD
BEGIN:DAYLIGHT
TZOFFSETFROM:-0500
TZOFFSETTO:-0400
TZNAME:EDT
DTSTART:20260308T070000
END:DAYLIGHT
BEGIN:STANDARD
TZOFFSETFROM:-0400
TZOFFSETTO:-0500
TZNAME:EST
DTSTART:20261101T060000
END:STANDARD
BEGIN:DAYLIGHT
TZOFFSETFROM:-0500
TZOFFSETTO:-0400
TZNAME:EDT
DTSTART:20270314T070000
END:DAYLIGHT
BEGIN:STANDARD
TZOFFSETFROM:-0400
TZOFFSETTO:-0500
TZNAME:EST
DTSTART:20271107T060000
END:STANDARD
END:VTIMEZONE
BEGIN:VEVENT
DTSTART;TZID=America/New_York:20260620T130000
DTEND;TZID=America/New_York:20260620T150000
DTSTAMP:20260423T160429
CREATED:20260131T175838Z
LAST-MODIFIED:20260309T192436Z
UID:22948-1781960400-1781967600@www.naturalnurse.com
SUMMARY:Consciousness of Plants & Wild Herb Identification at Red Fox Farm
DESCRIPTION:To register:\nhttps://www.eventbrite.com/e/natural-nurse-ellen-kamhi-nature-walk-tickets-1983691911908\nJoin Natural Nurse Ellen Kamhi PhD\, RN\, RH(AHG)\, AHN-BC \, as she discusses the Consciousness of Plants and leads a walk in Red Fox forest garden. She identifies and shares her extensive knowledge about wild edibles and healing properties of the many wild herbs found at the Red Fox Farm. \n \n  \nHere are some herbs that we may see and many more to explore: \nRed Clover\, Garlic Mustard\, Yarrow\, Mugwort\n  \nFee: $30 cash (Note: $33.85 by credit card via Eventbrite)\nIf you have any questions\, please call ‪(954) 418-2388\n\nImage credit: \nRed Clover Image by Couleur from Pixabay\nGarlic Mustard Image by Agata Sochalska from Pixabay\nYarrow Image by Jürgen from Pixabay\nMugwort Image by Wild Food UK
URL:https://www.naturalnurse.com/event/consciousness-of-plants-wild-herb-identification-at-red-fox-farm/
LOCATION:Red Fox Farm\, 104a Second Ave\, Brentwood\, New York\, 11717\, United States
CATEGORIES:2026 Events,Herb Walk
ATTACH;FMTTYPE=image/jpeg:https://www.naturalnurse.com/wp-content/uploads/2026/01/Red-Fox-Walk-1600xx440.jpeg
END:VEVENT
BEGIN:VEVENT
DTSTART;TZID=America/New_York:20260708T173000
DTEND;TZID=America/New_York:20260708T193000
DTSTAMP:20260423T160429
CREATED:20260322T005816Z
LAST-MODIFIED:20260322T005816Z
UID:23412-1783531800-1783539000@www.naturalnurse.com
SUMMARY:Slow Food North Shore: Beach Herb Walk in Oyster Bay Memorial Beach\, NY
DESCRIPTION:Summer Beach Herb Walk Followed by Pot Luck Dinner\nSlow Food North Shore is organizing their second event of 2026 with a Medicinal Herb Beach Walk at the Theodore Roosevelt Memorial Beach Park in Oyster Bay\, NY. The event will be from 5:30-7:30pm on Wednesday\, July 8\, 2026.  \nWe have invited Ellen Kamhi\, The Natural Nurse\, to join us and share with us her knowledge of local wild herbs right in our own community. Ellen Kamhi Ph.D.\, RN\, AHN-BC\, RH(AHG)\, The Natural Nurse® has been involved in Natural Medicine since 1973\, when she directed a program in Ethnobotany at Cochise College in Douglas\, Arizona. Dr. Kamhi attended Rutgers and Cornell Universities. She sat on the Panel of Traditional Medicine at Columbia Presbyterian Medical School and is a Medical School Instructor\, teaching Botanical Pharmacology. She was nominated for the March of Dimes\, Woman of Distinction 2004 and received the J.G Gallimore award for research in science. \nPlease come and join us for this beautiful and informative walk. \n\nFollowed by a Slow Food Pot Luck Dinner \n\n\nPlease bring a dish to share. \n\n\nWe will walk over to the gazebo and picnic tables following the walk and share a convivial meal! \n\nFor more info and to register\, email info@slowfoodnorthshore.org \nDate: Wednesday\, July 8\, 2026 5:30-7:30PM\n \nFor more information or in case you are lost on the way to the location\, please call 631-903-2781
URL:https://www.naturalnurse.com/event/slow-food-north-shore-beach-herb-walk-oyster-bay-memorial-beach/
LOCATION:Water Front Center\, 1 West End Ave\, Oyster Bay\, 11771\, United States
CATEGORIES:2026 Events,Herb Walk
ATTACH;FMTTYPE=image/jpeg:https://www.naturalnurse.com/wp-content/uploads/2020/07/theodore-roosevelt-beach-photo-by-kathyw-longislandleisure.jpg
ORGANIZER;CN="Slow Food Northshore":MAILTO:info@slowfoodnorthshore.org
END:VEVENT
END:VCALENDAR