BEGIN:VCALENDAR
VERSION:2.0
PRODID:-//The Natural Nurse - ECPv6.15.17.1//NONSGML v1.0//EN
CALSCALE:GREGORIAN
METHOD:PUBLISH
X-WR-CALNAME:The Natural Nurse
X-ORIGINAL-URL:https://www.naturalnurse.com
X-WR-CALDESC:Events for The Natural Nurse
REFRESH-INTERVAL;VALUE=DURATION:PT1H
X-Robots-Tag:noindex
X-PUBLISHED-TTL:PT1H
BEGIN:VTIMEZONE
TZID:America/New_York
BEGIN:DAYLIGHT
TZOFFSETFROM:-0500
TZOFFSETTO:-0400
TZNAME:EDT
DTSTART:20180311T070000
END:DAYLIGHT
BEGIN:STANDARD
TZOFFSETFROM:-0400
TZOFFSETTO:-0500
TZNAME:EST
DTSTART:20181104T060000
END:STANDARD
BEGIN:DAYLIGHT
TZOFFSETFROM:-0500
TZOFFSETTO:-0400
TZNAME:EDT
DTSTART:20190310T070000
END:DAYLIGHT
BEGIN:STANDARD
TZOFFSETFROM:-0400
TZOFFSETTO:-0500
TZNAME:EST
DTSTART:20191103T060000
END:STANDARD
BEGIN:DAYLIGHT
TZOFFSETFROM:-0500
TZOFFSETTO:-0400
TZNAME:EDT
DTSTART:20200308T070000
END:DAYLIGHT
BEGIN:STANDARD
TZOFFSETFROM:-0400
TZOFFSETTO:-0500
TZNAME:EST
DTSTART:20201101T060000
END:STANDARD
BEGIN:DAYLIGHT
TZOFFSETFROM:-0500
TZOFFSETTO:-0400
TZNAME:EDT
DTSTART:20210314T070000
END:DAYLIGHT
BEGIN:STANDARD
TZOFFSETFROM:-0400
TZOFFSETTO:-0500
TZNAME:EST
DTSTART:20211107T060000
END:STANDARD
BEGIN:DAYLIGHT
TZOFFSETFROM:-0500
TZOFFSETTO:-0400
TZNAME:EDT
DTSTART:20220313T070000
END:DAYLIGHT
BEGIN:STANDARD
TZOFFSETFROM:-0400
TZOFFSETTO:-0500
TZNAME:EST
DTSTART:20221106T060000
END:STANDARD
BEGIN:DAYLIGHT
TZOFFSETFROM:-0500
TZOFFSETTO:-0400
TZNAME:EDT
DTSTART:20230312T070000
END:DAYLIGHT
BEGIN:STANDARD
TZOFFSETFROM:-0400
TZOFFSETTO:-0500
TZNAME:EST
DTSTART:20231105T060000
END:STANDARD
BEGIN:DAYLIGHT
TZOFFSETFROM:-0500
TZOFFSETTO:-0400
TZNAME:EDT
DTSTART:20240310T070000
END:DAYLIGHT
BEGIN:STANDARD
TZOFFSETFROM:-0400
TZOFFSETTO:-0500
TZNAME:EST
DTSTART:20241103T060000
END:STANDARD
BEGIN:DAYLIGHT
TZOFFSETFROM:-0500
TZOFFSETTO:-0400
TZNAME:EDT
DTSTART:20250309T070000
END:DAYLIGHT
BEGIN:STANDARD
TZOFFSETFROM:-0400
TZOFFSETTO:-0500
TZNAME:EST
DTSTART:20251102T060000
END:STANDARD
BEGIN:DAYLIGHT
TZOFFSETFROM:-0500
TZOFFSETTO:-0400
TZNAME:EDT
DTSTART:20260308T070000
END:DAYLIGHT
BEGIN:STANDARD
TZOFFSETFROM:-0400
TZOFFSETTO:-0500
TZNAME:EST
DTSTART:20261101T060000
END:STANDARD
END:VTIMEZONE
BEGIN:VEVENT
DTSTART;TZID=America/New_York:20250804T173000
DTEND;TZID=America/New_York:20250804T190000
DTSTAMP:20260423T125830
CREATED:20250711T055915Z
LAST-MODIFIED:20260120T053343Z
UID:21142-1754328600-1754334000@www.naturalnurse.com
SUMMARY:Beach Herb Walk in Oyster Bay Memorial Beach\, NY
DESCRIPTION:Summer Beach Herb Walk\nSlow Food North Shore is organizing their second event of 2025 with a Medicinal Herb Beach Walk at the Theodore Roosevelt Memorial Beach Park in Oyster Bay\, NY. The event will be from 5:30-7pm on Monday August 4th\, 2025. \nWe have invited Ellen Kamhi\, The Natural Nurse\, to join us and share with us her knowledge of local wild herbs right in our own community. Ellen Kamhi Ph.D.\, RN\, AHN-BC\, RH(AHG)\, The Natural Nurse® has been involved in Natural Medicine since 1973\, when she directed a program in Ethnobotany at Cochise College in Douglas\, Arizona. Dr. Kamhi attended Rutgers and Cornell Universities. She sat on the Panel of Traditional Medicine at Columbia Presbyterian Medical School and is a Medical School Instructor\, teaching Botanical Pharmacology. She was nominated for the March of Dimes\, Woman of Distinction 2004 and received the J.G Gallimore award for research in science. \nPlease come and join us for this beautiful and informative walk. \nFor more info and to register\, email info@slowfoodnorthshore.org \nDate: Monday\, August 4\, 2025 5:30-7:00PM\n \nFor more information or in case you are lost on the way to the location\, please call 631-903-2781
URL:https://www.naturalnurse.com/event/beach-herb-walk-in-oyster-bay-memorial-beach-ny/
LOCATION:Water Front Center\, 1 West End Ave\, Oyster Bay\, 11771\, United States
CATEGORIES:2025 Events,Herb Walk
ATTACH;FMTTYPE=image/jpeg:https://www.naturalnurse.com/wp-content/uploads/2020/07/theodore-roosevelt-beach-photo-by-kathyw-longislandleisure.jpg
ORGANIZER;CN="Slow Food Northshore":MAILTO:info@slowfoodnorthshore.org
END:VEVENT
BEGIN:VEVENT
DTSTART;TZID=America/New_York:20250615T130000
DTEND;TZID=America/New_York:20250615T150000
DTSTAMP:20260423T125830
CREATED:20250524T210955Z
LAST-MODIFIED:20260120T054050Z
UID:20867-1749992400-1749999600@www.naturalnurse.com
SUMMARY:Wild Edible & Medicinal Herb Identification at Red Fox Farm
DESCRIPTION:To register: https://www.gofarmhand.com/shop/red-fox-farm/product/6093?from=/shop/red-fox-farm\n  \nJoin Natural Nurse Ellen Kamhi PhD\, RN\, RH(AHG)\, AHN-BC \, as she leads for a walk in our forest garden\, as she identifies and shares her extensive knowledge about wild edibles and healing properties of the many wild herbs found at the Red Fox Farm. \n  \n \nHere are some herbs that we may see and many more to explore: \nRed Clover\, Garlic Mustard\, Yarrow\, Mugwort\n  \nFee: $30\nIf you have any questions\, please call ‪(954) 418-2388\n\nImage credit: \nRed Clover Image by Couleur from Pixabay\nGarlic Mustard Image by Agata Sochalska from Pixabay\nYarrow Image by Jürgen from Pixabay\nMugwort Image by Wild Food UK
URL:https://www.naturalnurse.com/event/edible-medicinal-herb-walk-at-red-fox-farm/
LOCATION:Red Fox Farm\, 104a Second Ave\, Brentwood\, New York\, 11717\, United States
CATEGORIES:2025 Events,Herb Walk
ATTACH;FMTTYPE=image/jpeg:https://www.naturalnurse.com/wp-content/uploads/2025/05/Featured-Image-Red-Fox-Farm-Walk-1600x440-1.jpg
END:VEVENT
BEGIN:VEVENT
DTSTART;TZID=America/New_York:20250430T053000
DTEND;TZID=America/New_York:20250430T193000
DTSTAMP:20260423T125830
CREATED:20250222T212642Z
LAST-MODIFIED:20250223T000343Z
UID:20459-1745991000-1746041400@www.naturalnurse.com
SUMMARY:[LECTURE] Explore Edible and Medicinal Wild Plants of Florida with The Natural Nurse
DESCRIPTION:Join Ellen Kamhi\, PhD\, RN\, AHN-BC\, RH(AHG)\,  The Natural Nurse® \, as we explore edible and medicinal wild plants of Florida. Edible and Medicinal Plants are EVERYWHERE-Did ancient people live where you live now? Were there grocery stores on every corner? People lived by eating the local plants and using them as natural remedies! Those plants are still there\, you just need to learn which\, when\, why and how to use them safely for food and medicine. \nFolklore and Science BOTH promote the use of Natural Remedies to enhance immune function; Including: preventing infection\, increasing natural defenses\, relieving congestion and coughs\, soothing a sore throat\, reducing a fever and quieting an upset stomach. Lets explore our Florida natives\, such as Leaf of Life\, Spanish Needle ( Bidens)\, Beauty Berry\, Moringa and more. …. \n 
URL:https://www.naturalnurse.com/event/lecture-explore-edible-and-medicinal-wild-plants-of-florida-with-the-natural-nurse/
LOCATION:St Paul’s Episcopal Church\, 188 S Swinton Ave\, Delray Beach\, FL\, United States
CATEGORIES:2025 Events,Herb Walk
ATTACH;FMTTYPE=image/jpeg:https://www.naturalnurse.com/wp-content/uploads/2019/02/herb-walk-2018.jpg
ORGANIZER;CN="Delray Beach Historical Society & Heritage Garden":MAILTO:lyon9933@bellsouth.net
END:VEVENT
BEGIN:VEVENT
DTSTART;TZID=America/New_York:20230625T150000
DTEND;TZID=America/New_York:20230625T170000
DTSTAMP:20260423T125830
CREATED:20230528T224024Z
LAST-MODIFIED:20230528T224024Z
UID:16985-1687705200-1687712400@www.naturalnurse.com
SUMMARY:[IN PERSON] Edible & Medicinal Herb Walk at Old Westbury
DESCRIPTION:To register: https://www.eventbrite.com/e/wild-edible-medicinal-herb-identification-walk-tickets-639982213027\nJoin Natural Nurse Ellen Kamhi\, PhD\, RN\, AHG\, and Slow Food North Shore as we walk the gardens and fields of Pinetree Lane Farm\, identifying and gathering edible and medicinal herbs. Participants should bring a bag or basket for gathering herbs. Followed by refreshments from 5-6pm\nEdible and Medicinal Plants are EVERYWHERE\n*Did ancient people live where you live now?\n*Were there grocery stores on every corner? \nThey lived by knowing and eating the local plants! Those plants are still there\, you just need to learn which\, when\, why and how to use them safely for food and medicine. \n \n 
URL:https://www.naturalnurse.com/event/in-person-edible-medicinal-herb-walk-at-old-westbury/
LOCATION:Pinetree Lane Farm\, Old Westbury\, NY\, 11568
CATEGORIES:2023 Events,Herb Walk
ATTACH;FMTTYPE=image/jpeg:https://www.naturalnurse.com/wp-content/uploads/2015/10/Slider-Ellen-herb-walk.jpg
ORGANIZER;CN="Slow Food Northshore":MAILTO:info@slowfoodnorthshore.org
END:VEVENT
BEGIN:VEVENT
DTSTART;TZID=America/New_York:20210916T190000
DTEND;TZID=America/New_York:20210916T203000
DTSTAMP:20260423T125830
CREATED:20210824T054133Z
LAST-MODIFIED:20210824T062948Z
UID:10629-1631818800-1631824200@www.naturalnurse.com
SUMMARY:OBHS: Edible & Medicinal Wild Plants on the North Shore
DESCRIPTION:Register here: https://www.eventbrite.com/e/edible-and-medicinal-wild-plants-on-the-north-shore-tickets-166464554965 \n\n$10 OBHS Members\n$15 OBHS Non-Members\n\nJoin Ellen Kamhi\, PhD\, RN\, The Natural Nurse® \, as we explore edible and medicinal wild plants. Many of these are our neighbors right here in Oyster Bay !Edible and Medicinal Plants are EVERYWHERE- \n \n\n\n\n\n\nDid ancient people live where you live now?\nWere there grocery stores on every corner?\nThey lived by knowing and eating the local plants!\n\n\n\n\n\nThose plants are still there\, you just need to learn which\, when\, why and how to use them safely for food and medicine. \nThis is an in-person event taking place at the Angela Koenig Center and then Dr. Kamhi will take us to the garden behind the Earle Wightman House to continue her talk about edible and medicinal wild plants \nTo ensure everyone feels comfortable while we are still navigating COVID\, we ask that you wear a mask while we are inside.
URL:https://www.naturalnurse.com/event/obhs-edible-medicinal-wild-plants-on-the-north-shore/
LOCATION:Oyster Bay Historical Society\, 20 Summit Street\, Oyster Bay\, NY\, 11771\, United States
CATEGORIES:2021 events,Herb Walk
ATTACH;FMTTYPE=image/jpeg:https://www.naturalnurse.com/wp-content/uploads/2021/08/obhs-herb-walk-2021_1600x440.jpg
ORGANIZER;CN="Oyster Bay Historical Society":MAILTO:obhsdirector@optonline.net
END:VEVENT
BEGIN:VEVENT
DTSTART;TZID=America/New_York:20210828T150000
DTEND;TZID=America/New_York:20210828T170000
DTSTAMP:20260423T125830
CREATED:20210728T220711Z
LAST-MODIFIED:20211116T221951Z
UID:10505-1630162800-1630170000@www.naturalnurse.com
SUMMARY:[IN PERSON] Edible & Medicinal Herb Walk at Hive Market
DESCRIPTION:To register: https://hivemarketob.com/workshops/p/ellenkamhi\nJoin Natural Nurse Ellen Kamhi PhD\, RN\, AHG \, as we Explore edible and medicinal wild plants. Many of these are our neighbors right here in Oyster Bay!\nEdible and Medicinal Plants are EVERYWHERE\n*Did ancient people live where you live now?\n*Were there grocery stores on every corner? \nThey lived by knowing and eating the local plants! Those plants are still there\, you just need to learn which\, when\, why and how to use them safely for food and medicine. \n \n 
URL:https://www.naturalnurse.com/event/in-person-edible-medicinal-herb-walk-at-hive-market/
LOCATION:Hive Market & Maker’s Space\, 100-102 Audrey Avenue\, Oyster Bay\, 11771
CATEGORIES:2021 events,Herb Walk
ATTACH;FMTTYPE=image/jpeg:https://www.naturalnurse.com/wp-content/uploads/2021/07/hivemarket-herbwalk-1600.jpg
ORGANIZER;CN="Hive Market & Maker's Space":MAILTO:hivemarketob@gmail.com
END:VEVENT
BEGIN:VEVENT
DTSTART;TZID=America/New_York:20210624T180000
DTEND;TZID=America/New_York:20210624T193000
DTSTAMP:20260423T125830
CREATED:20200701T211847Z
LAST-MODIFIED:20210623T224707Z
UID:8898-1624557600-1624563000@www.naturalnurse.com
SUMMARY:[2021] AHG-LI: Beach Herbs Walk with Ellen Kamhi PhD RN AHG
DESCRIPTION:Free and Open to All\n\nSummer Beach Herb Walk\nJoin Ellen Kamhi Ph.D.\, RN\, AHG-RH\, AHN-BC she guides you through the beach and show you how to identify various wild edible and medicinal plants in this Long Island\, NY park. \nDate: Thursday\, June 24\, 2021\, at 6 PM\nPhoto credit: http://longislandleisure.com/wp-content/uploads/2015/06/Kathie-W..jpg\nBEACH WALK – MEDICINAL WILD HERBS (weather permitting)\nMeet Under the Gazebo at Teddy Roosevelt Beach (enter beach at end of Larrabee Ave\, Oyster Bay\, NY)\n \nFor more information or in case you are lost on the way to the location\, please call 631-903-2781
URL:https://www.naturalnurse.com/event/beach-herbs-walk-ellen-kamhi-2021/
LOCATION:Theodore Roosevelt Memorial Park & Beach Gazebo\, Oyster Bay NY\, Larrabee Ave\, Oyster Bay\, NY\, 11771\, United States
CATEGORIES:2021 events,Herb Walk
ATTACH;FMTTYPE=image/jpeg:https://www.naturalnurse.com/wp-content/uploads/2016/06/beach-herb-walk-1600x440.jpg
ORGANIZER;CN="Angus J. Towse MSOM%2C BS(Hort)%2C LAc%2C LMT":MAILTO:LongIsland.AHG@gmail.com
END:VEVENT
BEGIN:VEVENT
DTSTART;TZID=America/New_York:20200627T143000
DTEND;TZID=America/New_York:20200627T153000
DTSTAMP:20260423T125830
CREATED:20200131T080050Z
LAST-MODIFIED:20200527T035723Z
UID:8297-1593268200-1593271800@www.naturalnurse.com
SUMMARY:Wild Edible Plants & Herbs in Your Backyard - Food and First Aid
DESCRIPTION:To register:https://brentwood.librarycalendar.com/events/seed-saturdays-virtual-herb-walk \nAncient people once lived where you live now and survived by using local edible and medicinal plants. Those plants are still there and you can learn to use them safely for food and medicine.We will virtually visit many of our local plant allies\, and discuss how to safely identify\, gather\, prepare \, and use our local plants for food and medicine. This knowledge can be for fun\, or possibly for survival! \n  \n 
URL:https://www.naturalnurse.com/event/virtual-wild-edible-medicinal-weed-walk/
LOCATION:GoTo Meeting
CATEGORIES:2020 events,Free Webinar,Herb Walk
ATTACH;FMTTYPE=image/jpeg:https://www.naturalnurse.com/wp-content/uploads/2020/01/virtual-herb-walk_1600x440.jpg
END:VEVENT
BEGIN:VEVENT
DTSTART;TZID=America/New_York:20191022T180000
DTEND;TZID=America/New_York:20191022T193000
DTSTAMP:20260423T125830
CREATED:20190711T230518Z
LAST-MODIFIED:20190711T230518Z
UID:7426-1571767200-1571772600@www.naturalnurse.com
SUMMARY:[October 2019] AHG-LI Meeting: Herbs of Hallows Eve with Ellen Kamhi PhD RN AHG
DESCRIPTION:Free and Open to All\n\nHerbs of Hallows Eve\nDate: Tuesday\, October 22\, 2019 at 6 PM \n \nMeet at Oyster Bay- East Norwich Library – 89 E Main St\, Oyster Bay\, NY 11771 \nFor more information\, call 800-829-0918 or email Angus Towse – AHG LI Chapter President longisland.ahg@gmail.com \nLost? Call 631-903-2781
URL:https://www.naturalnurse.com/event/herbs-hallows-eve-ellen-kamhi/
LOCATION:Oyster Bay- East Norwich Library\, 89 E Main St\, Oyster Bay\, NY\, 11771\, United States
CATEGORIES:2019 events,Herb Walk,Lectures
ATTACH;FMTTYPE=image/png:https://www.naturalnurse.com/wp-content/uploads/2019/05/LargerLogo.png
ORGANIZER;CN="Angus J. Towse MSOM%2C BS(Hort)%2C LAc%2C LMT":MAILTO:LongIsland.AHG@gmail.com
END:VEVENT
BEGIN:VEVENT
DTSTART;TZID=America/New_York:20190905T190000
DTEND;TZID=America/New_York:20190905T200000
DTSTAMP:20260423T125830
CREATED:20190711T212235Z
LAST-MODIFIED:20190711T212235Z
UID:7420-1567710000-1567713600@www.naturalnurse.com
SUMMARY:[September 2019] AHG-LI Meeting: with Francine Koehler
DESCRIPTION:Free and Open to All\n\nTitle to be announced soon\n \nFor more information\, call 800-829-0918 or email longisland.ahg@gmail.com
URL:https://www.naturalnurse.com/event/ahg-li-meeting-francine-koehler/
LOCATION:Glen Cove Public Library\, 4 Glen Cove Ave.\, Glen Cove\, NY\, 11542\, United States
CATEGORIES:2019 events,Herb Walk,Lectures
ORGANIZER;CN="Angus J. Towse MSOM%2C BS(Hort)%2C LAc%2C LMT":MAILTO:LongIsland.AHG@gmail.com
END:VEVENT
BEGIN:VEVENT
DTSTART;TZID=America/New_York:20190815T180000
DTEND;TZID=America/New_York:20190815T193000
DTSTAMP:20260423T125830
CREATED:20190711T210033Z
LAST-MODIFIED:20190814T025215Z
UID:7418-1565892000-1565897400@www.naturalnurse.com
SUMMARY:[August 2019] AHG-LI Meeting: Beach Herbs Walk with Ellen Kamhi PhD RN AHG
DESCRIPTION:Free and Open to All\n\nMid Summer Beach Herb Walk\nDate: Thursday\, August 15\, 2019 at 6 PM \n \nNice weather: \nBEACH WALK – MEDICINAL WILD HERBS (weather permitting)\nMeet Under the Gazebo at Teddy Roosevelt Beach (enter beach at end of Larrabee Ave\, Oyster Bay\, NY)\n \nInclement Weather: \nMeet at Oyster Bay- East Norwich Library – 89 E Main St\, Oyster Bay\, NY 11771 \nFor more information\, call 800-829-0918 or email Angus Towse – AHG LI Chapter President longisland.ahg@gmail.com \nLost? Call 631-903-2781
URL:https://www.naturalnurse.com/event/beach-herbs-walk-ellen-kamhi/
LOCATION:Theodore Roosevelt Memorial Park & Beach Gazebo\, Oyster Bay NY\, Larrabee Ave\, Oyster Bay\, NY\, 11771\, United States
CATEGORIES:2019 events,Herb Walk,Lectures
ATTACH;FMTTYPE=image/png:https://www.naturalnurse.com/wp-content/uploads/2019/05/LargerLogo.png
ORGANIZER;CN="Angus J. Towse MSOM%2C BS(Hort)%2C LAc%2C LMT":MAILTO:LongIsland.AHG@gmail.com
END:VEVENT
BEGIN:VEVENT
DTSTART;TZID=America/New_York:20190803T110000
DTEND;TZID=America/New_York:20190803T130000
DTSTAMP:20260423T125830
CREATED:20190523T002430Z
LAST-MODIFIED:20220812T170148Z
UID:7032-1564830000-1564837200@www.naturalnurse.com
SUMMARY:St. Joseph’s Herb Walk:  Wild Edible and Medicinal Weed Walk
DESCRIPTION:Ancient people once lived where you live now and survived by using local edible and medicinal plants. Those plants are still there and you can learn to use them safely for food and medicine. \nEllen Kamhi (PhD RN\, AHN-BC\, AHG-RH)\, author of The Natural Medicine Chest\, has been teaching people how to recognize\, collect and safely use local plants for over 40 years; she will be your guide to the wild edibles and medicinal weed walk at the Organic Garden of St. Joseph’s. \nMeet at the ORGANIC GARDEN. Look for signs as you drive in off Brentwood Road. We will meet in the barn rain or shine. Address: St Joseph’s\, 1725 Brentwood Road\, Brentwood\, NY 11717 \nREGISTER through Brentwood Public Library.
URL:https://www.naturalnurse.com/event/st-josephs-herb-walk-wild-edible-and-medicinal-weed-walk/
LOCATION:Organic Garden of Sisters of St. Joseph\, 1725 Brentwood Road\, Brentwood\, NY\, 11717\, United States
CATEGORIES:2019 events,Herb Walk
ATTACH;FMTTYPE=image/jpeg:https://www.naturalnurse.com/wp-content/uploads/2019/05/st-joseph-brentwood-herb-walk-1600x440.jpg
END:VEVENT
BEGIN:VEVENT
DTSTART;TZID=America/New_York:20190613T183000
DTEND;TZID=America/New_York:20190613T200000
DTSTAMP:20260423T125830
CREATED:20190526T040702Z
LAST-MODIFIED:20190526T040702Z
UID:7066-1560450600-1560456000@www.naturalnurse.com
SUMMARY:[June 2019]American Herbalist Guild (AHG) Long Island Chapter Meeting
DESCRIPTION:Free and Open to All\n\nHerbs Of Summer plus Identification Plant Walk (weather permitting)\n \nFor more information\, call 800-829-0918 or email longisland.ahg@gmail.com
URL:https://www.naturalnurse.com/event/june-2019american-herbalist-guild-ahg-long-island-chapter-meeting/
LOCATION:Oyster Bay- East Norwich Library\, 89 E Main St\, Oyster Bay\, NY\, 11771\, United States
CATEGORIES:2019 events,Herb Walk,Lectures
ATTACH;FMTTYPE=image/png:https://www.naturalnurse.com/wp-content/uploads/2019/05/LargerLogo.png
ORGANIZER;CN="Angus J. Towse MSOM%2C BS(Hort)%2C LAc%2C LMT":MAILTO:LongIsland.AHG@gmail.com
END:VEVENT
BEGIN:VEVENT
DTSTART;TZID=America/New_York:20190528T180000
DTEND;TZID=America/New_York:20190528T193000
DTSTAMP:20260423T125830
CREATED:20190517T051119Z
LAST-MODIFIED:20190528T063723Z
UID:6955-1559066400-1559071800@www.naturalnurse.com
SUMMARY:[May 2019] Plant Walk / Herbal Field Botany - AHG LI Chapter Meeting
DESCRIPTION:Please join us on Tuesday May 28\, 2019 at 6:00pm for Nice Evening – Herb Walk / Herbal Field Botany with Angus Towse MSOM\, BS(Hort)\, LAc\, LMT \nFREE AND OPEN TO THE PUBLIC
URL:https://www.naturalnurse.com/event/may-2019-plant-walk-herbal-field-botany-ahg-li-chapter-meeting/
LOCATION:Sea Cliff Central Park\, Central Ave & 14th Ave\, Sea Cliff\, NY\, 11579\, United States
CATEGORIES:2019 events,Herb Walk,Lectures
ATTACH;FMTTYPE=image/png:https://www.naturalnurse.com/wp-content/uploads/2019/05/LargerLogo.png
ORGANIZER;CN="Angus J. Towse MSOM%2C BS(Hort)%2C LAc%2C LMT":MAILTO:LongIsland.AHG@gmail.com
END:VEVENT
END:VCALENDAR