BEGIN:VCALENDAR
VERSION:2.0
PRODID:-//The Natural Nurse - ECPv6.15.17.1//NONSGML v1.0//EN
CALSCALE:GREGORIAN
METHOD:PUBLISH
X-ORIGINAL-URL:https://www.naturalnurse.com
X-WR-CALDESC:Events for The Natural Nurse
REFRESH-INTERVAL;VALUE=DURATION:PT1H
X-Robots-Tag:noindex
X-PUBLISHED-TTL:PT1H
BEGIN:VTIMEZONE
TZID:America/New_York
BEGIN:DAYLIGHT
TZOFFSETFROM:-0500
TZOFFSETTO:-0400
TZNAME:EDT
DTSTART:20170312T070000
END:DAYLIGHT
BEGIN:STANDARD
TZOFFSETFROM:-0400
TZOFFSETTO:-0500
TZNAME:EST
DTSTART:20171105T060000
END:STANDARD
BEGIN:DAYLIGHT
TZOFFSETFROM:-0500
TZOFFSETTO:-0400
TZNAME:EDT
DTSTART:20180311T070000
END:DAYLIGHT
BEGIN:STANDARD
TZOFFSETFROM:-0400
TZOFFSETTO:-0500
TZNAME:EST
DTSTART:20181104T060000
END:STANDARD
BEGIN:DAYLIGHT
TZOFFSETFROM:-0500
TZOFFSETTO:-0400
TZNAME:EDT
DTSTART:20190310T070000
END:DAYLIGHT
BEGIN:STANDARD
TZOFFSETFROM:-0400
TZOFFSETTO:-0500
TZNAME:EST
DTSTART:20191103T060000
END:STANDARD
BEGIN:DAYLIGHT
TZOFFSETFROM:-0500
TZOFFSETTO:-0400
TZNAME:EDT
DTSTART:20200308T070000
END:DAYLIGHT
BEGIN:STANDARD
TZOFFSETFROM:-0400
TZOFFSETTO:-0500
TZNAME:EST
DTSTART:20201101T060000
END:STANDARD
BEGIN:DAYLIGHT
TZOFFSETFROM:-0500
TZOFFSETTO:-0400
TZNAME:EDT
DTSTART:20210314T070000
END:DAYLIGHT
BEGIN:STANDARD
TZOFFSETFROM:-0400
TZOFFSETTO:-0500
TZNAME:EST
DTSTART:20211107T060000
END:STANDARD
BEGIN:DAYLIGHT
TZOFFSETFROM:-0500
TZOFFSETTO:-0400
TZNAME:EDT
DTSTART:20220313T070000
END:DAYLIGHT
BEGIN:STANDARD
TZOFFSETFROM:-0400
TZOFFSETTO:-0500
TZNAME:EST
DTSTART:20221106T060000
END:STANDARD
BEGIN:DAYLIGHT
TZOFFSETFROM:-0500
TZOFFSETTO:-0400
TZNAME:EDT
DTSTART:20230312T070000
END:DAYLIGHT
BEGIN:STANDARD
TZOFFSETFROM:-0400
TZOFFSETTO:-0500
TZNAME:EST
DTSTART:20231105T060000
END:STANDARD
BEGIN:DAYLIGHT
TZOFFSETFROM:-0500
TZOFFSETTO:-0400
TZNAME:EDT
DTSTART:20240310T070000
END:DAYLIGHT
BEGIN:STANDARD
TZOFFSETFROM:-0400
TZOFFSETTO:-0500
TZNAME:EST
DTSTART:20241103T060000
END:STANDARD
BEGIN:DAYLIGHT
TZOFFSETFROM:-0500
TZOFFSETTO:-0400
TZNAME:EDT
DTSTART:20250309T070000
END:DAYLIGHT
BEGIN:STANDARD
TZOFFSETFROM:-0400
TZOFFSETTO:-0500
TZNAME:EST
DTSTART:20251102T060000
END:STANDARD
BEGIN:DAYLIGHT
TZOFFSETFROM:-0500
TZOFFSETTO:-0400
TZNAME:EDT
DTSTART:20260308T070000
END:DAYLIGHT
BEGIN:STANDARD
TZOFFSETFROM:-0400
TZOFFSETTO:-0500
TZNAME:EST
DTSTART:20261101T060000
END:STANDARD
END:VTIMEZONE
BEGIN:VEVENT
DTSTART;TZID=America/New_York:20251012T110000
DTEND;TZID=America/New_York:20251012T160000
DTSTAMP:20260423T173529
CREATED:20250711T052504Z
LAST-MODIFIED:20250711T060339Z
UID:21126-1760266800-1760284800@www.naturalnurse.com
SUMMARY:[2025] Chinatown Herb Walk Tour in NYC
DESCRIPTION:https://www.naturalnurse.com/wp-content/uploads/2025/07/Chinatown-take-3.m4a\nHave you always wanted to explore Chinatown but were unsure where to go and which herbal vendors are reputable? With Dr. Z  (Eugene Zampieron ND\, RH(AHG) and Dr.  Lindsay Chimileski ND\, RH(AHG)\, LAc as your tour guides\, you will explore Chinatown from a whole new perspective. Dr. Z has been leading people through Chinatown for over 30 years. With their expertise in natural herbal medicine\, you’ll experience an authentic cultural excursion like going to another country on a budget for a day and learn about various Chinese herbal remedies. \n \n  \nFor more information\, please visit the online brochure here. \nRegister NOW by filling out this form – This tour sells out!\nTuition: $55.00 (LUNCH NOT included)\n(Tuition covers Chinese Cultural Museum\, Chinese doctor’s honorarium\, fees\, handouts)\nCall DrZ at (203) 263-2970 for more information or to register\, email us at DoctorZnaturally@gmail.com\nTo register by mail\, make a check out and mail check to:\nNatural Alternatives   413 Grassy Hill\, Woodbury\, CT 06798\nOr Venmo tuition to DrZ at\nEugene Zampieron@Eugene-Zampieron\nSpecific directions to the location & itinerary sent via email after registration is complete.\n 
URL:https://www.naturalnurse.com/event/2025-chinatown-herb-walk-tour-in-nyc/
LOCATION:Chinatown NYC\, Manhattan\, NY\, 10013\, United States
CATEGORIES:2025 Events,China Town
ATTACH;FMTTYPE=image/jpeg:https://www.naturalnurse.com/wp-content/uploads/2025/07/chinatown-2025-1600x440-1.jpg
ORGANIZER;CN="Natural Alternatives":MAILTO:drznaturally@gmail.com
END:VEVENT
BEGIN:VEVENT
DTSTART;TZID=America/New_York:20240929T110000
DTEND;TZID=America/New_York:20240929T160000
DTSTAMP:20260423T173529
CREATED:20240619T175411Z
LAST-MODIFIED:20240930T205445Z
UID:19350-1727607600-1727625600@www.naturalnurse.com
SUMMARY:[2024] Fall Season Chinatown Herb Walk Tour in NYC
DESCRIPTION:https://www.naturalnurse.com/wp-content/uploads/2024/07/Chinatown-PSA-natural-Nurse-DrZ-radio-show.m4a\nHave you always wanted to explore Chinatown but were unsure where to go and which herbal vendors are reputable? With Dr. Z  (Eugene Zampieron ND\, RH(AHG) and the Natural Nurse® (Ellen Kamhi Ph.D.\, RN\, RH(AHG) as your tour guides\, you will explore Chinatown from a whole new perspective. They have been leading people through Chinatown twice a year for over 20 years. With their expertise in natural herbal medicine\, you’ll experience an authentic cultural excursion like going to another country on a budget for a day and learn about various Chinese herbal remedies. \n \nFor more information\, please visit the online brochure here. \nRegister NOW by filling out this form – This tour sells out!\nTuition: $55.00 (LUNCH NOT included)\n(Tuition covers Chinese Cultural Museum\, Chinese doctor’s honorarium\, fees\, handouts)\nCall DrZ at (203) 263-2970 for more information or to register\, email us at DoctorZnaturally@gmail.com\nTo register by mail\, make a check out and mail check to:\nNatural Alternatives   413 Grassy Hill\, Woodbury\, CT 06798\nOr Venmo tuition to DrZ at\nEugene Zampieron@Eugene-Zampieron\nSpecific directions to the location & itinerary sent via email after registration is complete.\n 
URL:https://www.naturalnurse.com/event/2024-fall-season-chinatown-herb-walk-tour-in-nyc/
LOCATION:Chinatown NYC\, Manhattan\, NY\, 10013\, United States
CATEGORIES:2024 Events,China Town
ATTACH;FMTTYPE=image/jpeg:https://www.naturalnurse.com/wp-content/uploads/2022/07/chinatown-1600x440-1.jpg
ORGANIZER;CN="Natural Alternatives":MAILTO:drznaturally@gmail.com
END:VEVENT
BEGIN:VEVENT
DTSTART;TZID=America/New_York:20231001T110000
DTEND;TZID=America/New_York:20231001T160000
DTSTAMP:20260423T173529
CREATED:20220727T180134Z
LAST-MODIFIED:20230916T221027Z
UID:12906-1696158000-1696176000@www.naturalnurse.com
SUMMARY:[2023] Fall Season Chinatown Herb Walk Tour in NYC
DESCRIPTION:EVENT STATUS:SORRY\, IT’S SOLD OUT\nHave you always wanted to explore Chinatown but were unsure where to go and which herbal vendors are reputable? With Dr. Z  (Eugene Zampieron ND\, RH(AHG) and the Natural Nurse® (Ellen Kamhi Ph.D.\, RN\, RH(AHG) as your tour guides\, you will explore Chinatown from a whole new perspective. They have been leading people through Chinatown twice a year for over 20 years. With their expertise in natural herbal medicine\, you’ll experience an authentic cultural excursion like going to another country on a budget for a day and learn about various Chinese herbal remedies. \nhttps://www.naturalnurse.com/wp-content/uploads/2022/07/Chinatown-tour-2022.m4a\n \nFor more information\, please visit the online brochure here. \nRegister NOW – This tour sells out! SOLD OUT\nTuition: $55.00 (LUNCH NOT included)\n(Tuition covers Chinese Cultural Museum\, Chinese doctor’s honorarium\, fees\, handouts)\nCall DrZ at (203) 263-2970 for more information or to register\, email us at DoctorZnaturally@gmail.com\nTo register by mail\, make a check out and mail check to:\nNatural Alternatives   413 Grassy Hill\, Woodbury\, CT 06798\nOr Venmo tuition to DrZ at\nEugene Zampieron@Eugene-Zampieron\nSpecific directions to the location & itinerary sent via email after registration is complete.\n 
URL:https://www.naturalnurse.com/event/2023-fall-season-chinatown-herb-walk-tour-in-nyc/
LOCATION:Chinatown NYC\, Manhattan\, NY\, 10013\, United States
CATEGORIES:2023 Events,China Town
ATTACH;FMTTYPE=image/jpeg:https://www.naturalnurse.com/wp-content/uploads/2022/07/chinatown-1600x440-1.jpg
ORGANIZER;CN="Natural Alternatives":MAILTO:drznaturally@gmail.com
END:VEVENT
BEGIN:VEVENT
DTSTART;TZID=America/New_York:20180520T110000
DTEND;TZID=America/New_York:20180520T160000
DTSTAMP:20260423T173529
CREATED:20170220T170458Z
LAST-MODIFIED:20180404T051141Z
UID:2232-1526814000-1526832000@www.naturalnurse.com
SUMMARY:Spring Season Chinatown Herb Walk Tour in NYC
DESCRIPTION:Have you always wanted to explore Chinatown but were unsure where to go and which herbal vendors are reputable? With Dr. Z and the Natural Nurse® as your tour guides\, you will explore Chinatown from a whole new perspective. They have been leading people through Chinatown twice a year for over 20 years. With their expertise in natural herbal medicine\, you’ll experience an authentic cultural excursion like going to another country on a budget for a day and learn about various Chinese herbal remedies. \n \nFor more information\, please visit the online brochure here. \nRegister NOW – This tour sells out quickly!\nCost: $45.00 ( student fee: $30.00)\nTo register\, mail check to:\nNatural Alternatives\nPO BOX 525\, Oyster Bay\, NY 11771\nspecific directions will be provided after registration
URL:https://www.naturalnurse.com/event/spring-chinatown-herb-walk-tour-nyc/
LOCATION:Chinatown NYC\, Manhattan\, NY\, 10013\, United States
CATEGORIES:2018 events,China Town
ATTACH;FMTTYPE=image/jpeg:https://www.naturalnurse.com/wp-content/uploads/2016/02/Dr-Z-and-The-Natural-Nurse-China-Town-Eco-Tour-e1461264612711.jpg
ORGANIZER;CN="Natural Alternatives":MAILTO:drznaturally@gmail.com
END:VEVENT
END:VCALENDAR