BEGIN:VCALENDAR
VERSION:2.0
PRODID:-//The Natural Nurse - ECPv6.15.17.1//NONSGML v1.0//EN
CALSCALE:GREGORIAN
METHOD:PUBLISH
X-ORIGINAL-URL:https://www.naturalnurse.com
X-WR-CALDESC:Events for The Natural Nurse
REFRESH-INTERVAL;VALUE=DURATION:PT1H
X-Robots-Tag:noindex
X-PUBLISHED-TTL:PT1H
BEGIN:VTIMEZONE
TZID:America/New_York
BEGIN:DAYLIGHT
TZOFFSETFROM:-0500
TZOFFSETTO:-0400
TZNAME:EDT
DTSTART:20230312T070000
END:DAYLIGHT
BEGIN:STANDARD
TZOFFSETFROM:-0400
TZOFFSETTO:-0500
TZNAME:EST
DTSTART:20231105T060000
END:STANDARD
BEGIN:DAYLIGHT
TZOFFSETFROM:-0500
TZOFFSETTO:-0400
TZNAME:EDT
DTSTART:20240310T070000
END:DAYLIGHT
BEGIN:STANDARD
TZOFFSETFROM:-0400
TZOFFSETTO:-0500
TZNAME:EST
DTSTART:20241103T060000
END:STANDARD
BEGIN:DAYLIGHT
TZOFFSETFROM:-0500
TZOFFSETTO:-0400
TZNAME:EDT
DTSTART:20250309T070000
END:DAYLIGHT
BEGIN:STANDARD
TZOFFSETFROM:-0400
TZOFFSETTO:-0500
TZNAME:EST
DTSTART:20251102T060000
END:STANDARD
END:VTIMEZONE
BEGIN:VEVENT
DTSTART;VALUE=DATE:20240323
DTEND;VALUE=DATE:20240330
DTSTAMP:20260425T082933
CREATED:20230612T215711Z
LAST-MODIFIED:20251230T194821Z
UID:17112-1711152000-1711756799@www.naturalnurse.com
SUMMARY:EcoTours for Cures ® The Education Vacation in the Island of Jamaica 2024
DESCRIPTION:Travel with Dr. Eugene R. Zampieron (Dr. Z) and a host of esteemed botanical experts/teachers such as Dr. Lindsay Chimileski ND\, RH(AHG) to the island of \nJamaica\,WI on EcoTours for Cures ® The Education Vacation!\nDates: March  23-29\, 2024 \nHike deep into tropical Rainforests…\nSwim in majestic waterfalls\,\n(still unknown to the Tourist traps)\nDiscover a part of Jamaica\, UNTOUCHED by tourism\nFunshops on Caribbean EthnoBotany &\nMedicinal Herbs\, Roots and Natural (ITAL) Foods\nTravel with Jamaican Bush doctors &\nmelt into the pulse of their natural lifestyle & Culture\nMoonlit Fire Ceremonies\nNight beach cookouts\nEscape the cold\, nasty winter \n…on the Caribbean sea \necotours_2024\nTo view photos of past trips and more information about the tour\, visit Our Online Brochure \nFor terms and conditions of booking\, visit here \nPhone: ‪(203) 263-2970\nContact page: https://ecotoursforcures.com/info/
URL:https://www.naturalnurse.com/event/ecotours-for-cures-the-education-vacation-in-the-island-of-jamaica-2024/
LOCATION:Island of Jamaica
CATEGORIES:2024 Events,Jamaica West Indies
ATTACH;FMTTYPE=image/jpeg:https://www.naturalnurse.com/wp-content/uploads/2023/06/ecotours_2024-1600x520-1.jpg
END:VEVENT
END:VCALENDAR