BEGIN:VCALENDAR
VERSION:2.0
PRODID:-//The Natural Nurse - ECPv6.15.17.1//NONSGML v1.0//EN
CALSCALE:GREGORIAN
METHOD:PUBLISH
X-ORIGINAL-URL:https://www.naturalnurse.com
X-WR-CALDESC:Events for The Natural Nurse
REFRESH-INTERVAL;VALUE=DURATION:PT1H
X-Robots-Tag:noindex
X-PUBLISHED-TTL:PT1H
BEGIN:VTIMEZONE
TZID:America/New_York
BEGIN:DAYLIGHT
TZOFFSETFROM:-0500
TZOFFSETTO:-0400
TZNAME:EDT
DTSTART:20220313T070000
END:DAYLIGHT
BEGIN:STANDARD
TZOFFSETFROM:-0400
TZOFFSETTO:-0500
TZNAME:EST
DTSTART:20221106T060000
END:STANDARD
BEGIN:DAYLIGHT
TZOFFSETFROM:-0500
TZOFFSETTO:-0400
TZNAME:EDT
DTSTART:20230312T070000
END:DAYLIGHT
BEGIN:STANDARD
TZOFFSETFROM:-0400
TZOFFSETTO:-0500
TZNAME:EST
DTSTART:20231105T060000
END:STANDARD
BEGIN:DAYLIGHT
TZOFFSETFROM:-0500
TZOFFSETTO:-0400
TZNAME:EDT
DTSTART:20240310T070000
END:DAYLIGHT
BEGIN:STANDARD
TZOFFSETFROM:-0400
TZOFFSETTO:-0500
TZNAME:EST
DTSTART:20241103T060000
END:STANDARD
END:VTIMEZONE
BEGIN:VEVENT
DTSTART;TZID=America/New_York:20230912T210000
DTEND;TZID=America/New_York:20230920T235500
DTSTAMP:20260425T165714
CREATED:20230829T174437Z
LAST-MODIFIED:20230829T174437Z
UID:17719-1694552400-1695254100@www.naturalnurse.com
SUMMARY:HEALING KITCHEN Docuseries
DESCRIPTION:Hello everyone\, \nI am inviting you to watch The Power Of Medicinal Foods called HEALING KITCHEN\, brought to you by my friends at the Sacred Science. \nGET the FREE PASS here: https://healingkitchen.thesacredscience.com/register#a_aid=elka&a_bid=99099c87 \nBackground\nFrom the civilizations of ancient Egypt\, China and India all the way to the Mayan and Aztec empires\, there was one simple truth that was shared by all… food is medicine. \nFood has the power to change our mood\, to bring people together\, and it has the power to heal. \n“Let food be thy medicine\, and medicine thy food.” \nThese words were spoken two thousand years ago by the celebrated Greek Physician\, Hippocrates – commonly hailed as the father of modern medicine. He knew that the right foods combined with specific medicinal herbs was a recipe for a long and healthy life… \nBut somewhere along the way\, we seem to have forgotten this simple truth. \nThe ancients knew – and modern science proves \nJoin me to explore this new documentary series called HEALING KITCHEN\n \nAbout the HEALING KITCHEN series\nOne of the  keys to good health is… nutrient-dense\, mineral-rich\, fully-intact\, consciously-created food. \nIt’s time for us to remember and embody this ancient truth\, and to revive both ourselves and our kitchens. \nThat’s why I’m so excited to share a remarkable new docuseries that is premiering in [September 12 through 20]… \nIt’s called Healing Kitchen: Let Food Be Thy Medicine\, and it’s a hard-hitting\, transformative – and FREE – documentary series exploring the world’s most promising medicinal foods- that you can enjoy at home ! \nEach episode is beautifully filmed and jam-packed with powerful recipes and ancient remedies that will turn your kitchen into a personal sanctuary of natural wellness and true nourishment. \nIn this exclusive FREE series\, you’ll discover: \n– How to create natural food  healing recipes that target specific health conditions and vital systems within your body \n– How to support your microbiome  \n– Ancient kitchen remedies that improve brain function and memory \n– Healing dishes that are also delicious  \n– Natural foods that address the real source of hormone imbalance\, infertility\, and low libido \n– And much more! \nVisit this link to register \nhttps://healingkitchen.thesacredscience.com/register#a_aid=elka&a_bid=99099c87 \nPlus\, you’ll meet a fun and inspiring  group of experts\, from farm to table chefs\, herbalists\, and wild food foragers\, to small farmers\, natural doctors\, holistic nutritionists and more! \nThis new 9-part documentary series is packed with wellness information that you can use immediately in both your own and your loved one’s lives. All you have to do is click the link to sign up. \nI’ll be tuning into Healing Kitchen  for sure – I invite you to join me! \nThe series airs on September 12 and only runs until September 20th\, so you want to make sure to Register Now.\n 
URL:https://www.naturalnurse.com/event/healing-kitchen-docuseries/
LOCATION:Healing Kitchen Docuseries
CATEGORIES:2023 Events,Free Webinar,Summit and Conference
ATTACH;FMTTYPE=image/jpeg:https://www.naturalnurse.com/wp-content/uploads/2023/08/fb-web-banner-cooked-food.jpg
END:VEVENT
END:VCALENDAR