BEGIN:VCALENDAR
VERSION:2.0
PRODID:-//The Natural Nurse - ECPv6.15.17.1//NONSGML v1.0//EN
CALSCALE:GREGORIAN
METHOD:PUBLISH
X-WR-CALNAME:The Natural Nurse
X-ORIGINAL-URL:https://www.naturalnurse.com
X-WR-CALDESC:Events for The Natural Nurse
REFRESH-INTERVAL;VALUE=DURATION:PT1H
X-Robots-Tag:noindex
X-PUBLISHED-TTL:PT1H
BEGIN:VTIMEZONE
TZID:America/New_York
BEGIN:DAYLIGHT
TZOFFSETFROM:-0500
TZOFFSETTO:-0400
TZNAME:EDT
DTSTART:20200308T070000
END:DAYLIGHT
BEGIN:STANDARD
TZOFFSETFROM:-0400
TZOFFSETTO:-0500
TZNAME:EST
DTSTART:20201101T060000
END:STANDARD
BEGIN:DAYLIGHT
TZOFFSETFROM:-0500
TZOFFSETTO:-0400
TZNAME:EDT
DTSTART:20210314T070000
END:DAYLIGHT
BEGIN:STANDARD
TZOFFSETFROM:-0400
TZOFFSETTO:-0500
TZNAME:EST
DTSTART:20211107T060000
END:STANDARD
BEGIN:DAYLIGHT
TZOFFSETFROM:-0500
TZOFFSETTO:-0400
TZNAME:EDT
DTSTART:20220313T070000
END:DAYLIGHT
BEGIN:STANDARD
TZOFFSETFROM:-0400
TZOFFSETTO:-0500
TZNAME:EST
DTSTART:20221106T060000
END:STANDARD
BEGIN:DAYLIGHT
TZOFFSETFROM:-0500
TZOFFSETTO:-0400
TZNAME:EDT
DTSTART:20230312T070000
END:DAYLIGHT
BEGIN:STANDARD
TZOFFSETFROM:-0400
TZOFFSETTO:-0500
TZNAME:EST
DTSTART:20231105T060000
END:STANDARD
END:VTIMEZONE
BEGIN:VEVENT
DTSTART;TZID=America/New_York:20220412T183000
DTEND;TZID=America/New_York:20220412T203000
DTSTAMP:20260423T173426
CREATED:20210114T064431Z
LAST-MODIFIED:20231030T210736Z
UID:9667-1649788200-1649795400@www.naturalnurse.com
SUMMARY:[5-Part Series] Flower Essences for Emotional Health with Emily Ruff
DESCRIPTION:To register: https://www.holisticlivingschool.org/courses/flower-essences-for-emotional-health-fall-2023/\n\n\n\nIntroductions:\nEvery herbalist has a wealth of tools to promote physical well-being – but what about emotional health? Discover Flower Essences\, a plant based remedy to promote peace\, calm\, and mental well-being. We’re excited to announce an upcoming course that offers in depth experience working with these tools – to bring balance and harmony to you\, your family\, your pets and your clients. The course includes five live online classes\, a community of support\, personalized dosage formulas for experiential learning\, a workbook and several supplemental books. \nWhether you’re a practitioner or simply seeking self-care\, this course empowers you with tools for emotional wellness for a lifetime. \n\n\n Meet for live classes weekly to receive in-depth instruction and personalized mentorship\n Receive course workbook and eight complementary books for study and practical exercises\n Video classes are recorded for those who cannot make the live sessions and for later review\n Receive a bottle of Rescue Remedy / Five Flower Formula to start your journey to calm and peace\n Receive a personalized dosage bottle with a unique flower essence formula to continue your experiential learning\n Connect with other students via a digital community during class and for one full year\n Students in eligible professions may receive 26 Continuing Education Units (CEU) for successful completion of the course\n Your five session course begins Tuesday April 12 at 6:30 pm Eastern Time\n\nCourse Description:\n\n\nThis five part course explores the history of these remedies\, studies the core 38 essences in depth\, teaches you how to make and formulate\, and provide practical assessment tools for understanding their application. \n \n\n\n\n\nEnjoy a sample lesson from the course with instructor Emily Ruff\n\n\n\n\n\n\n  \nAbout Your Instructor\nEmily Ruff is a community herbalist who has practiced the art and science of plant healing for over a decade. Her studies have taken her around three continents where she has studied under healers of many traditions\, including an apprenticeship under renowned herbalist Rosemary Gladstar.\nHer background in gardening and botany came in childhood while wandering the wilderness and digging in the sandy soils of Florida with her grandfather\, a tobacco farmer turned urban gardener\, and her father\, a botany and astronomy professor. His love of the cosmos was instilled on his daughter at an early age through regular nighttime rituals of watching stars transit and planets journey across the skies. \nEmily’s classes have been described as “heart-filled\,” “enriching\,” and “empowering\,” creating a bridge between the teachings of our ancestors and the technologies of our modern world.
URL:https://www.naturalnurse.com/event/5-part-series-flower-essences-for-emotional-health-with-emily-ruff/
LOCATION:Online Course\, United States
CATEGORIES:2022 Events,Online Herbal Medicine Course,Sage Mountain Botanical Sanctuary
ATTACH;FMTTYPE=image/png:https://www.naturalnurse.com/wp-content/uploads/2021/01/Flower-Essences-April-12.png
ORGANIZER;CN="Florida School of Holistic Living":MAILTO:info@holisticlivingschool.org
END:VEVENT
BEGIN:VEVENT
DTSTART;TZID=America/New_York:20210203T190000
DTEND;TZID=America/New_York:20210203T210000
DTSTAMP:20260423T173426
CREATED:20210114T070549Z
LAST-MODIFIED:20210114T071222Z
UID:9674-1612378800-1612386000@www.naturalnurse.com
SUMMARY:[6-Part Series]  Creating an Herbal Toolkit for End of Life Care with Emily Ruff
DESCRIPTION:To register: https://sagemountain.com/end-of-life/ref/naturalnurse/\n\n\n\nIntroductions:\nThe upcoming course Creating an Herbal Toolkit for End of Life Care teaches herbal remedies\, nourishing recipes\, and foundational holistic knowledge for death doulas\, hospice workers\, and end-of-life caregivers. This six week course begins February 3rd and is delivered through a series of video classes and supplemental workbooks. Led by herbalist Emily Ruff and guest instructors\, this course helps students cultivate a deeper awareness and understanding of holistic tools to support caregivers\, family members\, and patients nearing the end of their life. \nCourse Description:\n\n\nThis six part course will explore the history of using herbs for death and dying\, establish a foundational knowledge of how to utilize teas\, essential oils\, simple nourishing foods and tonics\, and flower essences at the end of life\, experience assessment tools to employ to navigate how\, when and where to offer herbal remedies to patients and their family\, and empower students to build a personalized holistic tool kit to support their work in these settings.\nEnroll by January 25 and save $50\n\n\nEnjoy a sample lesson from the course with instructor Emily Ruff\n\n ENROLL NOW\nAbout Your Instructor\nEmily Ruff is a community herbalist who has practiced the art and science of plant healing for over a decade. Her studies have taken her around three continents where she has studied under healers of many traditions\, including an apprenticeship under renowned herbalist Rosemary Gladstar.\nHer background in gardening and botany came in childhood while wandering the wilderness and digging in the sandy soils of Florida with her grandfather\, a tobacco farmer turned urban gardener\, and her father\, a botany and astronomy professor. His love of the cosmos was instilled on his daughter at an early age through regular nighttime rituals of watching stars transit and planets journey across the skies. \nEmily’s classes have been described as “heart-filled\,” “enriching\,” and “empowering\,” creating a bridge between the teachings of our ancestors and the technologies of our modern world.
URL:https://www.naturalnurse.com/event/6-part-series-creating-an-herbal-toolkit-for-end-of-life-care-with-emily-ruff/
LOCATION:Online Course\, United States
CATEGORIES:2021 events,Online Herbal Medicine Course,Sage Mountain Botanical Sanctuary
ATTACH;FMTTYPE=image/jpeg:https://www.naturalnurse.com/wp-content/uploads/2021/01/End-of-Life-Banner-2.jpg
END:VEVENT
END:VCALENDAR