BEGIN:VCALENDAR
VERSION:2.0
PRODID:-//The Natural Nurse - ECPv6.15.17.1//NONSGML v1.0//EN
CALSCALE:GREGORIAN
METHOD:PUBLISH
X-ORIGINAL-URL:https://www.naturalnurse.com
X-WR-CALDESC:Events for The Natural Nurse
REFRESH-INTERVAL;VALUE=DURATION:PT1H
X-Robots-Tag:noindex
X-PUBLISHED-TTL:PT1H
BEGIN:VTIMEZONE
TZID:America/New_York
BEGIN:DAYLIGHT
TZOFFSETFROM:-0500
TZOFFSETTO:-0400
TZNAME:EDT
DTSTART:20160313T070000
END:DAYLIGHT
BEGIN:STANDARD
TZOFFSETFROM:-0400
TZOFFSETTO:-0500
TZNAME:EST
DTSTART:20161106T060000
END:STANDARD
BEGIN:DAYLIGHT
TZOFFSETFROM:-0500
TZOFFSETTO:-0400
TZNAME:EDT
DTSTART:20170312T070000
END:DAYLIGHT
BEGIN:STANDARD
TZOFFSETFROM:-0400
TZOFFSETTO:-0500
TZNAME:EST
DTSTART:20171105T060000
END:STANDARD
BEGIN:DAYLIGHT
TZOFFSETFROM:-0500
TZOFFSETTO:-0400
TZNAME:EDT
DTSTART:20180311T070000
END:DAYLIGHT
BEGIN:STANDARD
TZOFFSETFROM:-0400
TZOFFSETTO:-0500
TZNAME:EST
DTSTART:20181104T060000
END:STANDARD
BEGIN:DAYLIGHT
TZOFFSETFROM:-0500
TZOFFSETTO:-0400
TZNAME:EDT
DTSTART:20190310T070000
END:DAYLIGHT
BEGIN:STANDARD
TZOFFSETFROM:-0400
TZOFFSETTO:-0500
TZNAME:EST
DTSTART:20191103T060000
END:STANDARD
BEGIN:DAYLIGHT
TZOFFSETFROM:-0500
TZOFFSETTO:-0400
TZNAME:EDT
DTSTART:20200308T070000
END:DAYLIGHT
BEGIN:STANDARD
TZOFFSETFROM:-0400
TZOFFSETTO:-0500
TZNAME:EST
DTSTART:20201101T060000
END:STANDARD
BEGIN:DAYLIGHT
TZOFFSETFROM:-0500
TZOFFSETTO:-0400
TZNAME:EDT
DTSTART:20210314T070000
END:DAYLIGHT
BEGIN:STANDARD
TZOFFSETFROM:-0400
TZOFFSETTO:-0500
TZNAME:EST
DTSTART:20211107T060000
END:STANDARD
BEGIN:DAYLIGHT
TZOFFSETFROM:-0500
TZOFFSETTO:-0400
TZNAME:EDT
DTSTART:20220313T070000
END:DAYLIGHT
BEGIN:STANDARD
TZOFFSETFROM:-0400
TZOFFSETTO:-0500
TZNAME:EST
DTSTART:20221106T060000
END:STANDARD
BEGIN:DAYLIGHT
TZOFFSETFROM:-0500
TZOFFSETTO:-0400
TZNAME:EDT
DTSTART:20230312T070000
END:DAYLIGHT
BEGIN:STANDARD
TZOFFSETFROM:-0400
TZOFFSETTO:-0500
TZNAME:EST
DTSTART:20231105T060000
END:STANDARD
END:VTIMEZONE
BEGIN:VTIMEZONE
TZID:UTC
BEGIN:STANDARD
TZOFFSETFROM:+0000
TZOFFSETTO:+0000
TZNAME:UTC
DTSTART:20140101T000000
END:STANDARD
END:VTIMEZONE
BEGIN:VEVENT
DTSTART;TZID=America/New_York:20220611T130000
DTEND;TZID=America/New_York:20220611T150000
DTSTAMP:20260423T173447
CREATED:20220222T051556Z
LAST-MODIFIED:20220226T034529Z
UID:11305-1654952400-1654959600@www.naturalnurse.com
SUMMARY:2022 Wild Edible & Medicinal Herb Identification at Restoration Farm
DESCRIPTION:To register: https://www.restorationfarm.com/product-page/herb-identification-walk\nJoin Natural Nurse Ellen Kamhi PhD\, RN\, AHG \, as we walk the gardens and fields of Restoration Farm\, identifying and gathering edible and medicinal herbs. Participants should bring a bag or basket for gathering herbs. \n \n  \nFee: $25\n$20 for CSA members—must register at farm to receive discount\nIf you have any questions\, please call ‪(954) 418-2388\n\n  \n  \n 
URL:https://www.naturalnurse.com/event/2022-edible-medicinal-herb-walk-at-restoration-farm/
LOCATION:RESTORATION FARM\, 140 Bethpage-Sweet Hollow Road\, Old Bethpage\, NY\, 11804\, United States
CATEGORIES:2022 Events,Restoration Farm
ATTACH;FMTTYPE=image/jpeg:https://www.naturalnurse.com/wp-content/uploads/2022/02/Medicinal-Herbs-gathering-Restoration-Farm-2021-1600.jpg
ORGANIZER;CN="Restoration Farm":MAILTO:info@restorationfarm.com
END:VEVENT
BEGIN:VEVENT
DTSTART;TZID=America/New_York:20210911T130000
DTEND;TZID=America/New_York:20210911T150000
DTSTAMP:20260423T173448
CREATED:20210806T193555Z
LAST-MODIFIED:20260126T042104Z
UID:10584-1631365200-1631372400@www.naturalnurse.com
SUMMARY:2021 Autumn Wild Edible & Herb Identification Walk at Restoration Farm
DESCRIPTION:To register: https://www.restorationfarm.com/product-page/autumn-herb-identification-walk\nJoin Natural Nurse Ellen Kamhi PhD\, RN\, AHG \, as we walk the gardens and fields of Restoration Farm\, identifying and gathering edible and medicinal herbs that are available in Autumn. Participants may bring a bag or basket for gathering plant samples. \n \n  \nFee: $25\n$20 for CSA members — must register at farm to receive discount\nIf you have any questions\, please call (954) 418-2388\n\n  \n 
URL:https://www.naturalnurse.com/event/2021-autumn-wild-edible-herb-identification-walk-at-restoration-farm/
LOCATION:RESTORATION FARM\, 140 Bethpage-Sweet Hollow Road\, Old Bethpage\, NY\, 11804\, United States
CATEGORIES:2021 events,Restoration Farm
ATTACH;FMTTYPE=image/jpeg:https://www.naturalnurse.com/wp-content/uploads/2021/08/RF-autumn-herb-walk-1600x440-1.jpg
ORGANIZER;CN="Restoration Farm":MAILTO:info@restorationfarm.com
END:VEVENT
BEGIN:VEVENT
DTSTART;TZID=America/New_York:20210718T110000
DTEND;TZID=America/New_York:20210718T150000
DTSTAMP:20260423T173448
CREATED:20210223T172000Z
LAST-MODIFIED:20221003T230655Z
UID:9809-1626606000-1626620400@www.naturalnurse.com
SUMMARY:2021 Herbal Medicine Making Workshop
DESCRIPTION:To register: https://www.restorationfarm.com/product-page/herb-identification-walk-medicine-making-workshop\nThis is a two-part event. First\, participants walk the gardens and fields\, learning about and gathering wild medicinal herbs. Then\, participants assemble in the Tin House and process the herbs into simple tinctures\, salves\, and smudge sticks. Led by Ellen Kamhi\, PhD\, RN\, AHG\, AHN-BC\, and by Dr. Eugene Zampieron\, ND.\nParticipants should bring a bag to gather the herbs and 2-3 small jars for transporting home their own tinctures and skin salve. \n \nFee: $45 in advance (until July 15) \n$50 at the door \nHerb Package Discount \nSign up for both herb events (July 10th identification walk and July 18th walk and workshop)\, and receive $5 off total. \nIf you prefer to register by mail\, you can download the form here. Print and complete the form\, mail it with your check to the address listed. \nIf you have any questions\, please call ‪(954) 418-2388\nTo watch a preview of the herbal medicine making workshop\, please click the video link below: \n\n \n\nDr Z and The Natural Nurse Herb Funshop \nEllen Kamhi PhD RN\, THE NATURAL NURSE and Dr. Eugene Zampieron\, ND\, AHG\, teach classes on how to gather wild edible plants and make them into food and medicine! This class is a yearly event at Gilbertis Organic Herb Farm. We have many other classes all the time! \nPosted by The Natural Nurse on Tuesday\, May 17\, 2016 \n\nFeel free to share this event with your friends and families by clicking any of the sharing icon below.\n  \n 
URL:https://www.naturalnurse.com/event/2021-herbal-medicine-making-workshop/
LOCATION:RESTORATION FARM\, 140 Bethpage-Sweet Hollow Road\, Old Bethpage\, NY\, 11804\, United States
CATEGORIES:2021 events,Funshop,Herbal Worshops,Restoration Farm
ORGANIZER;CN="Restoration Farm":MAILTO:info@restorationfarm.com
END:VEVENT
BEGIN:VEVENT
DTSTART;TZID=America/New_York:20210710T130000
DTEND;TZID=America/New_York:20210710T150000
DTSTAMP:20260423T173448
CREATED:20210326T154409Z
LAST-MODIFIED:20221003T224800Z
UID:9951-1625922000-1625929200@www.naturalnurse.com
SUMMARY:2021 Edible & Medicinal Herb Walk at Restoration Farm
DESCRIPTION:To register: https://www.restorationfarm.com/product-page/herb-identification-walk\nJoin Natural Nurse Ellen Kamhi PhD\, RN\, AHG \, as we walk the gardens and fields of Restoration Farm\, identifying and gathering edible and medicinal herbs. Participants should bring a bag or basket for gathering herbs. \n \n  \nFee: $25\n$20 for CSA members & those registering for July 18th workshop—must register via mail or at farm to receive discount\nIf you have any questions\, please call 945-418-2388\n  \n  \n 
URL:https://www.naturalnurse.com/event/2021-edible-medicinal-herb-walk-at-restoration-farm/
LOCATION:RESTORATION FARM\, 140 Bethpage-Sweet Hollow Road\, Old Bethpage\, NY\, 11804\, United States
CATEGORIES:2021 events,Restoration Farm
ORGANIZER;CN="Restoration Farm":MAILTO:info@restorationfarm.com
END:VEVENT
BEGIN:VEVENT
DTSTART;TZID=America/New_York:20200712T110000
DTEND;TZID=America/New_York:20200712T150000
DTSTAMP:20260423T173448
CREATED:20200424T044659Z
LAST-MODIFIED:20210618T191910Z
UID:8650-1594551600-1594566000@www.naturalnurse.com
SUMMARY:2020 Herbal Medicine Making Workshop
DESCRIPTION:To register: https://www.restorationfarm.com/herbworkshops\nThis is a two-part event. First\, participants walk the gardens and fields\, learning about and gathering wild medicinal herbs. Then\, participants assemble in the Tin House and process the herbs into simple tinctures\, salves\, and smudge sticks. Led by Ellen Kamhi\, PhD\, RN\, AHG\, AHN-BC\, and by Dr. Eugene Zampieron\, ND.\nParticipants should bring a bag to gather the herbs and 2-3 small jars for transporting home their own tinctures and skin salve. \n \nFee: $45 in advance until July 10\, 2020. $50 at the door. \n Click Here to Register Online  or \nHerb Package Discount \nSign up for both herb events (June 13th identification walk and July 12th walk and workshop)\, and receive $5 off total. \nIf you prefer to register by mail\, you can download the form here. Print and complete the form\, mail it with your check to the address listed. \nIf you have any questions\, please call 800-829-0918\nTo watch a preview of the herbal medicine making workshop\, please click the video link below: \n\n \n\nDr Z and The Natural Nurse Herb Funshop \nEllen Kamhi PhD RN\, THE NATURAL NURSE and Dr. Eugene Zampieron\, ND\, AHG\, teach classes on how to gather wild edible plants and make them into food and medicine! This class is a yearly event at Gilbertis Organic Herb Farm. We have many other classes all the time! \nPosted by The Natural Nurse on Tuesday\, May 17\, 2016 \n\nFeel free to share this event with your friends and families by clicking any of the sharing icon below.\n 
URL:https://www.naturalnurse.com/event/2020-herbal-medicine-making-workshop-2/
LOCATION:RESTORATION FARM\, 140 Bethpage-Sweet Hollow Road\, Old Bethpage\, NY\, 11804\, United States
CATEGORIES:2020 events,Funshop,Herbal Worshops,Restoration Farm
ATTACH;FMTTYPE=image/jpeg:https://www.naturalnurse.com/wp-content/uploads/2020/04/Meds-making-jul12-2020.jpg
ORGANIZER;CN="Restoration Farm":MAILTO:info@restorationfarm.com
END:VEVENT
BEGIN:VEVENT
DTSTART;TZID=America/New_York:20200613T130000
DTEND;TZID=America/New_York:20200613T150000
DTSTAMP:20260423T173448
CREATED:20200424T043616Z
LAST-MODIFIED:20210618T191902Z
UID:8648-1592053200-1592060400@www.naturalnurse.com
SUMMARY:2020 Edible & Medicinal Herb Walk at Restoration Farm
DESCRIPTION:To register: https://www.restorationfarm.com/herbworkshops\nJoin Natural Nurse Ellen Kamhi PhD\, RN\, AHG \, as we walk the gardens and fields of Restoration Farm\, identifying and gathering edible and medicinal herbs. Participants should bring a bag or basket for gathering herbs. \n \n$20 for CSA members & those registering for July 12 workshop—must register via mail or at farm to receive discount\, otherwise\, click the button below to register. \n Click Here to Register Online\nor if you prefer to register by mail and pay with check\, you can download the form here\, print and mail it to the address on the form. \nIf you have any questions\, please call 800-829-0918\n  \n 
URL:https://www.naturalnurse.com/event/2020-edible-medicinal-herb-walk-at-restoration-farm-2/
LOCATION:RESTORATION FARM\, 140 Bethpage-Sweet Hollow Road\, Old Bethpage\, NY\, 11804\, United States
CATEGORIES:2020 events,Restoration Farm
ATTACH;FMTTYPE=image/jpeg:https://www.naturalnurse.com/wp-content/uploads/2020/04/Herb-walk-jun13-2020.jpg
ORGANIZER;CN="Restoration Farm":MAILTO:info@restorationfarm.com
END:VEVENT
BEGIN:VEVENT
DTSTART;TZID=America/New_York:20190623T110000
DTEND;TZID=America/New_York:20190623T150000
DTSTAMP:20260423T173448
CREATED:20190214T202846Z
LAST-MODIFIED:20190505T204801Z
UID:6609-1561287600-1561302000@www.naturalnurse.com
SUMMARY:2019 Herbal Medicine Making Workshop
DESCRIPTION:This is a two-part event. First\, participants walk the gardens and fields\, learning about and gathering wild medicinal herbs. Then\, participants assemble in the Tin House and process the herbs into simple tinctures\, salves\, and smudge sticks. Led by Ellen Kamhi\, PhD\, RN\, AHG\, AHN-BC\, and by Dr. Eugene Zampieron\, ND.\nParticipants should bring a bag and a small jar for transporting home their own skin salve. \n \nFee: $45 in advance until June 21\, 2019. $50 at the door. \n Register for herbal medicine making workshop\nHerb Package Discount \nSign up for both herb events (June 15th identification walk and June 23rd walk and workshop)\, and receive $5 off total. \nIf you have any questions\, please call 800-829-0918\nTo watch a preview of the herbal medicine making workshop\, please click the video link below: \n\n \n\nDr Z and The Natural Nurse Herb Funshop \nEllen Kamhi PhD RN\, THE NATURAL NURSE and Dr. Eugene Zampieron\, ND\, AHG\, teach classes on how to gather wild edible plants and make them into food and medicine! This class is a yearly event at Gilbertis Organic Herb Farm. We have many other classes all the time! \nPosted by The Natural Nurse on Tuesday\, May 17\, 2016 \n\nFeel free to share this event with your friends and families by clicking any of the sharing icon below.
URL:https://www.naturalnurse.com/event/2019-herbal-medicine-making-workshop/
LOCATION:RESTORATION FARM\, 140 Bethpage-Sweet Hollow Road\, Old Bethpage\, NY\, 11804\, United States
CATEGORIES:2019 events,Funshop,Herbal Worshops,Restoration Farm
ATTACH;FMTTYPE=image/png:https://www.naturalnurse.com/wp-content/uploads/2018/02/DrZ-EllenK-video-featured-img-1280x482-2.png
ORGANIZER;CN="Restoration Farm":MAILTO:info@restorationfarm.com
END:VEVENT
BEGIN:VEVENT
DTSTART;TZID=America/New_York:20190615T130000
DTEND;TZID=America/New_York:20190615T140000
DTSTAMP:20260423T173448
CREATED:20190214T193453Z
LAST-MODIFIED:20190505T194359Z
UID:6601-1560603600-1560607200@www.naturalnurse.com
SUMMARY:2019 Edible & Medicinal Herb Walk at Restoration Farm
DESCRIPTION:Join Natural Nurse Ellen Kamhi PhD\, RN\, AHG along with Master Herbalist Dr. Eugene Zampieron\, ND\, AHG\, as we walk the gardens and fields of Restoration Farm\, identifying and gathering edible and medicinal herbs. Participants should bring a bag or basket for gathering herbs. \n \n$20 for CSA members & those registering for June 23rd workshop—must register via mail or at farm to receive discount\, otherwise\, click the button below to register. \n Register for this herb walk\nIf you have any questions\, please call 800-829-0918\n \n 
URL:https://www.naturalnurse.com/event/2019-edible-medicinal-herb-walk-at-restoration-farm/
LOCATION:RESTORATION FARM\, 140 Bethpage-Sweet Hollow Road\, Old Bethpage\, NY\, 11804\, United States
CATEGORIES:2019 events,Restoration Farm
ATTACH;FMTTYPE=image/jpeg:https://www.naturalnurse.com/wp-content/uploads/2015/10/Slider-Ellen-herb-walk.jpg
ORGANIZER;CN="Restoration Farm":MAILTO:info@restorationfarm.com
END:VEVENT
BEGIN:VEVENT
DTSTART;TZID=America/New_York:20180624T110000
DTEND;TZID=America/New_York:20180624T150000
DTSTAMP:20260423T173448
CREATED:20180217T013246Z
LAST-MODIFIED:20180524T225556Z
UID:5124-1529838000-1529852400@www.naturalnurse.com
SUMMARY:Herbal Medicine Making Workshop
DESCRIPTION:This is a two-part event. First\, participants walk the gardens and fields\, learning about and gathering wild medicinal herbs. Then\, participants assemble in the Tin House and process the herbs into simple tinctures\, salves\, and smudge sticks. Led by Ellen Kamhi\, PhD\, RN\, AHG\, AHN-BC\, and by Dr. Eugene Zampieron\, ND.\nParticipants should bring a bag and a small jar for storing a tincture. \nFee: $45 in advance until June 22\, 2018. $50 at the door. \n Register for herbal medicine making workshop\nHerb Package Discount \nSign up for both herb events (June 9th identification walk and June 24th walk and workshop)\, and receive $5 off total. \nIf you have any questions\, please call 800-829-0918\nTo watch a preview of the herbal medicine making workshop\, please click the video link below: \n\n \n\nDr Z and The Natural Nurse Herb Funshop \nEllen Kamhi PhD RN\, THE NATURAL NURSE and Dr. Eugene Zampieron\, ND\, AHG\, teach classes on how to gather wild edible plants and make them into food and medicine! This class is a yearly event at Gilbertis Organic Herb Farm. We have many other classes all the time! \nPosted by The Natural Nurse on Tuesday\, May 17\, 2016 \n\nFeel free to share this event with your friends and families by clicking any of the sharing icon below.
URL:https://www.naturalnurse.com/event/herbal-medicine-making-workshop/
LOCATION:RESTORATION FARM\, 140 Bethpage-Sweet Hollow Road\, Old Bethpage\, NY\, 11804\, United States
CATEGORIES:2018 events,Funshop,Restoration Farm
ATTACH;FMTTYPE=image/png:https://www.naturalnurse.com/wp-content/uploads/2018/02/DrZ-EllenK-video-featured-img-1280x472.png
ORGANIZER;CN="The Natural Nurse":MAILTO:naturalalt@juno.com
END:VEVENT
BEGIN:VEVENT
DTSTART;TZID=America/New_York:20180609T130000
DTEND;TZID=America/New_York:20180609T140000
DTSTAMP:20260423T173448
CREATED:20160421T033812Z
LAST-MODIFIED:20180424T000510Z
UID:2558-1528549200-1528552800@www.naturalnurse.com
SUMMARY:Edible & Medicinal Herb Walk at Restoration Farm
DESCRIPTION:Join Natural Nurse Ellen Kamhi PhD\, RN\, AHG along with Master Herbalist Dr. Eugene Zampieron\, ND\, AHG\, as we walk the gardens and fields of Restoration Farm\, identifying and gathering edible and medicinal herbs. Participants should bring a bag or basket for gathering herbs. \n \n$20 for CSA members & those registering for June 24th workshop—must register via mail or at farm to receive discount\, otherwise\, click the button below to register. \n Register for this herb walk\nIf you have any questions\, please call 800-829-0918\n \n 
URL:https://www.naturalnurse.com/event/edible-medicinal-herb-walk-restoration-farm/
LOCATION:RESTORATION FARM\, 140 Bethpage-Sweet Hollow Road\, Old Bethpage\, NY\, 11804\, United States
CATEGORIES:2018 events,Funshop,Restoration Farm
ATTACH;FMTTYPE=image/jpeg:https://www.naturalnurse.com/wp-content/uploads/2015/10/Slider-Ellen-herb-walk.jpg
ORGANIZER;CN="Restoration Farm":MAILTO:info@restorationfarm.com
END:VEVENT
BEGIN:VEVENT
DTSTART;TZID=America/New_York:20170621T180000
DTEND;TZID=America/New_York:20170621T193000
DTSTAMP:20260423T173448
CREATED:20170313T164435Z
LAST-MODIFIED:20171216T192003Z
UID:2521-1498068000-1498073400@www.naturalnurse.com
SUMMARY:Summer Solstice Wild Medicinal Herb Walk
DESCRIPTION:Visit a REAL WORKING ORGANIC FARM- Right in Old Bethpage!\nDiscover the wild medicine growing right under your nose! Walk the gardens and fields identifying plants commonly disregarded as “weeds” and learn about their various medicinal properties. \n \nTo register\, please mail a check along with your contact information\nfor $20.00 to \nRESTORATION FARM\n12 Commerce Blvd. \nAmityville 11701 \nor contact Ellen Kamhi\, here  \nHerb Walk Restoration Farm 2017
URL:https://www.naturalnurse.com/event/wild-medicinal-herb-walk/
LOCATION:RESTORATION FARM\, 140 Bethpage-Sweet Hollow Road\, Old Bethpage\, NY\, 11804\, United States
CATEGORIES:2017 events,Herbal Worshops,Lectures,Restoration Farm
ATTACH;FMTTYPE=image/jpeg:https://www.naturalnurse.com/wp-content/uploads/2015/10/Slider-Ellen-herb-walk.jpg
ORGANIZER;CN="Restoration Farm":MAILTO:info@restorationfarm.com
END:VEVENT
BEGIN:VEVENT
DTSTART;TZID=UTC:20151103T180000
DTEND;TZID=UTC:20151103T193000
DTSTAMP:20260423T173448
CREATED:20151031T183120Z
LAST-MODIFIED:20151031T183539Z
UID:564-1446573600-1446579000@www.naturalnurse.com
SUMMARY:Feeling the Consciousness of Plants
DESCRIPTION:Integrate plants into your life\, soul\, and medicine\, and how to decide which remedy is the “right” one. Learn simple plant dowsing techniques and consider herb-drug interactions.
URL:https://www.naturalnurse.com/event/feeling-the-consciousness-of-plants-2/
LOCATION:RESTORATION FARM\, 140 Bethpage-Sweet Hollow Road\, Old Bethpage\, NY\, 11804\, United States
CATEGORIES:Restoration Farm
ATTACH;FMTTYPE=image/jpeg:https://www.naturalnurse.com/wp-content/uploads/2015/09/06_D2253_600w.jpg
END:VEVENT
BEGIN:VEVENT
DTSTART;TZID=UTC:20151029T180000
DTEND;TZID=UTC:20151029T193000
DTSTAMP:20260423T173448
CREATED:20150907T025307Z
LAST-MODIFIED:20151008T075353Z
UID:127-1446141600-1446147000@www.naturalnurse.com
SUMMARY:Feeling the Consciousness of Plants
DESCRIPTION:Integrate plants into your life\, soul\, and medicine\, and how to decide which remedy is the “right” one. Learn simple plant dowsing techniques and consider herb-drug interactions.
URL:https://www.naturalnurse.com/event/feeling-the-consciousness-of-plants/
LOCATION:RESTORATION FARM\, 140 Bethpage-Sweet Hollow Road\, Old Bethpage\, NY\, 11804\, United States
CATEGORIES:Restoration Farm
ATTACH;FMTTYPE=image/jpeg:https://www.naturalnurse.com/wp-content/uploads/2015/09/06_D2253_600w.jpg
END:VEVENT
END:VCALENDAR