BEGIN:VCALENDAR
VERSION:2.0
PRODID:-//The Natural Nurse - ECPv6.15.17.1//NONSGML v1.0//EN
CALSCALE:GREGORIAN
METHOD:PUBLISH
X-WR-CALNAME:The Natural Nurse
X-ORIGINAL-URL:https://www.naturalnurse.com
X-WR-CALDESC:Events for The Natural Nurse
REFRESH-INTERVAL;VALUE=DURATION:PT1H
X-Robots-Tag:noindex
X-PUBLISHED-TTL:PT1H
BEGIN:VTIMEZONE
TZID:America/New_York
BEGIN:DAYLIGHT
TZOFFSETFROM:-0500
TZOFFSETTO:-0400
TZNAME:EDT
DTSTART:20250309T070000
END:DAYLIGHT
BEGIN:STANDARD
TZOFFSETFROM:-0400
TZOFFSETTO:-0500
TZNAME:EST
DTSTART:20251102T060000
END:STANDARD
BEGIN:DAYLIGHT
TZOFFSETFROM:-0500
TZOFFSETTO:-0400
TZNAME:EDT
DTSTART:20260308T070000
END:DAYLIGHT
BEGIN:STANDARD
TZOFFSETFROM:-0400
TZOFFSETTO:-0500
TZNAME:EST
DTSTART:20261101T060000
END:STANDARD
BEGIN:DAYLIGHT
TZOFFSETFROM:-0500
TZOFFSETTO:-0400
TZNAME:EDT
DTSTART:20270314T070000
END:DAYLIGHT
BEGIN:STANDARD
TZOFFSETFROM:-0400
TZOFFSETTO:-0500
TZNAME:EST
DTSTART:20271107T060000
END:STANDARD
END:VTIMEZONE
BEGIN:VEVENT
DTSTART;TZID=America/New_York:20260613T130000
DTEND;TZID=America/New_York:20260613T150000
DTSTAMP:20260423T173246
CREATED:20260119T203500Z
LAST-MODIFIED:20260120T054127Z
UID:22723-1781355600-1781362800@www.naturalnurse.com
SUMMARY:2026 Wild Edible & Medicinal Herb Identification at Restoration Farm
DESCRIPTION:To register: https://www.restorationfarm.com/product-page/herb-identification-walk\n  \nJoin Natural Nurse Ellen Kamhi PhD\, RN\, AHG \, as she leads a meandering walk through the gardens and fields of the Restoration Farm in Old Bethpage (NY)\, identifying herbs and edibles commonly dismissed as weeds and discussing their medicinal properties and safety. Sun hat and water bottle are recommended. \n \nHere are some herbs that we may see and many more to explore: \nRed Clover\, Garlic Mustard\, Yarrow\, Mugwort\n  \nFee: $30\nIf you have any questions\, please call ‪(954) 418-2388\n\nImage credit: \nRed Clover Image by Couleur from Pixabay\nGarlic Mustard Image by Agata Sochalska from Pixabay\nYarrow Image by Jürgen from Pixabay\nMugwort Image by Wild Food UK
URL:https://www.naturalnurse.com/event/2026-wild-edible-medicinal-herb-identification-at-restoration-farm/
LOCATION:RESTORATION FARM\, 140 Bethpage-Sweet Hollow Road\, Old Bethpage\, NY\, 11804\, United States
CATEGORIES:2026 Events,Restoration Farm
ATTACH;FMTTYPE=image/jpeg:https://www.naturalnurse.com/wp-content/uploads/2015/12/Herb-Walk-Restoration-Farm-2017-4-e1508636513191.jpg
ORGANIZER;CN="Restoration Farm":MAILTO:info@restorationfarm.com
END:VEVENT
END:VCALENDAR