BEGIN:VCALENDAR
VERSION:2.0
PRODID:-//The Natural Nurse - ECPv6.15.17.1//NONSGML v1.0//EN
CALSCALE:GREGORIAN
METHOD:PUBLISH
X-WR-CALNAME:The Natural Nurse
X-ORIGINAL-URL:https://www.naturalnurse.com
X-WR-CALDESC:Events for The Natural Nurse
REFRESH-INTERVAL;VALUE=DURATION:PT1H
X-Robots-Tag:noindex
X-PUBLISHED-TTL:PT1H
BEGIN:VTIMEZONE
TZID:America/New_York
BEGIN:DAYLIGHT
TZOFFSETFROM:-0500
TZOFFSETTO:-0400
TZNAME:EDT
DTSTART:20150308T070000
END:DAYLIGHT
BEGIN:STANDARD
TZOFFSETFROM:-0400
TZOFFSETTO:-0500
TZNAME:EST
DTSTART:20151101T060000
END:STANDARD
BEGIN:DAYLIGHT
TZOFFSETFROM:-0500
TZOFFSETTO:-0400
TZNAME:EDT
DTSTART:20160313T070000
END:DAYLIGHT
BEGIN:STANDARD
TZOFFSETFROM:-0400
TZOFFSETTO:-0500
TZNAME:EST
DTSTART:20161106T060000
END:STANDARD
BEGIN:DAYLIGHT
TZOFFSETFROM:-0500
TZOFFSETTO:-0400
TZNAME:EDT
DTSTART:20170312T070000
END:DAYLIGHT
BEGIN:STANDARD
TZOFFSETFROM:-0400
TZOFFSETTO:-0500
TZNAME:EST
DTSTART:20171105T060000
END:STANDARD
END:VTIMEZONE
BEGIN:VTIMEZONE
TZID:UTC
BEGIN:STANDARD
TZOFFSETFROM:+0000
TZOFFSETTO:+0000
TZNAME:UTC
DTSTART:20140101T000000
END:STANDARD
END:VTIMEZONE
BEGIN:VEVENT
DTSTART;TZID=America/New_York:20161018T190000
DTEND;TZID=America/New_York:20161018T203000
DTSTAMP:20260424T000423
CREATED:20160920T030549Z
LAST-MODIFIED:20201021T040605Z
UID:3073-1476817200-1476822600@www.naturalnurse.com
SUMMARY:Botanical Remedies for Pain [Online]
DESCRIPTION:3 CEUs are offered for Massage Therapists\, Dietitians\, Nurses\, and Midwives\n\nCurrent medical literature is documenting the link between inflammation and degenerative illnesses\, including Arthritis\, Alzheimer’s\, Diabetes\, Heart disease and Cancer. Societies around the globe have experimented with natural remedies that modulate inflammation for centuries. Scientific evidence supports many of these traditional therapeutics\, which have a much better risk to benefit profile than conventional drugs such as Vioxx\, Celebrex and NSAID’s\, especially for long term use. In this presentation we will discuss the basic etiology and range of substantiated natural constituents that may help prevent or ameliorate inflammation. \nFor each botanical\, we will elucidate: \n\n traditional/folkloric use\n chemical constituents\n possible mechanism of action\n suggested dosage\n cautions including possible herb/drug interactions\n\nTrack: Beginner to Intermediate \nLearn to: \n\nList 5 specific botanicals that have proven anti-inflammatory effects\nCompare and contrast the safety and efficacy of at least two botanicals and standard pharmaceutical drugs\nRecognize the potential for herb drug interactions and possible adverse effects\n\nTuition: $35\nEarly Bird Registration of $25 available until October 4th\nREGISTER: http://www.holisticlivingschool.org/events/online-botanical-remedies-for-inflammation-2/
URL:https://www.naturalnurse.com/event/botanical-remedies-pain-online/
LOCATION:Online Course\, United States
CATEGORIES:2016 events,Holistic Living School,Online Herbal Medicine Course
ATTACH;FMTTYPE=image/jpeg:https://www.naturalnurse.com/wp-content/uploads/2016/09/botanical-remedies-for-pains-1600x440-1.jpg
ORGANIZER;CN="Florida School of Holistic Living":MAILTO:info@holisticlivingschool.org
END:VEVENT
BEGIN:VEVENT
DTSTART;TZID=America/New_York:20160921T130000
DTEND;TZID=America/New_York:20160921T140000
DTSTAMP:20260424T000423
CREATED:20160828T210007Z
LAST-MODIFIED:20230223T031923Z
UID:2964-1474462800-1474466400@www.naturalnurse.com
SUMMARY:CE Credit for Nurses: Scientific Validation of Botanical Remedies
DESCRIPTION:CE credits for Nurses- Open to All! \nBOTANICALS: Scientific Validation of Herbal Medicine \nJoin Ellen Kamhi PhD RN for a discussion about the ‘inside story’ of how herbs actually work. We will transverse the indiginous traditional use and delve into the depths of scientific validity. Why does berberine kill bacteria without causing the development of resistant strains? How does Red Yeast Rice interfere with cellular pathways to inhibit Co Q 10? Does silymarin upregulate the P 450 Liver Enzymes to enhance Detoxification?  Understand mechanisms of action of how herbs heal \, along with possible adverse effects and herb drug interactions. \n $8-members\, $10-non-members \nREGISTER: \nhttp://www.ahna.org/Home/Shop-AHNA/Continuing-Nursing-Education \nor call American Holistic Nurses Association     (800) 278-2462
URL:https://www.naturalnurse.com/event/ce-credit-nurses-scientific-validation-botanical-remedies/
LOCATION:Online Course\, United States
CATEGORIES:2016 events,Online Herbal Medicine Course
ATTACH;FMTTYPE=image/png:https://www.naturalnurse.com/wp-content/uploads/2016/02/American-holistic-nurses-e1474330137427.png
END:VEVENT
BEGIN:VEVENT
DTSTART;TZID=America/New_York:20160817T190000
DTEND;TZID=America/New_York:20160817T200000
DTSTAMP:20260424T000423
CREATED:20160421T183835Z
LAST-MODIFIED:20171216T211758Z
UID:2570-1471460400-1471464000@www.naturalnurse.com
SUMMARY:Botanical Remedies for Inflammation (Online)
DESCRIPTION:Current medical literature is documenting the link between inflammation and degenerative illnesses\, including Arthritis\, Alzheimer’s\, Diabetes\, Heart disease and Cancer. Societies around the globe have experimented with natural remedies that modulate inflammation for centuries. Scientific evidence supports many of these traditional therapeutics\, which have a much better risk to benefit profile than conventional drugs such as Vioxx\, Celebrex and NSAID’s\, especially for long term use. In this presentation we will discuss the basic etiology and range of substantiated natural constituents that may help prevent or ameliorate inflammation. \n \nFor each botanical\, we will elucidate: \n\n traditional/folkloric use\n chemical constituents\n possible mechanism of action\n suggested dosage\n cautions including possible herb/drug interactions\n\nTrack: Beginner to Intermediate \nLearn to: \n\nList 5 specific botanicals that have proven anti-inflammatory effects\nCompare and contrast the safety and efficacy of at least two botanicals and standard pharmaceutical drugs\nRecognize the potential for herb drug interactions and possible adverse effects\n\nTuition: $35\nEarly Bird Registration of $25 available until August 3rd \nPlease review this link for our school’s tuition and cancellation policies.
URL:https://www.naturalnurse.com/event/botanical-remedies-inflammation-online/
LOCATION:Online Course\, United States
CATEGORIES:2016 events,Online Herbal Medicine Course
ATTACH;FMTTYPE=image/gif:https://www.naturalnurse.com/wp-content/uploads/2015/11/newlogo-e1453134148390.gif
ORGANIZER;CN="Florida School of Holistic Living":MAILTO:info@holisticlivingschool.org
END:VEVENT
BEGIN:VEVENT
DTSTART;TZID=America/New_York:20160312T093000
DTEND;TZID=America/New_York:20160312T110000
DTSTAMP:20260424T000423
CREATED:20160307T144422Z
LAST-MODIFIED:20171216T210813Z
UID:2356-1457775000-1457780400@www.naturalnurse.com
SUMMARY:The Basics of Herbal Medicine (Online)
DESCRIPTION:Take full series of 4 classes\, or any class individually \nSession I  \nEssential vocabulary extracts\, tinctures\, capsules\, infusions\, and decoctions\, as well as the safety and efficacy of herbal medicines. \nThis series offers 18 CEUs for Florida Licensed Massage Therapists\, Dietitians\, Nurses\, Midwives\, Acupuncture Physicians\, and Nutrition Counselors. \nRegister: \nhttp://www.holisticlivingschool.org/events/online-the-natural-nurse-herbal-medicine-course-class-one-the-basics-of-herbal-medicine/
URL:https://www.naturalnurse.com/event/the-basics-of-herbal-medicine-online/
LOCATION:ONLINE
CATEGORIES:2016 events,Online Herbal Medicine Course
ATTACH;FMTTYPE=image/gif:https://www.naturalnurse.com/wp-content/uploads/2015/11/newlogo-e1453134148390.gif
END:VEVENT
BEGIN:VEVENT
DTSTART;TZID=UTC:20151024T093000
DTEND;TZID=UTC:20151024T110000
DTSTAMP:20260424T000423
CREATED:20150907T065944Z
LAST-MODIFIED:20201021T030959Z
UID:131-1445679000-1445684400@www.naturalnurse.com
SUMMARY:Herbal Certification Course Online - Botany & Botanical Nomenclature
DESCRIPTION:This class\, offered by nurse and herbalist Ellen Kamhi\, RN\, is designed to offer flexibility for beginning or advanced herbal students. Use this series of classes to ignite your inspiration towards better health with practical plant-based tools. Feel free to attend any one class on an individual basis\, or all four of the classes in the series. Now offered ONLINE! \nJoin nurse and herbalist Ellen Kamhi for an empowering and enriching journey into basic herbal medicine.  Attend any one of the four workshops as a drop-in course\, or attend the entire series for a discount.  Practitioners wishing to receive Continuing Education Units must attend the full series\, pay the CEU processing fee\, and complete all assignments. \nThis class meets for four Saturdays over a four month period\, from 9:30-11 am.  The class will be live with the other participants and the instructor in real time. It will be interactive with question and answer sessions. \nYou will receive the Call-in number for the class at the time of registration\, along with links to Power Points and other learning tools that we will use as instructional materials during class. If you miss a class\, you can make it up anytime before the end of the course\, by calling into the recording of the class. Assignments can be emailed to instructor. Capstone Herbal Preparation Project will need to be ‘snail mailed’ to instructor. All attendees who complete the full series and submit all assignments will receive a Certificate of Completion from the Florida School of Holistic Living. \nParticipants can choose to take the course for their own personal learning\, and will not be required to do the assignments.\nStudents may register for a single class\, or for the full four-part series.\nThis registration page is for the second class.\n \nClass 2—Botany & Botanical Nomenclature Saturday September 12\nLecture covers the importance of Latin names when communicating with other herbalists\, the Doctrine of Signatures\, and Shamanic health rituals. \n  \nPlease click the links of class titles below to register for one individual class. \nClass 1—The Basics of Herbal Medicine (click here) Saturday August 8\nLecture covers essential vocabulary\, such as extracts\, tinctures\, capsules\, infusions\, and decoctions\, as well as the safety and efficacy of herbal medicines. \nClass 3—Using Herbs for Yourself and Your Family  (click here) Saturday October 10\nLecture covers common herbal “first aids” for colds and flu\, ear infections\, stomach upsets\, and other mild heath issues. \nClass 4—Feeling the Consciousness of Plants  (click here) Saturday November 14\nLecture covers how to integrate plants into your life\, soul\, and medicine\, and how to decide which remedy is the “right” one. Learn simple plant dowsing techniques and consider herb-drug interactions. \nFull Series – (click here) \n  \nCourse Fee\n$50 per class\, or\n$180 for entire course (must be paid in advance)\n$195 for entire course to include CEU processing\nThis registration page is for the full series.  Please click the links of class titles above to register for one individual class. \nCEU Certificates\nRecommended for all interested individuals\, as well as natural health professionals. Participants will receive a certificate indicating level of course work and hours of study completed.\nTo receive CEU’s participants must:\n+ Attend all four classes\n+ Purchase course text book\, The Natural Medicine Chest\, by Ellen Kamhi\, PhD RN and Eugene Zampieron\, ND (available online\, copies will be available for purchase at first class)\n+ Complete homework assignments\n+ Pay an additional $15 CEU fee \nThis series offers 18 CEUs for Florida Licensed Massage Therapists\, Dietitians\, and Nutrition Counselors. \nMissed classes can be made up by reviewing recorded classes prior to the end of the course. \nThis class is hosted virtually\, and the call-in number will be provided upon registration.
URL:https://www.naturalnurse.com/event/herbal-certification-course-online-botany-botanical-nomenclature/
LOCATION:Online Course\, United States
CATEGORIES:Online Herbal Medicine Course
ATTACH;FMTTYPE=image/jpeg:https://www.naturalnurse.com/wp-content/uploads/2015/09/ellen-kamhi-online-course.jpg
ORGANIZER;CN="Florida School of Holistic Living":MAILTO:info@holisticlivingschool.org
END:VEVENT
END:VCALENDAR