BEGIN:VCALENDAR
VERSION:2.0
PRODID:-//The Natural Nurse - ECPv6.15.17.1//NONSGML v1.0//EN
CALSCALE:GREGORIAN
METHOD:PUBLISH
X-ORIGINAL-URL:https://www.naturalnurse.com
X-WR-CALDESC:Events for The Natural Nurse
REFRESH-INTERVAL;VALUE=DURATION:PT1H
X-Robots-Tag:noindex
X-PUBLISHED-TTL:PT1H
BEGIN:VTIMEZONE
TZID:America/New_York
BEGIN:DAYLIGHT
TZOFFSETFROM:-0500
TZOFFSETTO:-0400
TZNAME:EDT
DTSTART:20150308T070000
END:DAYLIGHT
BEGIN:STANDARD
TZOFFSETFROM:-0400
TZOFFSETTO:-0500
TZNAME:EST
DTSTART:20151101T060000
END:STANDARD
BEGIN:DAYLIGHT
TZOFFSETFROM:-0500
TZOFFSETTO:-0400
TZNAME:EDT
DTSTART:20160313T070000
END:DAYLIGHT
BEGIN:STANDARD
TZOFFSETFROM:-0400
TZOFFSETTO:-0500
TZNAME:EST
DTSTART:20161106T060000
END:STANDARD
BEGIN:DAYLIGHT
TZOFFSETFROM:-0500
TZOFFSETTO:-0400
TZNAME:EDT
DTSTART:20170312T070000
END:DAYLIGHT
BEGIN:STANDARD
TZOFFSETFROM:-0400
TZOFFSETTO:-0500
TZNAME:EST
DTSTART:20171105T060000
END:STANDARD
END:VTIMEZONE
BEGIN:VEVENT
DTSTART;TZID=America/New_York:20160526T110000
DTEND;TZID=America/New_York:20160526T120000
DTSTAMP:20260424T004748
CREATED:20160505T051518Z
LAST-MODIFIED:20171216T211154Z
UID:2622-1464260400-1464264000@www.naturalnurse.com
SUMMARY:Lecture: Natural Medicine- Herbs for Pain
DESCRIPTION:Ellen Kamhi PhD\, RN\, AHG\, AHN-BC\, shares evidence based information about useful natural remedies for pain. With increasing knowledge about the negative effects of pharmaceutical pain medications\, including irreversible and fatal health issues\, addiction\, and worsening of inflammation over time\, many people are choosing natural interventions. \nLearn about: \n\nFoods\nVitamins\nHerbs\nHomeopathics\nAnd more! ……………
URL:https://www.naturalnurse.com/event/natural-medicine-herbs-pain/
LOCATION:Life Enrichment Center\, 45 E Main St\, Oyster Bay\, NY\, 11771\, United States
CATEGORIES:2016 events,Lectures
ATTACH;FMTTYPE=image/png:https://www.naturalnurse.com/wp-content/uploads/2016/05/supplement-for-pains.png
END:VEVENT
BEGIN:VEVENT
DTSTART;TZID=America/New_York:20160209T190000
DTEND;TZID=America/New_York:20160209T203000
DTSTAMP:20260424T004748
CREATED:20160202T191756Z
LAST-MODIFIED:20171216T210358Z
UID:2176-1455044400-1455049800@www.naturalnurse.com
SUMMARY:FREE EVENT! Leaky Gut: The Role of Compromised Intestinal Permeability
DESCRIPTION:Leaky Gut: The Role of Compromised Intestinal Permeability in the Inflammatory Process\, and evidence based Natural Interventions!\nFree and Open to the Public
URL:https://www.naturalnurse.com/event/leaky-gut-the-role-of-compromised-intestinal-permeability/
LOCATION:Broward Health Imperial Point Auditorium A and B on 1stFloor\, 6401 N Federal Highway\, Fort Lauderdale\, FL\, United States
CATEGORIES:2016 events,Lectures
ATTACH;FMTTYPE=image/png:https://www.naturalnurse.com/wp-content/uploads/2016/02/American-holistic-nurses-e1474330137427.png
ORGANIZER;CN="Unnamed Organizer":MAILTO:marciag@bellsouth.net
END:VEVENT
BEGIN:VEVENT
DTSTART;TZID=America/New_York:20160121T130000
DTEND;TZID=America/New_York:20160121T140000
DTSTAMP:20260424T004748
CREATED:20151204T020406Z
LAST-MODIFIED:20171216T204040Z
UID:713-1453381200-1453384800@www.naturalnurse.com
SUMMARY:Herbs for the Menopause Years and Beyond!
DESCRIPTION:Pen Women’s Luncheon \nLecture on: Herbs for the Menopause Years and Beyond!
URL:https://www.naturalnurse.com/event/herbs-for-the-menopause-years-and-beyond/
LOCATION:NY
CATEGORIES:2016 events,Lectures
ATTACH;FMTTYPE=image/jpeg:https://www.naturalnurse.com/wp-content/uploads/2015/12/black-cohosh-969277_1600.jpg
END:VEVENT
BEGIN:VEVENT
DTSTART;TZID=America/New_York:20160119T193000
DTEND;TZID=America/New_York:20160119T213000
DTSTAMP:20260424T004748
CREATED:20151204T012500Z
LAST-MODIFIED:20171216T204002Z
UID:708-1453231800-1453239000@www.naturalnurse.com
SUMMARY:Crystallization Patterns a Key to the interaction between Energetic Essence and Biological Systems
DESCRIPTION:
URL:https://www.naturalnurse.com/event/crystallization-patterns-a-key-to-the-interaction-between-energetic-essence-and-biological-systems/
LOCATION:NY
CATEGORIES:2016 events,Lectures
ATTACH;FMTTYPE=image/jpeg:https://www.naturalnurse.com/wp-content/uploads/2015/12/ice-668367_1600.jpg
END:VEVENT
END:VCALENDAR