BEGIN:VCALENDAR
VERSION:2.0
PRODID:-//The Natural Nurse - ECPv6.15.17.1//NONSGML v1.0//EN
CALSCALE:GREGORIAN
METHOD:PUBLISH
X-ORIGINAL-URL:https://www.naturalnurse.com
X-WR-CALDESC:Events for The Natural Nurse
REFRESH-INTERVAL;VALUE=DURATION:PT1H
X-Robots-Tag:noindex
X-PUBLISHED-TTL:PT1H
BEGIN:VTIMEZONE
TZID:America/New_York
BEGIN:DAYLIGHT
TZOFFSETFROM:-0500
TZOFFSETTO:-0400
TZNAME:EDT
DTSTART:20150308T070000
END:DAYLIGHT
BEGIN:STANDARD
TZOFFSETFROM:-0400
TZOFFSETTO:-0500
TZNAME:EST
DTSTART:20151101T060000
END:STANDARD
BEGIN:DAYLIGHT
TZOFFSETFROM:-0500
TZOFFSETTO:-0400
TZNAME:EDT
DTSTART:20160313T070000
END:DAYLIGHT
BEGIN:STANDARD
TZOFFSETFROM:-0400
TZOFFSETTO:-0500
TZNAME:EST
DTSTART:20161106T060000
END:STANDARD
BEGIN:DAYLIGHT
TZOFFSETFROM:-0500
TZOFFSETTO:-0400
TZNAME:EDT
DTSTART:20170312T070000
END:DAYLIGHT
BEGIN:STANDARD
TZOFFSETFROM:-0400
TZOFFSETTO:-0500
TZNAME:EST
DTSTART:20171105T060000
END:STANDARD
BEGIN:DAYLIGHT
TZOFFSETFROM:-0500
TZOFFSETTO:-0400
TZNAME:EDT
DTSTART:20180311T070000
END:DAYLIGHT
BEGIN:STANDARD
TZOFFSETFROM:-0400
TZOFFSETTO:-0500
TZNAME:EST
DTSTART:20181104T060000
END:STANDARD
BEGIN:DAYLIGHT
TZOFFSETFROM:-0500
TZOFFSETTO:-0400
TZNAME:EDT
DTSTART:20190310T070000
END:DAYLIGHT
BEGIN:STANDARD
TZOFFSETFROM:-0400
TZOFFSETTO:-0500
TZNAME:EST
DTSTART:20191103T060000
END:STANDARD
END:VTIMEZONE
BEGIN:VEVENT
DTSTART;TZID=America/New_York:20180509T183000
DTEND;TZID=America/New_York:20180509T200000
DTSTAMP:20260423T215133
CREATED:20180503T181957Z
LAST-MODIFIED:20180503T205742Z
UID:5397-1525890600-1525896000@www.naturalnurse.com
SUMMARY:[May 2018] Spring Cleaning Herbs - AHG Long Island Chapter Meeting
DESCRIPTION:Please join us on Wednesday May 9\, 2018 at 6:30pm for Nice Evening – Herb Walk\nInclement/Cool and a lecture about “Spring Cleaning” Herbs with Ellen Kamhi PhD\, RN\, RH(AHG) at the library.
URL:https://www.naturalnurse.com/event/spring-cleaning-herbs-ahg-long-island/
LOCATION:Oyster Bay- East Norwich Library\, 89 E Main St\, Oyster Bay\, NY\, 11771\, United States
CATEGORIES:2018 events,Lectures
ATTACH;FMTTYPE=image/jpeg:https://www.naturalnurse.com/wp-content/uploads/2017/07/ahg-logo.jpeg
ORGANIZER;CN="Angus Towse":MAILTO:longisland.ahg@gmail.com
END:VEVENT
BEGIN:VEVENT
DTSTART;TZID=America/New_York:20180326T190000
DTEND;TZID=America/New_York:20180326T210000
DTSTAMP:20260423T215133
CREATED:20180317T163017Z
LAST-MODIFIED:20180317T164330Z
UID:5225-1522090800-1522098000@www.naturalnurse.com
SUMMARY:Divine Goddesses Gathering: Herbs and Extraterrestrials
DESCRIPTION:We gather again this month after a little hiatus of postponement from last month\, on Monday\, March 26th\, at 7pm at the gracious home of one of the Divine Goddesses at 6867 Paul Mar Dr. in Lake Worth\, 33462 ( Exit at Hypoluxo off I95\, left\, west for three blocks\, make right onto her street\, house on the left\, middle of block). \nBring your favorite potluck dish to share with others and show appreciation with Love Offering of five dollars\, and efforts of clearing and cleaning afterwards. \nWe are honored to receive a presentation from Dr. Ellen Kamhi who will share with us her amazingly awesome life experiences that she has garnered from around the world. Be ready to enjoy and hear the exciting and divine life of an enlightened spiritual creator and healer. Invite your divine sisters and friends to an evening of wonderment and mind expanding information that brings growth and excitement regarding this beautiful life we all are blessed to embrace.
URL:https://www.naturalnurse.com/event/divine-goddesses-gathering-herbs-and-extraterrestrials/
LOCATION:Private Home at Lake Worth\, Lake Worth\, FL\, 33462\, United States
CATEGORIES:2018 events,Lectures
ATTACH;FMTTYPE=image/jpeg:https://www.naturalnurse.com/wp-content/uploads/2018/03/Herbs-ET_1600x440.jpg
ORGANIZER;CN="Shelly Kalef":MAILTO:shellykalef@gmail.com
END:VEVENT
BEGIN:VEVENT
DTSTART;TZID=America/New_York:20180213T190000
DTEND;TZID=America/New_York:20180213T200000
DTSTAMP:20260423T215133
CREATED:20180121T211655Z
LAST-MODIFIED:20180320T204611Z
UID:5009-1518548400-1518552000@www.naturalnurse.com
SUMMARY:Gut - Brain - Microbiome - Pineal - Physical\, Psycho-Spiritual\, Communication Connections
DESCRIPTION:American Holistic Nurses Association\, Fort Lauderdale Chapter Meeting \nThe Microbiome is a cohesive group of resident micro-organisms that have a wide ranging affect on many areas of the body\, including the gastrointestinal tract as well as the blood–brain barrier. Dysbiosis\, intestinal permeability and other factors have been clearly linked to systemic pro-inflammatory signaling\, which can promote inflammatory neuro-degeneration. Deeper analysis alludes to the presence of universal signals that are channels for interspecies communication\, that different species of bacteria utilize to enhance cooperative actions\, and may also be a channel of communication between the gut and the brain. The pineal gland is the seat of the production of melatonin\, Dimethyltryptamine (DMT)\, and other substances that are involved in circadian rhythms which effect sleep patterns as well as both gut and brain wellness.\n \nIn this presentation\, we will review the physical and psycho-spiritual communication connections involved in the Gut-Brain-Microbiome and the role of the pineal gland and melatonin in these complex interactions. We will also discuss specific botanicals that can be utilized to help balance and enhance endogenous production of melatonin. \nJohanne’s cell phone will be posted on the door She can come down and let you in. \nContact Marcia for more Information : 954-494-2849.
URL:https://www.naturalnurse.com/event/gut-brain-microbiome-pineal-physical-psycho-spiritual-communication-connections/
LOCATION:FL
CATEGORIES:2018 events,Lectures
ATTACH;FMTTYPE=image/jpeg:https://www.naturalnurse.com/wp-content/uploads/2018/01/gut-brain-microbiome_1600x628.jpg
ORGANIZER;CN="American Holistic Nurse Association Healing Light Chapter  of Broward County":MAILTO:cinemaxx75@gmail.com
END:VEVENT
BEGIN:VEVENT
DTSTART;TZID=America/New_York:20171020T160000
DTEND;TZID=America/New_York:20171020T170000
DTSTAMP:20260423T215133
CREATED:20170927T203242Z
LAST-MODIFIED:20171216T202550Z
UID:4580-1508515200-1508518800@www.naturalnurse.com
SUMMARY:Adventures in Natural Nursing at NYU Rory Meyers College of Nursing
DESCRIPTION:CEU Contact Hour1.0 Continuing Education Contact Hour is provided by NYU Rory Meyers College of Nursing\nEllen Kamhi graduated Nursing School in 1973\, and has focused on natural\, traditional healing methods from around the world since 1964. With increasing research supporting evidence based natural interventions as the best choice to offer high efficacy treatments with a low adverse effect profile for most health imbalances\, she supports including natural therapies into nursing standards of practice. As a member of the American Holistic Nurses Association\, and the American Herbalist Guild\, she mentors health professionals to become certified as natural health care providers\, though her course CAREER PATHS IN NATURAL HEALTH   Dr. Kamhi is the author of many books on natural medicine\, and offers thousands of topic specific  no-cost radio shows and podcasts. \nSome of the topics that will be discussed during this presentation are: \n\nIndigenous traditional medicine supported by scientific evidence\nCareer Paths in Natural Health\nSharing Natural Health Information via books\, radio\, podcasts\, social media\n\nPlease reserve your space by sending an email to rsvp.upsilon@gmail.com or call 800-829-0918 \nUpsilon October Education Event 2017
URL:https://www.naturalnurse.com/event/adventures-natural-nursing-nyu-rory-meyers-college-nursing/
LOCATION:FL
CATEGORIES:2017 events,Lectures
ATTACH;FMTTYPE=image/png:https://www.naturalnurse.com/wp-content/uploads/2016/01/Ellen-2014-round-blurred-edge-620x625-level-e1506544106752.png
ORGANIZER;CN="The Natural Nurse":MAILTO:naturalalt@juno.com
END:VEVENT
BEGIN:VEVENT
DTSTART;TZID=America/New_York:20170712T183000
DTEND;TZID=America/New_York:20170712T200000
DTSTAMP:20260423T215133
CREATED:20170313T191301Z
LAST-MODIFIED:20171216T192611Z
UID:2736-1499884200-1499889600@www.naturalnurse.com
SUMMARY:[July 2017] American Herbalist Guild (AHG) Long Island Chapter Meeting
DESCRIPTION:Free and Open to All\n\nLecture on Herbal Medicine for Allergies Plus Wild Plant Walk\n \nBEACH WALK – MEDICINAL WILD HERBS (weather permitting)\nMeet Under the Gazebo at Teddy Roosevelt Beach \nFor more information\, call 800-829-0918 or email Angus Towse – AHG LI Chapter President angus@greenmannaturalhealth.com
URL:https://www.naturalnurse.com/event/ahg-long-island-chapter-meeting-july-2017/
LOCATION:Oyster Bay- East Norwich Library\, 89 E Main St\, Oyster Bay\, NY\, 11771\, United States
CATEGORIES:2017 events,Lectures
ATTACH;FMTTYPE=image/jpeg:https://www.naturalnurse.com/wp-content/uploads/2016/03/AHG-Symbol.jpg
ORGANIZER;CN="Angus J. Towse MSOM%2C BS(Hort)%2C LAc%2C LMT":MAILTO:LongIsland.AHG@gmail.com
END:VEVENT
BEGIN:VEVENT
DTSTART;TZID=America/New_York:20170621T180000
DTEND;TZID=America/New_York:20170621T193000
DTSTAMP:20260423T215133
CREATED:20170313T164435Z
LAST-MODIFIED:20171216T192003Z
UID:2521-1498068000-1498073400@www.naturalnurse.com
SUMMARY:Summer Solstice Wild Medicinal Herb Walk
DESCRIPTION:Visit a REAL WORKING ORGANIC FARM- Right in Old Bethpage!\nDiscover the wild medicine growing right under your nose! Walk the gardens and fields identifying plants commonly disregarded as “weeds” and learn about their various medicinal properties. \n \nTo register\, please mail a check along with your contact information\nfor $20.00 to \nRESTORATION FARM\n12 Commerce Blvd. \nAmityville 11701 \nor contact Ellen Kamhi\, here  \nHerb Walk Restoration Farm 2017
URL:https://www.naturalnurse.com/event/wild-medicinal-herb-walk/
LOCATION:RESTORATION FARM\, 140 Bethpage-Sweet Hollow Road\, Old Bethpage\, NY\, 11804\, United States
CATEGORIES:2017 events,Herbal Worshops,Lectures,Restoration Farm
ATTACH;FMTTYPE=image/jpeg:https://www.naturalnurse.com/wp-content/uploads/2015/10/Slider-Ellen-herb-walk.jpg
ORGANIZER;CN="Restoration Farm":MAILTO:info@restorationfarm.com
END:VEVENT
BEGIN:VEVENT
DTSTART;TZID=America/New_York:20170613T183000
DTEND;TZID=America/New_York:20170613T200000
DTSTAMP:20260423T215133
CREATED:20170313T184324Z
LAST-MODIFIED:20171216T190058Z
UID:3802-1497378600-1497384000@www.naturalnurse.com
SUMMARY:[June 2017]American Herbalist Guild (AHG) Long Island Chapter Meeting
DESCRIPTION:Free and Open to All\n\nLecture on Basics of Herbal Medicine\, plus Wild Medicine Plant Walk (weather permitting)\n \nFor more information\, call 800-829-0918 or email Angus Towse – AHG LI Chapter President angus@greenmannaturalhealth.com
URL:https://www.naturalnurse.com/event/june-2017american-herbalist-guild-ahg-long-island-chapter-meeting/
LOCATION:Sea Cliff\, 264 Sea Cliff Ave\, Sea Cliff\, NY\, 11579\, United States
CATEGORIES:2017 events,Lectures
ATTACH;FMTTYPE=image/jpeg:https://www.naturalnurse.com/wp-content/uploads/2016/03/AHG-Symbol.jpg
ORGANIZER;CN="Angus J. Towse MSOM%2C BS(Hort)%2C LAc%2C LMT":MAILTO:LongIsland.AHG@gmail.com
END:VEVENT
BEGIN:VEVENT
DTSTART;TZID=America/New_York:20170511T183000
DTEND;TZID=America/New_York:20170511T200000
DTSTAMP:20260423T215133
CREATED:20170313T043408Z
LAST-MODIFIED:20171216T185614Z
UID:2620-1494527400-1494532800@www.naturalnurse.com
SUMMARY:[May 2017] American Herbalist Guild Long Island Chapter Meeting
DESCRIPTION:Free and Open to All\nHerbal Medicine for Allergies\, plus plus Wild Medicine Plant Walk\n \n  \nFor more information\, call 800-829-0918 or email Angus Towse – AHG LI Chapter President angus@greenmannaturalhealth.com
URL:https://www.naturalnurse.com/event/may-2017-american-herbalist-guild-long-island-chapter-meeting/
LOCATION:Oyster Bay- East Norwich Library\, 89 E Main St\, Oyster Bay\, NY\, 11771\, United States
CATEGORIES:2017 events,Lectures
ATTACH;FMTTYPE=image/jpeg:https://www.naturalnurse.com/wp-content/uploads/2016/03/AHG-Symbol.jpg
END:VEVENT
BEGIN:VEVENT
DTSTART;TZID=America/New_York:20170423T090000
DTEND;TZID=America/New_York:20170423T130000
DTSTAMP:20260423T215133
CREATED:20170313T033155Z
LAST-MODIFIED:20171216T185326Z
UID:3767-1492938000-1492952400@www.naturalnurse.com
SUMMARY:CONVERSATIONS WITH OUR ELDER HEALERS
DESCRIPTION:A Live Conversation with Dr. A.U Ramakrishnan\nIntroduction by Robert Street\nCreating a platform where we could all learn from our elders in the hopes of empowering homeopathy\, herbalism and other forms of alternative medicine through surviving legacy and wisdom. \nDr. Ramakrishnan M.B.B.S.\, MF Hom\, PhD\, is an internationally known medical doctor from India. He travels the world lecturing on homeopathy and treating difficult cases. \nFREE! SPACE IS LIMITED
URL:https://www.naturalnurse.com/event/conversations-elder-healers/
LOCATION:Taller Latino\, 215 E 99th St\, New York City\, NY\, 10029\, United States
CATEGORIES:2017 events,Lectures
ATTACH;FMTTYPE=image/jpeg:https://www.naturalnurse.com/wp-content/uploads/2016/12/dr-carina-lopez_1600x440.jpg
ORGANIZER;CN="Dr. Carina Lopez":MAILTO:DoctorCarinaLopez@gmail.com
END:VEVENT
BEGIN:VEVENT
DTSTART;TZID=America/New_York:20170419T183000
DTEND;TZID=America/New_York:20170419T200000
DTSTAMP:20260423T215133
CREATED:20170313T031555Z
LAST-MODIFIED:20171216T185240Z
UID:3764-1492626600-1492632000@www.naturalnurse.com
SUMMARY:[April 2017]American Herbalist Guild (AHG) Long Island Chapter Meeting
DESCRIPTION:Free and Open to All\n\nLecture on Basics of Herbal Medicine\, plus Wild Medicine Plant Walk (weather permitting)\n \nFor more information\, call 800-829-0918 or email Angus Towse – AHG LI Chapter President angus@greenmannaturalhealth.com
URL:https://www.naturalnurse.com/event/april-2017american-herbalist-guild-ahg-long-island-chapter-meeting/
LOCATION:Sea Cliff\, 264 Sea Cliff Ave\, Sea Cliff\, NY\, 11579\, United States
CATEGORIES:2017 events,Lectures
ATTACH;FMTTYPE=image/jpeg:https://www.naturalnurse.com/wp-content/uploads/2016/03/AHG-Symbol.jpg
ORGANIZER;CN="Angus J. Towse MSOM%2C BS(Hort)%2C LAc%2C LMT":MAILTO:LongIsland.AHG@gmail.com
END:VEVENT
BEGIN:VEVENT
DTSTART;TZID=America/New_York:20170214T190000
DTEND;TZID=America/New_York:20170214T200000
DTSTAMP:20260423T215133
CREATED:20170115T061411Z
LAST-MODIFIED:20171216T184848Z
UID:3554-1487098800-1487102400@www.naturalnurse.com
SUMMARY:Dowsing and Herbs
DESCRIPTION:Free and Open to the Public \n History of Dowsing. Empower yourself by learning how to use Dowsing and Radionics to honor and interface with Herbal medicine. Enhance your ability to choose: which herb for whom\, when\, how much\, how often\, which combination…..learn how to use intention and understand the laws of non-locality to free your ability to influence healing at home as well as from a distance.
URL:https://www.naturalnurse.com/event/dowsing-herbs/
LOCATION:Broward Health Imperial Point Auditorium A and B on 1stFloor\, 6401 N Federal Highway\, Fort Lauderdale\, FL\, United States
CATEGORIES:2017 events,Lectures
ATTACH;FMTTYPE=image/png:https://www.naturalnurse.com/wp-content/uploads/2016/02/American-holistic-nurses-e1474330137427.png
END:VEVENT
BEGIN:VEVENT
DTSTART;TZID=America/New_York:20170202T190000
DTEND;TZID=America/New_York:20170202T200000
DTSTAMP:20260423T215133
CREATED:20160920T233246Z
LAST-MODIFIED:20171216T184653Z
UID:3140-1486062000-1486065600@www.naturalnurse.com
SUMMARY:Natural Medicine Lecture
DESCRIPTION:City College of New York group meeting\nThis lecture is free and all Century Village residents are invited !   \nThe meeting is held in the Century Village clubhouse. \n 
URL:https://www.naturalnurse.com/event/natural-medicine-lecture/
LOCATION:Century Village Deerfield Beach\, GPG Room\, FL\, United States
CATEGORIES:2017 events,Lectures
ATTACH;FMTTYPE=image/jpeg:https://www.naturalnurse.com/wp-content/uploads/2011/10/ginger-tumeric-pills-e1454475276131.jpg
ORGANIZER;CN="The Natural Nurse":MAILTO:naturalalt@juno.com
END:VEVENT
BEGIN:VEVENT
DTSTART;TZID=America/New_York:20161110T183000
DTEND;TZID=America/New_York:20161110T200000
DTSTAMP:20260423T215133
CREATED:20160920T174200Z
LAST-MODIFIED:20200518T054622Z
UID:3105-1478802600-1478808000@www.naturalnurse.com
SUMMARY:American Herbalist Guild (AHG) Long Island Chapter Meeting (Nov 2016)
DESCRIPTION:Free and Open to All\n\nHerbal Medicine\nwith \nEllen Kamhi Ph.D. RN\, AHG\, AHN-BC & \nAngus J. Towse MSOM\, BS(Hort)\, LAc\, LMT \n  \n  \nFor more information\, call 800-829-0918 or email Angus Towse – AHG LI Chapter President angus@greenmannaturalhealth.com
URL:https://www.naturalnurse.com/event/american-herbalist-guild-ahg-long-island-chapter-meeting-nov-2016/
LOCATION:Oyster Bay- East Norwich Library\, 89 E Main St\, Oyster Bay\, NY\, 11771\, United States
CATEGORIES:2016 events,Lectures
ORGANIZER;CN="Angus J. Towse MSOM%2C BS(Hort)%2C LAc%2C LMT":MAILTO:LongIsland.AHG@gmail.com
END:VEVENT
BEGIN:VEVENT
DTSTART;TZID=America/New_York:20161101T110000
DTEND;TZID=America/New_York:20161101T150000
DTSTAMP:20260423T215133
CREATED:20160919T185423Z
LAST-MODIFIED:20171216T213121Z
UID:3046-1477998000-1478012400@www.naturalnurse.com
SUMMARY:Ontological Coaching with TITUS COMET KAHOUTEK
DESCRIPTION:Ontological Coaching is a practical and powerful methodology for personal transformation rooted in the ways language\, emotions and body drive communication and behavior. \n\ncreate positive\, lasting change in the domains of health\, and life satisfaction\nmaintain dynamic relationships – explore your personal narrative\nestablish greater self-awareness- step out of your comfort zone\nhighlight decision-making issues\, create new possibilities\ndevelop new learning practices – new solutions to old problems\n\nTitus Comet Kahoutek’s Story can be found in the book Synchronous Connections\, A Personal Journey in Non Ordinary Realty. \nFirst and foremost Titus is a lover of life! An explorer at heart\, he is fascinated by the human landscape. As a coach\, trainer\, speaker and co-founder of Heroics Training Systems\, his work focuses on activating and empowering human potential through reintegrating the mindbody as a functional whole. He works with innovators\, leaders and organizations to optimize performance and enrich the living experience. \n“My passion is to create learning environments that foster the playful development of physical skill and somatic intelligence.” \nDate: Tues Nov 1\, 2016                     Time:  promptly 11:00 a.m. \nBring: Item to share for lunch            Where: Private home near CW POST( 25 A) Register for Directions\nRegister: 516 626-6631 or  kks36@aol.com
URL:https://www.naturalnurse.com/event/ontological-coaching-titus-comet-kahoutek/
LOCATION:Private Home\, Register for Directions\, Huntington\, NY\, United States
CATEGORIES:2016 events,Lectures
ATTACH;FMTTYPE=image/jpeg:https://www.naturalnurse.com/wp-content/uploads/2016/09/Titus-Dolphin-2015.jpg
END:VEVENT
BEGIN:VEVENT
DTSTART;TZID=America/New_York:20161016T130000
DTEND;TZID=America/New_York:20161016T150000
DTSTAMP:20260423T215133
CREATED:20160920T010734Z
LAST-MODIFIED:20171216T212244Z
UID:3065-1476622800-1476630000@www.naturalnurse.com
SUMMARY:Non-GMO Better Late Than Never
DESCRIPTION:Long Island Dowsers Society\nHow to avoid GMO’s and understand the risks they cause for health and wellness.
URL:https://www.naturalnurse.com/event/non-gmo-better-late-never/
LOCATION:Freeport Memorial Library\, 144 West Merrick Road\, Freeport\, NY\, 11520\, United States
CATEGORIES:2016 events,Lectures
ATTACH;FMTTYPE=image/png:https://www.naturalnurse.com/wp-content/uploads/2015/12/organic-vs-gmo-lavender.png
ORGANIZER;CN="The Natural Nurse":MAILTO:naturalalt@juno.com
END:VEVENT
BEGIN:VEVENT
DTSTART;TZID=America/New_York:20161012T183000
DTEND;TZID=America/New_York:20161012T193000
DTSTAMP:20260423T215133
CREATED:20160920T004135Z
LAST-MODIFIED:20171216T212205Z
UID:3061-1476297000-1476300600@www.naturalnurse.com
SUMMARY:American Herbalist Guild (AHG) Long Island Chapter Meeting (Oct 2016)
DESCRIPTION:Free and Open to All\n\nHerbal Medicine\nwith \nEllen Kamhi Ph.D. RN\, AHG\, AHN-BC & \nAngus J. Towse MSOM\, BS(Hort)\, LAc\, LMT \n  \n \nFor more information\, call 800-829-0918 or email Angus Towse – AHG LI Chapter President angus@greenmannaturalhealth.com
URL:https://www.naturalnurse.com/event/american-herbalist-guild-ahg-long-island-chapter-meeting-oct-2016/
LOCATION:FL
CATEGORIES:2016 events,Lectures
ATTACH;FMTTYPE=image/jpeg:https://www.naturalnurse.com/wp-content/uploads/2016/03/AHG-Symbol.jpg
ORGANIZER;CN="Angus J. Towse MSOM%2C BS(Hort)%2C LAc%2C LMT":MAILTO:LongIsland.AHG@gmail.com
END:VEVENT
BEGIN:VEVENT
DTSTART;TZID=America/New_York:20160914T183000
DTEND;TZID=America/New_York:20160914T193000
DTSTAMP:20260423T215133
CREATED:20160828T204154Z
LAST-MODIFIED:20171216T212018Z
UID:2962-1473877800-1473881400@www.naturalnurse.com
SUMMARY:American Herbalist Guild (AHG) Long Island Chapter Meeting (Sep 2016)
DESCRIPTION:Free and Open to All\n\nEarly Fall Herbs Walk and Talk\nwith \nEllen Kamhi Ph.D. RN\, AHG\, AHN-BC & \nAngus J. Towse MSOM\, BS(Hort)\, LAc\, LMT \n  \n \nFor more information\, call 800-829-0918 or email Angus Towse – AHG LI Chapter President angus@greenmannaturalhealth.com
URL:https://www.naturalnurse.com/event/american-herbalist-guild-ahg-long-island-chapter-meeting-september-2016/
LOCATION:FL
CATEGORIES:2016 events,Lectures
ATTACH;FMTTYPE=image/jpeg:https://www.naturalnurse.com/wp-content/uploads/2016/03/AHG-Symbol.jpg
ORGANIZER;CN="Angus J. Towse MSOM%2C BS(Hort)%2C LAc%2C LMT":MAILTO:LongIsland.AHG@gmail.com
END:VEVENT
BEGIN:VEVENT
DTSTART;TZID=America/New_York:20160818T183000
DTEND;TZID=America/New_York:20160818T200000
DTSTAMP:20260423T215133
CREATED:20160604T225352Z
LAST-MODIFIED:20171216T211837Z
UID:2735-1471545000-1471550400@www.naturalnurse.com
SUMMARY:American Herbalist Guild (AHG) Long Island Chapter Meeting (August 2016)
DESCRIPTION:Free and Open to All\n\nLecture on Herbs for Health\, plus Wild Medicine Plant Walk\n  \n \nFor more information\, call 800-829-0918 or email Angus Towse – AHG LI Chapter President angus@greenmannaturalhealth.com
URL:https://www.naturalnurse.com/event/ahg-long-island-chapter-meeting-aug2016/
LOCATION:FL
CATEGORIES:2016 events,Lectures
ATTACH;FMTTYPE=image/jpeg:https://www.naturalnurse.com/wp-content/uploads/2016/03/AHG-Symbol.jpg
ORGANIZER;CN="Angus J. Towse MSOM%2C BS(Hort)%2C LAc%2C LMT":MAILTO:LongIsland.AHG@gmail.com
END:VEVENT
BEGIN:VEVENT
DTSTART;TZID=America/New_York:20160621T183000
DTEND;TZID=America/New_York:20160621T200000
DTSTAMP:20260423T215133
CREATED:20170312T225004Z
LAST-MODIFIED:20200518T051836Z
UID:2729-1466533800-1466539200@www.naturalnurse.com
SUMMARY:American Herbalist Guild (AHG) Long Island Chapter Meeting (June 2016)
DESCRIPTION:Free and Open to All\n\nLecture on Basics of Herbal Medicine\, plus Wild Medicine Plant Walk\n  \n  \nFor more information\, call 800-829-0918 or email Angus Towse – AHG LI Chapter President angus@greenmannaturalhealth.com
URL:https://www.naturalnurse.com/event/american-herbalist-guild-ahg-long-island-chapter-meeting-june-2016/
LOCATION:Green Man Natural Health\, 195 Glen Cove Avenue\, Sea Cliff\, NY\, 11579\, United States
CATEGORIES:2016 events,Lectures
ORGANIZER;CN="Angus J. Towse MSOM%2C BS(Hort)%2C LAc%2C LMT":MAILTO:LongIsland.AHG@gmail.com
END:VEVENT
BEGIN:VEVENT
DTSTART;TZID=America/New_York:20160526T183000
DTEND;TZID=America/New_York:20160526T193000
DTSTAMP:20260423T215133
CREATED:20160505T183958Z
LAST-MODIFIED:20171216T211228Z
UID:2655-1464287400-1464291000@www.naturalnurse.com
SUMMARY:Lecture: Natural Medicine - Herbs for Pain (at Syosset Vitamin Shoppe)
DESCRIPTION:Ellen Kamhi PhD\, RN\, AHG\, AHN-BC\, shares evidence based information about useful natural remedies for pain. With increasing knowledge about the negative effects of pharmaceutical pain medications\, including irreversible and fatal health issues\, addiction\, and worsening of inflammation over time\, many people are choosing natural interventions. \nLearn about: \n\nFoods\nVitamins\nHerbs\nHomeopathics\nAnd more! ……………
URL:https://www.naturalnurse.com/event/lecture-natural-medicine-herbs-pain-syosset/
LOCATION:Vitamin Shoppe\, 190 Jericho Turnpike\, Syosset\, NY\, 11791\, United States
CATEGORIES:2016 events,Lectures
ATTACH;FMTTYPE=image/png:https://www.naturalnurse.com/wp-content/uploads/2016/05/supplement-for-pains.png
ORGANIZER;CN="The Natural Nurse":MAILTO:naturalalt@juno.com
END:VEVENT
BEGIN:VEVENT
DTSTART;TZID=America/New_York:20160526T110000
DTEND;TZID=America/New_York:20160526T120000
DTSTAMP:20260423T215133
CREATED:20160505T051518Z
LAST-MODIFIED:20171216T211154Z
UID:2622-1464260400-1464264000@www.naturalnurse.com
SUMMARY:Lecture: Natural Medicine- Herbs for Pain
DESCRIPTION:Ellen Kamhi PhD\, RN\, AHG\, AHN-BC\, shares evidence based information about useful natural remedies for pain. With increasing knowledge about the negative effects of pharmaceutical pain medications\, including irreversible and fatal health issues\, addiction\, and worsening of inflammation over time\, many people are choosing natural interventions. \nLearn about: \n\nFoods\nVitamins\nHerbs\nHomeopathics\nAnd more! ……………
URL:https://www.naturalnurse.com/event/natural-medicine-herbs-pain/
LOCATION:Life Enrichment Center\, 45 E Main St\, Oyster Bay\, NY\, 11771\, United States
CATEGORIES:2016 events,Lectures
ATTACH;FMTTYPE=image/png:https://www.naturalnurse.com/wp-content/uploads/2016/05/supplement-for-pains.png
END:VEVENT
BEGIN:VEVENT
DTSTART;TZID=America/New_York:20160209T190000
DTEND;TZID=America/New_York:20160209T203000
DTSTAMP:20260423T215133
CREATED:20160202T191756Z
LAST-MODIFIED:20171216T210358Z
UID:2176-1455044400-1455049800@www.naturalnurse.com
SUMMARY:FREE EVENT! Leaky Gut: The Role of Compromised Intestinal Permeability
DESCRIPTION:Leaky Gut: The Role of Compromised Intestinal Permeability in the Inflammatory Process\, and evidence based Natural Interventions!\nFree and Open to the Public
URL:https://www.naturalnurse.com/event/leaky-gut-the-role-of-compromised-intestinal-permeability/
LOCATION:Broward Health Imperial Point Auditorium A and B on 1stFloor\, 6401 N Federal Highway\, Fort Lauderdale\, FL\, United States
CATEGORIES:2016 events,Lectures
ATTACH;FMTTYPE=image/png:https://www.naturalnurse.com/wp-content/uploads/2016/02/American-holistic-nurses-e1474330137427.png
ORGANIZER;CN="Unnamed Organizer":MAILTO:marciag@bellsouth.net
END:VEVENT
BEGIN:VEVENT
DTSTART;TZID=America/New_York:20160121T130000
DTEND;TZID=America/New_York:20160121T140000
DTSTAMP:20260423T215133
CREATED:20151204T020406Z
LAST-MODIFIED:20171216T204040Z
UID:713-1453381200-1453384800@www.naturalnurse.com
SUMMARY:Herbs for the Menopause Years and Beyond!
DESCRIPTION:Pen Women’s Luncheon \nLecture on: Herbs for the Menopause Years and Beyond!
URL:https://www.naturalnurse.com/event/herbs-for-the-menopause-years-and-beyond/
LOCATION:FL
CATEGORIES:2016 events,Lectures
ATTACH;FMTTYPE=image/jpeg:https://www.naturalnurse.com/wp-content/uploads/2015/12/black-cohosh-969277_1600.jpg
END:VEVENT
BEGIN:VEVENT
DTSTART;TZID=America/New_York:20160119T193000
DTEND;TZID=America/New_York:20160119T213000
DTSTAMP:20260423T215133
CREATED:20151204T012500Z
LAST-MODIFIED:20171216T204002Z
UID:708-1453231800-1453239000@www.naturalnurse.com
SUMMARY:Crystallization Patterns a Key to the interaction between Energetic Essence and Biological Systems
DESCRIPTION:
URL:https://www.naturalnurse.com/event/crystallization-patterns-a-key-to-the-interaction-between-energetic-essence-and-biological-systems/
LOCATION:FL
CATEGORIES:2016 events,Lectures
ATTACH;FMTTYPE=image/jpeg:https://www.naturalnurse.com/wp-content/uploads/2015/12/ice-668367_1600.jpg
END:VEVENT
END:VCALENDAR