BEGIN:VCALENDAR
VERSION:2.0
PRODID:-//The Natural Nurse - ECPv6.15.17.1//NONSGML v1.0//EN
CALSCALE:GREGORIAN
METHOD:PUBLISH
X-ORIGINAL-URL:https://www.naturalnurse.com
X-WR-CALDESC:Events for The Natural Nurse
REFRESH-INTERVAL;VALUE=DURATION:PT1H
X-Robots-Tag:noindex
X-PUBLISHED-TTL:PT1H
BEGIN:VTIMEZONE
TZID:America/New_York
BEGIN:DAYLIGHT
TZOFFSETFROM:-0500
TZOFFSETTO:-0400
TZNAME:EDT
DTSTART:20250309T070000
END:DAYLIGHT
BEGIN:STANDARD
TZOFFSETFROM:-0400
TZOFFSETTO:-0500
TZNAME:EST
DTSTART:20251102T060000
END:STANDARD
BEGIN:DAYLIGHT
TZOFFSETFROM:-0500
TZOFFSETTO:-0400
TZNAME:EDT
DTSTART:20260308T070000
END:DAYLIGHT
BEGIN:STANDARD
TZOFFSETFROM:-0400
TZOFFSETTO:-0500
TZNAME:EST
DTSTART:20261101T060000
END:STANDARD
BEGIN:DAYLIGHT
TZOFFSETFROM:-0500
TZOFFSETTO:-0400
TZNAME:EDT
DTSTART:20270314T070000
END:DAYLIGHT
BEGIN:STANDARD
TZOFFSETFROM:-0400
TZOFFSETTO:-0500
TZNAME:EST
DTSTART:20271107T060000
END:STANDARD
END:VTIMEZONE
BEGIN:VEVENT
DTSTART;TZID=America/New_York:20260308T093100
DTEND;TZID=America/New_York:20260308T110000
DTSTAMP:20260423T151031
CREATED:20260102T175217Z
LAST-MODIFIED:20260131T194236Z
UID:22466-1772962260-1772967600@www.naturalnurse.com
SUMMARY:[Live ONLINE] 2026 Natural Nurse Herbal Certification - Class 1 – Basics of Herbal Medicine
DESCRIPTION:REGISTER HERE: https://www.holisticlivingschool.org/product/natural-nurse-basics-of-herbal-medicine-class-1-march-8-2026/\n   3 CE Broker Credits are available for Licensed:  Nurses\, Midwives\, Massage Therapists\, Acupuncturists & Nutritionists when this class is taken individually\nSunday\, March 08\, 2026\n9:30 am – 11:00 am ET\n \n\nLearn the fundamentals and essential terminology relevant to herbalism\, such as the difference between extracts\, tinctures\, capsules\, infusions\, decoctions\, standardized\, and holistic balance. This class also introduces the basics surrounding safety and efficacy of herbal remedies. \nTuition: $50 \nDate:  Sunday\, March 8\, 2026 \nTime: 9:30-11:00 am \nLocation: Live via Zoom online (Here’s how to access your class.) \nLevel: All Levels \n3 CEUs are available to Massage Therapists\, Dietitians\, Nurses\, Respiratory Care & Midwives in the state of Florida through CE Broker for students who successfully complete the course through attendance and submission of assignments. To add CEU credits to your enrollment\, click here. An additional $15 educational credit processing fee will apply. \nAll registrants will receive the course recording and handouts\, with access to materials for one year. \nThis class can be taken a la carte or sign up for the entire 4-part The Natural Nurse Herbal Certification Course – 2026(18 CEUs are available for the full course). If you’ve already registered for this standalone course and wish to add-on the entire series\, click here. \nAll of our classes\, unless otherwise noted\, are available and accessible to everyone – whether you are an experienced herbalist\, a budding herbalist\, or simply herb-curious. Everyone is welcome. \nPlease review this link for our school’s tuition and cancellation policies. \nDESCRIPTION\nThis class is one of four included in the full Natural Nurse Herbal Certification Course. Students may register for a single class\, or for the full four-part series. When you buy the entire series\, you save $25 on the total price and have 18 CUEs available. The individual classes are $50 each. Each class has 3 CEUs available\, with the Continuing Education fee required for each one\, and a total of 12 CEUs when purchased individually. Should you decide you want the full series after trying a single class\, that option is available with an add-on fee – click here to add-on the entire series. \nNatural Nurse Herbal Certification Course \nClass 1 – Basics of Herbal Medicine: Sunday\, March 8\, 2026 – 9:30 – 11am \nClass 2 – Botany & Botanical Nomenclature: Sunday\, April 12\, 2026 – 9:30 – 11am \nClass 3 – Using Herbs for Yourself and Your Family: Sunday\, May 10\, 2026 – 9:30 – 11am \nClass 4 – Feeling the Consciousness of Plants: Sunday\, June 14\, 2026 – 9:30 – 11am \nFull Series (All 4 classes) –Natural Nurse Herbal Certification Course 2026 \nAssignments can be emailed to the instructor. Capstone Herbal Preparation Project will need to be ‘snail-mailed’ to the instructor. All attendees who complete the full series and submit all assignments will receive a Certificate of Completion from the Florida School of Holistic Living. \nFlorida School of Holistic Living Certificate available for any attendees who complete the requirements below (Recommended for all interested individuals\, as well as natural health professionals.) \nTo receive CEU’s or a Certificate participants must: \n\nAttend class(es)*\nPurchase course textbook\, The Natural Medicine Chest\, by Ellen Kamhi\, PhD RN and Eugene Zampieron\, ND\nComplete homework assignments\n\n 
URL:https://www.naturalnurse.com/event/online-2026-natural-nurse-herbal-certification-class-1-basics-of-herbal-medicine/
LOCATION:Zoom Online by FSHL
CATEGORIES:2026 Events,CEU available,Continuing Education Courses,Holistic Living School,Online Herbal Medicine Course
ATTACH;FMTTYPE=image/jpeg:https://www.naturalnurse.com/wp-content/uploads/2026/01/2026-FSHL-Classes-Square-class1.jpg
ORGANIZER;CN="Florida School of Holistic Living":MAILTO:info@holisticlivingschool.org
END:VEVENT
BEGIN:VEVENT
DTSTART;TZID=America/New_York:20260314T090000
DTEND;TZID=America/New_York:20260314T170000
DTSTAMP:20260423T151031
CREATED:20260303T210238Z
LAST-MODIFIED:20260303T210238Z
UID:23187-1773478800-1773507600@www.naturalnurse.com
SUMMARY:[2026] 15thAnnual Florida Herbal Conference
DESCRIPTION:5 CEUs are available.\n(See details below)\nI am so happy to share herbal knowledge with you at the 14th annual Florida Herbal Conference\, and I’d love to invite you to join me there where I will be presenting!\n Edible and Medicinal Wild Plants of Florida\, and Supporting Our Immune System\n\nExplore edible and medicinal wild plants of Florida. Edible and Medicinal Plants are EVERYWHERE-Did ancient people live where you live now? Were there grocery stores on every corner? People lived by eating the local plants and using them as natural remedies! Those plants are still there\, you just need to learn which\, when\, why and how to use them safely for food and medicine. \nFolklore and Science BOTH promote the use of Natural Remedies to enhance immune function; Including: preventing infection\, increasing natural defenses\, relieving congestion and coughs\, soothing a sore throat\, reducing a fever and quieting an upset stomach. Lets explore our Florida natives\, such as Leaf of Life\, Spanish Needle ( Bidens) Beauty Berry\, Moringa and more. \n REGISTER HERE\n\n\n  \nEvery year\, the Florida Herbal Conference features educational opportunities for herbal enthusiasts through workshops\, keynote speaker\, plant walks\, and networking\, with chances to explore vendors and enjoy musical performances. \nThis year\, we are excited to celebrate the 15th anniversary of gathering our herbalism community with a one-day event at . \nThis memorable event is designed for herbal enthusiasts of any level and vocation to learn from each other\, as well as our keynote speakers\, teachers\, and the plants themselves. We will build relationships with our herbal sisters and brothers\, meet vendors with services and goods that bolster our passions in herbalism\, and we’ll get grounded in our practice through education\, fellowship\, and community in nature. All the while\, we’ll dance and sing along with uplifting musicians. \nThe focus for our 2026 Florida Herbal Conference is on the healing flora of Florida. Our conference seeks to educate about and advocate for the conservation and preservation of our bioregional ecology. Together\, we gather to begin the process of healing ourselves and each other as we help heal the planet. A portion of all proceeds will also be donated to support United Plant Savers. \nDate: March 14\, 2026    Time: 9am – 5pm EST \n\n\nTuition: $60 \nLocation: Bill Frederick Park At Turkey Lake\nAddress: 3401 South Hiawassee Road\, Orlando\, FL 32835 \nLevel: All are welcome! This will be great for everyone from budding herbalists to the advanced practitioner! \n5 CEUs are available to Massage Therapists\, Dietitians\, Nurses & Midwives in the state of Florida through CE Broker for students who successfully complete the course through attendance and submission of assignments. To add CEU credits to your enrollment\, click here. An additional $15 educational credit processing fee will apply. \nBe sure to bring your water bottle\, your favorite note taking tools and mask (if you choose to wear one). We will have a variety of teas and filtered water available. Please reach out to our office@holisticlivingschool.org with any questions or concerns. \nThe 15th annual Florida Herbal Conference is presented by the Florida School of Holistic Living \n\n\n\nLearn More and Register:\nhttps://www.holisticlivingschool.org/product/2026-florida-herbal-conference-general-registration/\n  \n\n 
URL:https://www.naturalnurse.com/event/2026-15th-annual-florida-herbal-conference/
LOCATION:Bill Frederick Park at Turkey Lake in Orlando\, Florida\, 3401 South Hiawassee Road\, Orlando\, FL\, 32835\, United States
CATEGORIES:2026 Events,Conventions & Conferences,Holistic Living School,Summit and Conference
ATTACH;FMTTYPE=image/jpeg:https://www.naturalnurse.com/wp-content/uploads/2016/02/FLherbLogoFinal.jpg
ORGANIZER;CN="Florida Holistic Living School Conference":MAILTO:info@floridaherbalconference.org
END:VEVENT
END:VCALENDAR