BEGIN:VCALENDAR
VERSION:2.0
PRODID:-//The Natural Nurse - ECPv6.15.17.1//NONSGML v1.0//EN
CALSCALE:GREGORIAN
METHOD:PUBLISH
X-WR-CALNAME:The Natural Nurse
X-ORIGINAL-URL:https://www.naturalnurse.com
X-WR-CALDESC:Events for The Natural Nurse
REFRESH-INTERVAL;VALUE=DURATION:PT1H
X-Robots-Tag:noindex
X-PUBLISHED-TTL:PT1H
BEGIN:VTIMEZONE
TZID:America/New_York
BEGIN:DAYLIGHT
TZOFFSETFROM:-0500
TZOFFSETTO:-0400
TZNAME:EDT
DTSTART:20250309T070000
END:DAYLIGHT
BEGIN:STANDARD
TZOFFSETFROM:-0400
TZOFFSETTO:-0500
TZNAME:EST
DTSTART:20251102T060000
END:STANDARD
BEGIN:DAYLIGHT
TZOFFSETFROM:-0500
TZOFFSETTO:-0400
TZNAME:EDT
DTSTART:20260308T070000
END:DAYLIGHT
BEGIN:STANDARD
TZOFFSETFROM:-0400
TZOFFSETTO:-0500
TZNAME:EST
DTSTART:20261101T060000
END:STANDARD
BEGIN:DAYLIGHT
TZOFFSETFROM:-0500
TZOFFSETTO:-0400
TZNAME:EDT
DTSTART:20270314T070000
END:DAYLIGHT
BEGIN:STANDARD
TZOFFSETFROM:-0400
TZOFFSETTO:-0500
TZNAME:EST
DTSTART:20271107T060000
END:STANDARD
END:VTIMEZONE
BEGIN:VEVENT
DTSTART;TZID=America/New_York:20260111T093000
DTEND;TZID=America/New_York:20260111T110000
DTSTAMP:20260423T181526
CREATED:20251003T223253Z
LAST-MODIFIED:20260102T175906Z
UID:21677-1768123800-1768129200@www.naturalnurse.com
SUMMARY:[ONLINE] Hemp THC CBD Cannabis – Endocannabinoids 2026
DESCRIPTION:3 CE UNITS for RN\, NP\, RD\, Midwife\, Nutritionist\, LMT\n\nRegister here: https://www.holisticlivingschool.org/product/cannabis-hemp-thc-cbd-endocannabinoids-whats-all-the-buzz-with-ellen-kamhi-january-11-2026/\n                                  \n\nHemp is taking the world by storm…with a dizzying variety of products and claims. What’s true? What’s hype? This presentation will provide history and sound scientific data to describe the therapeutic qualities of Cannabis components\, including Full Spectrum Hemp\, Flower sourced extracts\, CBD\, THC and more\, as well as identifying CB 1 and CB 2 receptor sites and both endogenous and exogenous endocannabinoids. We will include a discussion of the latest FDA regulatory environment\, and how to negotiate the wide variety of options\, such as where the plant is grown\, carrier oils\, and dosage suggestions.*\n\n\n Attendee will recognize the controversies in terms of the use of herbal cannabis\nAttendee will explore the differences/similarities between Endogenous and Exogenous Endocannabinoids\n Attendee will understand the current regulatory environment of Cannabis-related regulations\n\n\nThis class is offered Live via Zoom on Sunday\, Jan11 from 9:30-11am. All registrants will receive the course recording and handouts\, with access to materials for one year. \n\n\nEarly Bird tuition $25 until Dec 28\, 2025\, Regular Tuition is $35; for CEU credits add $15 \n\n\n\n*These statements have not been evaluated by the Food and Drug Administration. This webinar and products discussed are not intended to diagnose\, treat\, cure\, or prevent any disease. \n 
URL:https://www.naturalnurse.com/event/online-hemp-thc-cbd-cannabis-endocannabinoids-2026/
LOCATION:ONLINE
CATEGORIES:2026 Events,CEU available,Holistic Living School,Online Herbal Medicine Course
ATTACH;FMTTYPE=image/jpeg:https://www.naturalnurse.com/wp-content/uploads/2025/10/THC-CBD-2026.jpg
ORGANIZER;CN="Florida School of Holistic Living":MAILTO:info@holisticlivingschool.org
END:VEVENT
END:VCALENDAR