BEGIN:VCALENDAR
VERSION:2.0
PRODID:-//The Natural Nurse - ECPv6.15.17.1//NONSGML v1.0//EN
CALSCALE:GREGORIAN
METHOD:PUBLISH
X-WR-CALNAME:The Natural Nurse
X-ORIGINAL-URL:https://www.naturalnurse.com
X-WR-CALDESC:Events for The Natural Nurse
REFRESH-INTERVAL;VALUE=DURATION:PT1H
X-Robots-Tag:noindex
X-PUBLISHED-TTL:PT1H
BEGIN:VTIMEZONE
TZID:America/New_York
BEGIN:DAYLIGHT
TZOFFSETFROM:-0500
TZOFFSETTO:-0400
TZNAME:EDT
DTSTART:20240310T070000
END:DAYLIGHT
BEGIN:STANDARD
TZOFFSETFROM:-0400
TZOFFSETTO:-0500
TZNAME:EST
DTSTART:20241103T060000
END:STANDARD
BEGIN:DAYLIGHT
TZOFFSETFROM:-0500
TZOFFSETTO:-0400
TZNAME:EDT
DTSTART:20250309T070000
END:DAYLIGHT
BEGIN:STANDARD
TZOFFSETFROM:-0400
TZOFFSETTO:-0500
TZNAME:EST
DTSTART:20251102T060000
END:STANDARD
BEGIN:DAYLIGHT
TZOFFSETFROM:-0500
TZOFFSETTO:-0400
TZNAME:EDT
DTSTART:20260308T070000
END:DAYLIGHT
BEGIN:STANDARD
TZOFFSETFROM:-0400
TZOFFSETTO:-0500
TZNAME:EST
DTSTART:20261101T060000
END:STANDARD
END:VTIMEZONE
BEGIN:VEVENT
DTSTART;TZID=America/New_York:20250301T090000
DTEND;TZID=America/New_York:20250301T190000
DTSTAMP:20260424T095534
CREATED:20250116T175110Z
LAST-MODIFIED:20260120T054507Z
UID:20345-1740819600-1740855600@www.naturalnurse.com
SUMMARY:[2025] Fourteenth Annual Florida Herbal Conference
DESCRIPTION:5 CEUs are available.\n(See details below)\nI am so happy to share herbal knowledge with you at the 14th annual Florida Herbal Conference\, and I’d love to invite you to join me there where I will be presenting!\n Botanical Secrets- From Doctrine of Signatures to Adaptogens\n\nEllen Kamhi\, PhD\, RN\, AHN-BC\, RH(AHG) The Natural Nurse®\, will present ancient theories and modern scientific validation about the spectacular healing activities of Herbal Medicine. We will delve deeply into Botanical Secrets that can be gleaned from The Doctrine of Signatures and investigate the health supportive potential credited to a group of herbs referred to as Adaptogens. Modern research has uncovered various mechanisms of action that may explain their ability to help the body resist and adapt to stress. These include positive effects on biosynthesis of RNA and proteins\, balancing carbohydrate metabolism\, reducing cortisol\, and decreasing inflammatory mediators. Lets investigate the secrets ! \n REGISTER HERE\n\n\n  \nEvery year\, the Florida Herbal Conference features educational opportunities for herbal enthusiasts through workshops\, keynote speaker\, plant walks\, and networking\, with chances to explore vendors and enjoy musical performances. \nThis year\, we are excited to celebrate the 14th anniversary of gathering our herbalism community with a one-day event at Mead Botanical Garden in Winter Park. \nThis memorable event is designed for herbal enthusiasts of any level and vocation to learn from each other\, as well as our keynote speakers\, teachers\, and the plants themselves. We will build relationships with our herbal sisters and brothers\, meet vendors with services and goods that bolster our passions in herbalism\, and we’ll get grounded in our practice through education\, fellowship\, and community in nature. All the while\, we’ll dance and sing along with uplifting musicians. \nThe focus for our 2025 Florida Herbal Conference is on the healing flora of Florida. Our conference seeks to educate about and advocate for the conservation and preservation of our bioregional ecology. Together\, we gather to begin the process of healing ourselves and each other as we help heal the planet. A portion of all proceeds will also be donated to support United Plant Savers. \nDate: March 1\, 2025    Time: 9am – 7pm EST \n\n\nTuition: $40 / Early Bird is $20 through January 31\, 2025 \nLocation: Mead Botanical Garden\nAddress: 1300 S Denning Dr\, Winter Park\, FL 32789 \nLevel: All are welcome! This will be great for everyone from budding herbalists to the advanced practitioner! \n5 CEUs are available to Massage Therapists\, Dietitians\, Nurses & Midwives in the state of Florida through CE Broker for students who successfully complete the course through attendance and submission of assignments. To add CEU credits to your enrollment\, click here. An additional $15 educational credit processing fee will apply. \nBe sure to bring your water bottle\, your favorite note taking tools and mask (if you choose to wear one). We will have a variety of teas and filtered water available. Please reach out to our office@holisticlivingschool.org with any questions or concerns. \nThe 14th annual Florida Herbal Conference is presented by the Florida School of Holistic Living and sponsored by Leaves and Roots and Sage Mountain Botanical Sanctuary. \n\n\n\nLearn More and Register:\nhttps://www.holisticlivingschool.org/product/2025-florida-herbal-conference-general-registration/\n  \n\n 
URL:https://www.naturalnurse.com/event/2025-fourteenth-annual-florida-herbal-conference/
LOCATION:Mead Botanical Garden\, 1300 S Denning Dr\,\, Winter Park\,\, 32789\, United States
CATEGORIES:2025 Events,Conventions & Conferences,Holistic Living School,Summit and Conference
ATTACH;FMTTYPE=image/jpeg:https://www.naturalnurse.com/wp-content/uploads/2016/02/FLherbLogoFinal.jpg
ORGANIZER;CN="Florida Holistic Living School Conference":MAILTO:info@floridaherbalconference.org
END:VEVENT
BEGIN:VEVENT
DTSTART;TZID=America/New_York:20250309T093000
DTEND;TZID=America/New_York:20250309T110000
DTSTAMP:20260424T095534
CREATED:20241007T035917Z
LAST-MODIFIED:20260120T054507Z
UID:19931-1741512600-1741518000@www.naturalnurse.com
SUMMARY:[ONLINE] 2025 Natural Nurse Herbal Certification - Class 1 – Basics of Herbal Medicine
DESCRIPTION:REGISTER HERE: https://www.holisticlivingschool.org/product/natural-nurse-basics-of-herbal-medicine-2025-class-1-march-9-2025/\n   3 CE Broker Credits are available for Licensed:  Nurses\, Midwives\, Massage Therapists\, Acupuncturists & Nutritionists when this class is taken individually\nSunday\, March 09\, 2025\n9:30 am – 11:00 am ET\n \nBasics of Herbal Medicine – In Basics of Herbal Medicine\, you will learn essential vocabularies\, such as the difference between extracts\, tinctures\, capsules\, infusions\, and decoctions\, standardized\, holistic balance\, as well as the safety and efficacy of herbal medicines. \nThis series\, offered by nurse and herbalist Ellen Kamhi\, RN\, is designed to offer flexibility for beginning or advanced herbal students. Use this series of classes to ignite your inspiration for better health with practical plant-based tools. Feel free to attend any one class on an individual basis\, or all four of the classes in the series. Now offered ONLINE! \nJoin nurse and herbalist Ellen Kamhi for an empowering and enriching journey into basic herbal medicine. Attend any one of the four workshops as a drop-in course\, or attend the entire series for a discount. Practitioners wishing to receive Continuing Education Units and others who would like to receive a Florida School of Holistic Living Certificate\, must attend the full series\, pay the CEU processing fee\, and complete all assignments. \nThis class meets for four Sundays over a four-month period\, from 9:30-11 am. The class will be live online via Zoom with the instructor in real-time. It will be interactive with question and answer sessions. All registrants will receive the course recording and handouts\, with access to materials for one year. \nNatural Nurse Herbal Certification Course:\n\n\n BASICS of Herbal Medicine Sunday March 09\, 2025  9:30 am – 11:00 am\n Botany & Botanical Nomenclature Sunday April 13\, 2025 9:30 am – 11:00 am\n Using Herbs for Yourself & Your Family Sunday May 11\, 2025  9:30 am-11:00 am\n Feeling the Consciousness of Plants  Sunday June 08\, 2025  9:30 am – 11:00 am\n\n\nAssignments can be emailed to the instructor. Capstone Herbal Preparation Project will need to be ‘snail-mailed’ to the instructor. All attendees who complete the full series and submit all assignments will receive a Certificate of Completion from the Florida School of Holistic Living. \nParticipants can choose to take the full course\, or any one of the modules\, for their own personal learning\, without paying the accreditation fee. \nStudents may register for a single class\, or for the full four-part series. Save $25 for total price of 4 classes\, when choosing the full series. An additional $45 savings is available to CEU seeking students. Notice 18 CEUs available for the series vs. 12 CEUs for all classes taken individually.  \n18 CE Broker Credits: Nurses\, Midwives\, Massage Therapists\, Acupuncturists\, Nutritionists \nFlorida School of Holistic Living Certificate available for any attendees who complete the requirements below (Recommended for all interested individuals\, as well as natural health professionals.):  \nTo receive CEU’s or a Certificate participants must: \n\nAttend all four classes*\nPurchase course textbook\, The Natural Medicine Chest\, by Ellen Kamhi\, PhD RN and Eugene Zampieron\, ND\nComplete homework assignments\n\nParticipants will receive a certificate indicating the level of course work and hours of study completed. \n  \n 
URL:https://www.naturalnurse.com/event/online-2025-natural-nurse-herbal-certification-class-1-basics-of-herbal-medicine/
LOCATION:Zoom Online by FSHL
CATEGORIES:2025 Events,CEU available,Continuing Education Courses,Holistic Living School,Online Herbal Medicine Course
ATTACH;FMTTYPE=image/png:https://www.naturalnurse.com/wp-content/uploads/2024/10/Natural-Nurse-Basics-of-Herbal-Medicine-Class-1080x1080-1-1.png
ORGANIZER;CN="Florida School of Holistic Living":MAILTO:info@holisticlivingschool.org
END:VEVENT
END:VCALENDAR