BEGIN:VCALENDAR
VERSION:2.0
PRODID:-//The Natural Nurse - ECPv6.15.17.1//NONSGML v1.0//EN
CALSCALE:GREGORIAN
METHOD:PUBLISH
X-WR-CALNAME:The Natural Nurse
X-ORIGINAL-URL:https://www.naturalnurse.com
X-WR-CALDESC:Events for The Natural Nurse
REFRESH-INTERVAL;VALUE=DURATION:PT1H
X-Robots-Tag:noindex
X-PUBLISHED-TTL:PT1H
BEGIN:VTIMEZONE
TZID:America/New_York
BEGIN:DAYLIGHT
TZOFFSETFROM:-0500
TZOFFSETTO:-0400
TZNAME:EDT
DTSTART:20220313T070000
END:DAYLIGHT
BEGIN:STANDARD
TZOFFSETFROM:-0400
TZOFFSETTO:-0500
TZNAME:EST
DTSTART:20221106T060000
END:STANDARD
BEGIN:DAYLIGHT
TZOFFSETFROM:-0500
TZOFFSETTO:-0400
TZNAME:EDT
DTSTART:20230312T070000
END:DAYLIGHT
BEGIN:STANDARD
TZOFFSETFROM:-0400
TZOFFSETTO:-0500
TZNAME:EST
DTSTART:20231105T060000
END:STANDARD
BEGIN:DAYLIGHT
TZOFFSETFROM:-0500
TZOFFSETTO:-0400
TZNAME:EDT
DTSTART:20240310T070000
END:DAYLIGHT
BEGIN:STANDARD
TZOFFSETFROM:-0400
TZOFFSETTO:-0500
TZNAME:EST
DTSTART:20241103T060000
END:STANDARD
END:VTIMEZONE
BEGIN:VEVENT
DTSTART;TZID=America/New_York:20230806T093000
DTEND;TZID=America/New_York:20230806T110000
DTSTAMP:20260425T165656
CREATED:20230530T053049Z
LAST-MODIFIED:20231030T210859Z
UID:16994-1691314200-1691319600@www.naturalnurse.com
SUMMARY:Olive & Oregano: From Ancient Mythology to Modern Scientific Scrutiny
DESCRIPTION:REGISTER HERE: https://www.holisticlivingschool.org/product/olive-oregano-august-2023/\n   3 CE Broker Credits are available for Licensed:  Nurses\, Midwives\, Massage Therapists\, Acupuncturists & Nutritionists when this class is taken individually\nTake a deep look at two plant allies that have played significant roles throughout human history! The majestic olive tree and the small soft oregano plant. Both of these Mediterranean natives are powerhouses for flavor and nutrition. In addition to their respective roles in mythology and folklore and as delicious nutritive seasonings\, both olive and oregano have profound scientific substantiation for their antimicrobial and immune-supportive benefits. \nIn this class\, we will peruse healthful recipes and investigate specific actions at the cellular level of several of their active constituents\, such as: \n\nCarvacrol – exhibits antimicrobial activity related to hydrophobicity\, the presence of a free hydroxyl group;\nPhenol Moiety\, which actively supports pro-apoptotic processes.\n\nOpen to all levels\, from beginner to advanced. \nTuition: $35 / Early Bird Price: $25 through July 23\, 2023 \nDate: August 6\, 2023 \nTime: 9:30 to 11:00 AM \nLocation: Online via Zoom \nAll of our classes\, unless otherwise noted\, are available and accessible to everyone – whether you are an experienced herbalist\, a budding herbalist\, or simply herb-curious. Everyone is welcome. \nAll registrants will receive the course recording and handouts\, with access to materials for one year. \n3 CEUs are available to Massage Therapists\, Dietitians\, Nurses & Midwives in the state of Florida through CE Broker for students who successfully complete the course through attendance and submission of assignments. To add CEU credits to your enrollment\, click here. An additional $15 educational credit processing fee will apply. \nEarly bird price $25 is available through July 23
URL:https://www.naturalnurse.com/event/olive-oregano-from-ancient-mythology-to-modern-scientific-scrutiny/
LOCATION:Zoom Online by FSHL
CATEGORIES:2023 Events,CEU available,Continuing Education Courses,Holistic Living School,Online Herbal Medicine Course
ATTACH;FMTTYPE=image/jpeg:https://www.naturalnurse.com/wp-content/uploads/2023/05/olive-oregano_august-2023_ellen_square.jpg
ORGANIZER;CN="Florida School of Holistic Living":MAILTO:info@holisticlivingschool.org
END:VEVENT
END:VCALENDAR