BEGIN:VCALENDAR
VERSION:2.0
PRODID:-//The Natural Nurse - ECPv6.15.17.1//NONSGML v1.0//EN
CALSCALE:GREGORIAN
METHOD:PUBLISH
X-WR-CALNAME:The Natural Nurse
X-ORIGINAL-URL:https://www.naturalnurse.com
X-WR-CALDESC:Events for The Natural Nurse
REFRESH-INTERVAL;VALUE=DURATION:PT1H
X-Robots-Tag:noindex
X-PUBLISHED-TTL:PT1H
BEGIN:VTIMEZONE
TZID:America/New_York
BEGIN:DAYLIGHT
TZOFFSETFROM:-0500
TZOFFSETTO:-0400
TZNAME:EDT
DTSTART:20220313T070000
END:DAYLIGHT
BEGIN:STANDARD
TZOFFSETFROM:-0400
TZOFFSETTO:-0500
TZNAME:EST
DTSTART:20221106T060000
END:STANDARD
BEGIN:DAYLIGHT
TZOFFSETFROM:-0500
TZOFFSETTO:-0400
TZNAME:EDT
DTSTART:20230312T070000
END:DAYLIGHT
BEGIN:STANDARD
TZOFFSETFROM:-0400
TZOFFSETTO:-0500
TZNAME:EST
DTSTART:20231105T060000
END:STANDARD
BEGIN:DAYLIGHT
TZOFFSETFROM:-0500
TZOFFSETTO:-0400
TZNAME:EDT
DTSTART:20240310T070000
END:DAYLIGHT
BEGIN:STANDARD
TZOFFSETFROM:-0400
TZOFFSETTO:-0500
TZNAME:EST
DTSTART:20241103T060000
END:STANDARD
END:VTIMEZONE
BEGIN:VEVENT
DTSTART;TZID=America/New_York:20230604T092900
DTEND;TZID=America/New_York:20230604T110000
DTSTAMP:20260425T201716
CREATED:20221005T060945Z
LAST-MODIFIED:20230616T233352Z
UID:14325-1685870940-1685876400@www.naturalnurse.com
SUMMARY:[ONLINE] 2023 Natural Nurse Herbal Certification - FULL Course (4 class series)
DESCRIPTION:REGISTER HERE: https://www.holisticlivingschool.org/product/natural-nurse-herbal-certification-course-2023/\n18 CEU are available for Licensed:  Nurses\, Midwives\, Massage Therapists\, Acupuncturists & Nutritionists (RD) for complete course – including attendance in all 4 classes\, plus all assignments and projects\n3 CE Broker Credits are available for Licensed:  Nurses\, Midwives\, Massage Therapists\, Acupuncturists & Nutritionists when this class is taken individually (see details below)\nSave $25 for total price of 4 classes\, when choosing the full series. An additional $45 savings is available to CEU seeking students. Notice 18 CEUs available for the series vs. 12 CEUs for all classes taken individually.  \nThe class sessions are offered Live via Zoom on the scheduled dates below. It will be interactive with question and answer sessions. All registrants will receive course recordings and handouts\, with access to materials for one year. If you miss a class\, you can make it up anytime via the archived class recording. \n(1) March 05\, 2023 — (2) April 02\, 2023 — (3) May 07\, 2023  — (4) June 04\, 2023\nSundays at 9:30 am – 11:00 am ET\n \nJoin nurse and herbalist Ellen Kamhi for an empowering and enriching journey into basic herbal medicine.  You will learn essential vocabulary\, the difference between extracts\, tinctures\, capsules\, infusions\, and decoctions\, standardized\, holistic balance\, as well as the safety and efficacy of herbal medicines.\n\n18 Continuing Education Units are conferred to Massage Therapists\, Nurses\, Dietitians and Midwives who complete the full four-part series and all required assignments.\nNatural Nurse Herbal Certification Course:\n\n\n BASICS of Herbal Medicine Sunday March 05\, 2023  9:30 am – 11:00 am\n Botany & Botanical Nomenclature Sunday April 02\, 2023 9:30 am – 11:00 am\n Using Herbs for Yourself & Your Family Sunday May 07\, 2023  9:30 am-11:00 am\n Feeling the Consciousness of Plants  Sunday June 04\, 2023  9:30 am – 11:00 am\n\n\n\nThis 4 class course\, offered by nurse and herbalist Ellen Kamhi\, Ph.D.\, RN\, is designed to offer flexibility for beginning or advanced herbal students. Use this series of classes to ignite your inspiration towards better health with practical plant-based tools.  Students may register for a single class\, or for the full four-part series.  If you register for the full four-part series\, you will be eligible for a discounted tuition.\n\n\nPractitioners wishing to receive 18 Continuing Education Units (CEU) must:\n\nRegister for & attend all four classes in the series\nPay the full tuition of $175 + the $15.00 CEU processing fee for a total of $190.00 (paid in advance)\nPurchase the course text book\, The Natural Medicine Chest\, by Ellen Kamhi\, PhD RN and Eugene Zampieron\, ND\nSuccessfully complete all homework assignments\n\n\n\nIf you want to receive only a Certificate of Completion (without CEUs) from the Florida School of Holistic Living you must:\n\nRegister for & attend all four classes in the series\nPay the full tuition of $175 (paid in advance)\nPurchase the course text book\, The Natural Medicine Chest\, by Ellen Kamhi\, PhD RN and Eugene Zampieron\, ND\nSuccessfully complete all homework assignments.\n\n\n\nAssignments can be emailed to instructor. The Capstone Herbal Preparation Project will need to be ‘snail mailed’ to instructor.\n\nTuition:\n$50 for a single class\n$175 for all four classes (must be paid in advance)\n$190 for all four classes + CEUs (must be paid in advance) \nAttendees Testimonials\n]\n 
URL:https://www.naturalnurse.com/event/online-2023-natural-nurse-herbal-certification-full-course-4-class-series/
LOCATION:Zoom Online by FSHL
CATEGORIES:2023 Events,CEU available,Continuing Education Courses,Holistic Living School,Online Herbal Medicine Course
ATTACH;FMTTYPE=image/jpeg:https://www.naturalnurse.com/wp-content/uploads/2022/10/Natural-Nurse-Herb-Cert-Class-4series-live-2023.jpg
ORGANIZER;CN="Florida School of Holistic Living":MAILTO:info@holisticlivingschool.org
END:VEVENT
BEGIN:VEVENT
DTSTART;TZID=America/New_York:20230604T093000
DTEND;TZID=America/New_York:20230604T110000
DTSTAMP:20260425T201716
CREATED:20221005T060321Z
LAST-MODIFIED:20230616T233341Z
UID:14341-1685871000-1685876400@www.naturalnurse.com
SUMMARY:[ONLINE] 2023 Natural Nurse Herbal Certification - Class 4 – Feeling the Consciousness of Plants
DESCRIPTION:REGISTER HERE: https://www.holisticlivingschool.org/product/natural-nurse-feeling-the-consciousness-of-plants-2023/\n   3 CE Broker Credits are available for Licensed:  Nurses\, Midwives\, Massage Therapists\, Acupuncturists & Nutritionists when this class is taken individually\nSunday\, June 12\, 2023\n9:30 am – 11:00 am \nFeeling the Consciousness of Plants – Since ancient times\, people have experienced plant communication. We are now validating this reality with scientific investigation. Learn how to integrate plants into your life\, soul\, and medicine\, and how to decide which remedy is the “right” one. Learn simple plant dowsing techniques and consider herb-drug interactions. \nThis series\, offered by nurse and herbalist Ellen Kamhi\, RN\, is designed to offer flexibility for beginning or advanced herbal students. Use this series of classes to ignite your inspiration for better health with practical plant-based tools. Feel free to attend any one class on an individual basis\, or all four of the classes in the series. Now offered ONLINE! \nJoin nurse and herbalist Ellen Kamhi for an empowering and enriching journey into basic herbal medicine. Attend any one of the four workshops as a drop-in course\, or attend the entire series for a discount. Practitioners wishing to receive Continuing Education Units and others who would like to receive a Florida School of Holistic Living Certificate\, must attend the full series\, pay the CEU processing fee\, and complete all assignments. \nThis class meets for four Sundays over a four-month period\, from 9:30-11 am. The class will be live online via Zoom with the instructor in real-time. It will be interactive with question and answer sessions. All registrants will receive the course recording and handouts\, with access to materials for one year. \nNatural Nurse Herbal Certification Course:\n\n\n BASICS of Herbal Medicine Sunday March 05\, 2023  9:30 am – 11:00 am\n Botany & Botanical Nomenclature Sunday April 02\, 2023 9:30 am – 11:00 am\n Using Herbs for Yourself & Your Family Sunday May 07\, 2023  9:30 am-11:00 am\n Feeling the Consciousness of Plants  Sunday June 04\, 2023  9:30 am – 11:00 am\n\n\nAssignments can be emailed to the instructor. Capstone Herbal Preparation Project will need to be ‘snail-mailed’ to the instructor. All attendees who complete the full series and submit all assignments will receive a Certificate of Completion from the Florida School of Holistic Living. \nParticipants can choose to take the full course\, or any one of the modules\, for their own personal learning\, without paying the accreditation fee. \nStudents may register for a single class\, or for the full four-part series. Save $25 for total price of 4 classes\, when choosing the full series. An additional $45 savings is available to CEU seeking students. Notice 18 CEUs available for the series vs. 12 CEUs for all classes taken individually.  \n18 CE Broker Credits: Nurses\, Midwives\, Massage Therapists\, Acupuncturists\, Nutritionists \nFlorida School of Holistic Living Certificate available for any attendees who complete the requirements below (Recommended for all interested individuals\, as well as natural health professionals.):  \nTo receive CEU’s or a Certificate participants must: \n\nAttend all four classes*\nPurchase course textbook\, The Natural Medicine Chest\, by Ellen Kamhi\, PhD RN and Eugene Zampieron\, ND\nComplete homework assignments\n\nParticipants will receive a certificate indicating the level of course work and hours of study completed. \n  \n 
URL:https://www.naturalnurse.com/event/online-2023-natural-nurse-herbal-certification-class-4-feeling-the-consciousness-of-plants/
LOCATION:Zoom Online by FSHL
CATEGORIES:2023 Events,CEU available,Continuing Education Courses,Holistic Living School,Online Herbal Medicine Course
ATTACH;FMTTYPE=image/jpeg:https://www.naturalnurse.com/wp-content/uploads/2022/10/Natural-Nurse-Consciousness-of-Plants-live-2023.jpg
ORGANIZER;CN="Florida School of Holistic Living":MAILTO:info@holisticlivingschool.org
END:VEVENT
END:VCALENDAR