BEGIN:VCALENDAR
VERSION:2.0
PRODID:-//The Natural Nurse - ECPv6.15.17.1//NONSGML v1.0//EN
CALSCALE:GREGORIAN
METHOD:PUBLISH
X-ORIGINAL-URL:https://www.naturalnurse.com
X-WR-CALDESC:Events for The Natural Nurse
REFRESH-INTERVAL;VALUE=DURATION:PT1H
X-Robots-Tag:noindex
X-PUBLISHED-TTL:PT1H
BEGIN:VTIMEZONE
TZID:America/New_York
BEGIN:DAYLIGHT
TZOFFSETFROM:-0500
TZOFFSETTO:-0400
TZNAME:EDT
DTSTART:20150308T070000
END:DAYLIGHT
BEGIN:STANDARD
TZOFFSETFROM:-0400
TZOFFSETTO:-0500
TZNAME:EST
DTSTART:20151101T060000
END:STANDARD
BEGIN:DAYLIGHT
TZOFFSETFROM:-0500
TZOFFSETTO:-0400
TZNAME:EDT
DTSTART:20160313T070000
END:DAYLIGHT
BEGIN:STANDARD
TZOFFSETFROM:-0400
TZOFFSETTO:-0500
TZNAME:EST
DTSTART:20161106T060000
END:STANDARD
BEGIN:DAYLIGHT
TZOFFSETFROM:-0500
TZOFFSETTO:-0400
TZNAME:EDT
DTSTART:20170312T070000
END:DAYLIGHT
BEGIN:STANDARD
TZOFFSETFROM:-0400
TZOFFSETTO:-0500
TZNAME:EST
DTSTART:20171105T060000
END:STANDARD
BEGIN:DAYLIGHT
TZOFFSETFROM:-0500
TZOFFSETTO:-0400
TZNAME:EDT
DTSTART:20180311T070000
END:DAYLIGHT
BEGIN:STANDARD
TZOFFSETFROM:-0400
TZOFFSETTO:-0500
TZNAME:EST
DTSTART:20181104T060000
END:STANDARD
BEGIN:DAYLIGHT
TZOFFSETFROM:-0500
TZOFFSETTO:-0400
TZNAME:EDT
DTSTART:20190310T070000
END:DAYLIGHT
BEGIN:STANDARD
TZOFFSETFROM:-0400
TZOFFSETTO:-0500
TZNAME:EST
DTSTART:20191103T060000
END:STANDARD
END:VTIMEZONE
BEGIN:VEVENT
DTSTART;TZID=America/New_York:20180612T160000
DTEND;TZID=America/New_York:20180612T170000
DTSTAMP:20260423T232114
CREATED:20180502T151826Z
LAST-MODIFIED:20180611T154411Z
UID:5375-1528819200-1528822800@www.naturalnurse.com
SUMMARY:[WEBINAR] Uplifting the Happy Heart*
DESCRIPTION:Science confirms what folklore has always known – happiness supports heart health. In today’s world\, food choices\, blood sugar fluctuations and stress all play a part in uplifting a happy heart. \nLet’s investigate the form and function of two very different molecules\, HDL and LDL\, along with the clinical relevance of Apolipoprotein A to Apolipoprotein B ratios. Functional medicine recognizes optimum levels of CRP\, Homocysteine\, Glucose\, EPA/DHA and other markers that support healthy cardiovascular function\, along with the happiness heart health connection.* \nThis webinar is for healthcare professionals and students only. \nClick this button:\n Register for this Webinar (Healthcare Professionals & Students Only)\nCE Info:\nThis webinar will be submitted for 1.0 credit of Naturopathic Continuing Education by The American Association of Naturopathic Physicians. To receive CE credit\, you must attend the live event and register using ND credentials. It is only eligible for those in the U.S. After attending the live event\, you will receive your CE certificate via email within 3-4 weeks after the webinar. This page will be updated once approval is granted. \n*These statements have not been evaluated by the Food and Drug Administration. This webinar and products discussed are not intended to diagnose\, treat\, cure\, or prevent any disease.
URL:https://www.naturalnurse.com/event/webinar-uplifting-the-happy-heart/
LOCATION:Gaia Webinar\, NC\, United States
CATEGORIES:2018 events,CEU available,Free Webinar
ATTACH;FMTTYPE=image/jpeg:https://www.naturalnurse.com/wp-content/uploads/2018/05/banner-heart-health-1800x940.jpg
END:VEVENT
BEGIN:VEVENT
DTSTART;TZID=America/New_York:20180515T200000
DTEND;TZID=America/New_York:20180515T210000
DTSTAMP:20260423T232114
CREATED:20180211T060338Z
LAST-MODIFIED:20180321T182509Z
UID:5082-1526414400-1526418000@www.naturalnurse.com
SUMMARY:[WEBINAR] Scientific Validation of Botanical Medicine (special section The Consciousness of Plants)
DESCRIPTION:Join Ellen Kamhi PhD RN for a discussion about the ‘inside story’ of how herbs actually work. We will transverse the indigenous traditional use and delve into the depths of scientific validity. \n\nWhy does berberine kill bacteria without causing the development of resistant strains?\nHow does Red Yeast Rice interfere with cellular pathways to inhibit Co Q 10?\nDoes silymarin upregulate the P 450 Liver Enzymes to enhance Detoxification?\n\nUnderstand mechanisms of action of how herbs heal \, along with possible adverse effects and herb drug interactions. We will also investigate current and past research that investigate the consciousness of plants. \n Register for this webinar\nImage credit:\n© Hans Hillewaert / \, via Wikimedia Commons
URL:https://www.naturalnurse.com/event/scientific-validation-botanical-medicine/
LOCATION:ONLINE
CATEGORIES:2018 events,Free Webinar
ATTACH;FMTTYPE=image/jpeg:https://www.naturalnurse.com/wp-content/uploads/2018/02/webinar-scientific-validation-botanical-medicine_1600x628.jpg
ORGANIZER;CN="American Herbalists Guild":MAILTO:office@americanherbalistsguild.com
END:VEVENT
BEGIN:VEVENT
DTSTART;TZID=America/New_York:20180124T160000
DTEND;TZID=America/New_York:20180124T170000
DTSTAMP:20260423T232114
CREATED:20180105T051652Z
LAST-MODIFIED:20190729T203422Z
UID:4946-1516809600-1516813200@www.naturalnurse.com
SUMMARY:[WEBINAR] Love Your Liver - Botanical Support for Detoxification*
DESCRIPTION:Modern life offers a myriad of challenges for the detoxification capacity of the body. This webinar will explore the function of the organs that help to break down and eliminate toxins\, with a focus on liver health and wellness. The liver is responsible for hundreds of tasks within the body\, including filtering the blood. Proper cleansing involves both detoxification and elimination. \nIn addition to herbal favorites\, including Burdock and Fenugreek\, current research is unveiling a variety of exciting new botanical actives\, such as bellidifolin found in gentian root\, and raphanin in black radish \, which are uniquely suited to support detoxification protocols.* \nThis webinar is for healthcare professionals and students only. \n Register here\nCE Info:\nThis webinar has been approved for 1.0 Continuing Education (CE) credit hour for Naturopathic Doctors (ND.) It has been submitted and is pending approval for 1.0 Continuing Professional Education (CPE) credit hour for Registered Dietitians (RD) and Dietetic Technicians\, Registered (DTR). To receive CE or CPE credit\, you must attend the live event and register using one of these credentials (ND\, RD\, or DTR). It is only eligible for those in the U.S. After attending the live event\, you will receive your CE certificate via email within 3-4 weeks after the webinar. \n*These statements have not been evaluated by the Food and Drug Administration. This webinar and products discussed are not intended to diagnose\, treat\, cure\, or prevent any disease.
URL:https://www.naturalnurse.com/event/webinar-love-liver-botanical-support-detoxification/
LOCATION:Gaia Webinar\, NC\, United States
CATEGORIES:2018 events,CEU available,Free Webinar
ATTACH;FMTTYPE=image/png:https://www.naturalnurse.com/wp-content/uploads/2018/01/logo-professional.png
ORGANIZER;CN="Gaia Herbs Professional Solutions":MAILTO:smc@gaiaherbs.com
END:VEVENT
BEGIN:VEVENT
DTSTART;TZID=America/New_York:20171003T160000
DTEND;TZID=America/New_York:20171003T170000
DTSTAMP:20260423T232114
CREATED:20170829T174723Z
LAST-MODIFIED:20171216T202358Z
UID:2277-1507046400-1507050000@www.naturalnurse.com
SUMMARY:Botanicals for a Healthy Inflammatory Response: Cooling the Fire Dragon
DESCRIPTION:FREE Webinar for Health Care Professionals and students only\nFor centuries societies around the globe have experimented with natural remedies that support healthy inflammation\, as in the traditional story of the Fire Dragon. Current Scientific evidence supports many of these traditional therapeutics\, which often have a much better risk to benefit profile than conventional drugs. Plants and plant compounds are now being researched for their benefits\, polyphenol compounds being one of those. Many polyphenolic compounds impact the release of pro-inflammatory cytokines by human lymphocytes\, and how human SNP variations can lead to differential outcomes within the inflammatory response. In this presentation we will discuss the basic etiology and range of substantiated natural constituents that may help support a healthy inflammatory response.* \nBotanicals focused on include: \n\nTurmeric\nResveratrol (Resveratrol 150)\nQuercetin\nBlack Pepper\nGinger\nRosemary\nWild Lettuce\nJamaican Dogwood\n\nCE Offered \nThis webinar has been approved for 1.0 Continuing Education (CE) credit hour for Naturopathic Doctors (ND). It has also been approved for 1.0 CPE credit hour for Registered Dietitians (RD) and Dietitians Technicians\, Registered (DTR). \nTo receive the CE or CPE credit\, you must attend the live event and register noting you are an ND\, RD or DTR. Eligible for practitioners in the U.S. only. \n \nClick here to register. On the registration form\, enter your information and then click Submit.\nThis webinar is for healthcare professionals and students only \nThe webinar will be held 4-5pm EST. \n*These statements have not been evaluated by the Food and Drug Administration. This webinar is not intended to diagnose\, treat\, cure or prevent any disease.
URL:https://www.naturalnurse.com/event/botanicals-healthy-inflammatory-response-cooling-fire-dragon/
LOCATION:NC
CATEGORIES:2017 events,Free Webinar
ATTACH;FMTTYPE=image/jpeg:https://www.naturalnurse.com/wp-content/uploads/2017/08/gaia-cooling-dragon-2-1600x440.jpg
ORGANIZER;CN="Gaia Herbs Professional Solutions":MAILTO:smc@gaiaherbs.com
END:VEVENT
BEGIN:VEVENT
DTSTART;TZID=America/New_York:20160823T160000
DTEND;TZID=America/New_York:20160823T170000
DTSTAMP:20260423T232114
CREATED:20160505T185708Z
LAST-MODIFIED:20171216T211917Z
UID:2658-1471968000-1471971600@www.naturalnurse.com
SUMMARY:Insomnia and the Sacred Triune - Balancing Thyroid\, Adrenal\, Pituitary and the Circadian Rhythm
DESCRIPTION:FREE Webinar for Health Care Professionals\nIn this webinar we will review the natural feedback mechanisms that integrate the thyroid\, adrenal and pituitary glands and link in the natural cycles of Circadian Rhythm\, along with influences that can disrupt this balance.  We will discuss specific botanicals that that lead to enhanced patient comfort and support a healthy sleep cycle. \n \n*These statements have not been evaluated by the Food and Drug Administration. This webinar is not intended to diagnose\, treat\, cure or prevent any disease.”
URL:https://www.naturalnurse.com/event/insomnia-sacred-triune-balancing-thyroid-adrenal-pituitary-circadian-rhythm/
LOCATION:NC
CATEGORIES:2016 events,Free Webinar
ATTACH;FMTTYPE=image/png:https://www.naturalnurse.com/wp-content/uploads/2016/02/gaia-herbs.png
ORGANIZER;CN="Gaia Herbs Professional Solutions":MAILTO:smc@gaiaherbs.com
END:VEVENT
BEGIN:VEVENT
DTSTART;VALUE=DATE:20160504
DTEND;VALUE=DATE:20160505
DTSTAMP:20260423T232114
CREATED:20160503T193539Z
LAST-MODIFIED:20200304T190700Z
UID:2609-1462320000-1462406399@www.naturalnurse.com
SUMMARY:FREE Webinar: Spiritual Success Summit
DESCRIPTION:Join me\, Ellen Kamhi PhD RN\, The Natural Nurse \, and a host of other speakers \, for the FREE Webinar \nEVOLUTION REVOLUTION \nSign up here: \nhttps://yourevolutionrevolution.com/SpiritualSuccess-EK \nHave you noticed that the spiritual journey isn’t as easy as you thought it would be?\nFind out why:\n\nhttps://yourevolutionrevolution.com/SpiritualSuccess-EK \nYou are on the spiritual path\, you are excited about the possibilities\, ready to step in to your potential. You’ve embraced the light\, read all the books\, meditate and think abundant\, positive thoughts and yet nothing changes. \nAnd you’ve come to realize that this journey of consciousness and spiritual awakening might just be the greatest challenge of your life. \nYou may feel relieved to know you are not alone. In fact\, there is a new trend of “spiritual stress” emerging in the world of consciousness and spirituality as we try unsuccessfully to activate the principles in our daily lives. We begin to feel self-defeated and wonder “what am I doing wrong? and “what’s wrong with me?” What’s worse is that everyone around us is making it work. Or at least that’s how it seems. And we are hiding out in a private world of shame and self-blame too embarrassed to admit that we just don’t get it. \nThe truth is\, the experience of “spiritual stress” is very common. Although everyone can speak a good spiritual game\, when you pull back the curtain on their lives\, you will see that they are struggling too. \nSo why is this journey so challenging??? And does it have to be??? \nThe answer is a resounding NO!! \n\n\nhttps://yourevolutionrevolution.com/SpiritualSuccess-EK\n\n\n\n\nIt’s time to take the spiritual conversation to the next level. We are already on the path. No more need for spiritual hype and spiritual rah-rah that gives us inspiration without the know-how. It’s time for spiritual truth and spiritual substance. It’s time for open and candid conversation about the real life experience of the journey\, the challenges\, the myths & misconceptions we commonly experience along the way. As we move from a time of intellectual knowledge to one of experiential knowledge\, its’ time to bridge the gap between philosophy and practice. \nThat is why I have joined together 21 experts in the fields of transformation\, consciousness and spirituality to share their wisdom\, tangible strategies and FREE gifts to help all of us shift our spiritual experience from struggle to ease\, and stress to success. And I am excited to have the opportunity to bring these speakers together to share their wisdom with you! \nIf you are ready to:\n* Pull back the curtain on the spiritual journey so you can…\n* Discover simple\, practical\, tangible and sustainable strategies that will help you…\n* Move from spiritual hype to spiritual harmony and…\n* Transform your spiritual stress in to Spiritual Success! \nTake a moment to register for this FREE audio series and join us for this revealing and life transforming event. \n\nhttps://yourevolutionrevolution.com/SpiritualSuccess-EK
URL:https://www.naturalnurse.com/event/free-webinar-spiritual-success-summit/
LOCATION:Webinar
CATEGORIES:Free Webinar
ATTACH;FMTTYPE=image/jpeg:https://www.naturalnurse.com/wp-content/uploads/2016/05/spiritual-stree-free-summit.jpg
END:VEVENT
BEGIN:VEVENT
DTSTART;TZID=America/New_York:20160314T080000
DTEND;TZID=America/New_York:20160322T170000
DTSTAMP:20260423T232114
CREATED:20160229T024608Z
LAST-MODIFIED:20230616T233157Z
UID:2287-1457942400-1458666000@www.naturalnurse.com
SUMMARY:FREE EVENT: Natural Medicine\, Healing & Wellness Summit
DESCRIPTION:JOIN OVER 150\,000 HEALTH SEEKERS AT THE WORLD’S MOST COMPREHENSIVE NATURAL MEDICINE SUMMIT\nand create lasting change for you\, your loved ones\, and ultimately\, the world.\nFrom March 14 -22\, Dr. Murray is hosting one of the largest healing and wellness online summits EVER! I will be one of the speakers. And…here’s the best part\, it’s ABSOLUTELY FREE! \nThis is an event you won’t want to miss. \nSign-up FREE\, for this life-changing event\, by clicking the following link:\ndoctormurray.ontraport.com/t?orid=16933&opid=1 \nFor the summit\, Dr. Murray is personally interviewing 30 of the world’s top leaders in natural medicine\, health and wellness… \nJoin me and other experts such as: \n\nDr. Daniel Amen\nDr. Mark Hyman\nDr. Stephen T. Sinatra\nDr. Joseph Mercola\nJJ Virgin\nMike Adams\nOcean Robbins\nand… MANY MORE\n\n 
URL:https://www.naturalnurse.com/event/free-natural-medicine-healing-wellness-summit/
LOCATION:NC
CATEGORIES:Free Webinar
ATTACH;FMTTYPE=image/jpeg:https://www.naturalnurse.com/wp-content/uploads/2016/02/dr-14-murray-summit-banner-website.jpg
END:VEVENT
END:VCALENDAR