BEGIN:VCALENDAR
VERSION:2.0
PRODID:-//The Natural Nurse - ECPv6.15.17.1//NONSGML v1.0//EN
CALSCALE:GREGORIAN
METHOD:PUBLISH
X-ORIGINAL-URL:https://www.naturalnurse.com
X-WR-CALDESC:Events for The Natural Nurse
REFRESH-INTERVAL;VALUE=DURATION:PT1H
X-Robots-Tag:noindex
X-PUBLISHED-TTL:PT1H
BEGIN:VTIMEZONE
TZID:America/New_York
BEGIN:DAYLIGHT
TZOFFSETFROM:-0500
TZOFFSETTO:-0400
TZNAME:EDT
DTSTART:20240310T070000
END:DAYLIGHT
BEGIN:STANDARD
TZOFFSETFROM:-0400
TZOFFSETTO:-0500
TZNAME:EST
DTSTART:20241103T060000
END:STANDARD
BEGIN:DAYLIGHT
TZOFFSETFROM:-0500
TZOFFSETTO:-0400
TZNAME:EDT
DTSTART:20250309T070000
END:DAYLIGHT
BEGIN:STANDARD
TZOFFSETFROM:-0400
TZOFFSETTO:-0500
TZNAME:EST
DTSTART:20251102T060000
END:STANDARD
BEGIN:DAYLIGHT
TZOFFSETFROM:-0500
TZOFFSETTO:-0400
TZNAME:EDT
DTSTART:20260308T070000
END:DAYLIGHT
BEGIN:STANDARD
TZOFFSETFROM:-0400
TZOFFSETTO:-0500
TZNAME:EST
DTSTART:20261101T060000
END:STANDARD
END:VTIMEZONE
BEGIN:VTIMEZONE
TZID:America/Los_Angeles
BEGIN:DAYLIGHT
TZOFFSETFROM:-0800
TZOFFSETTO:-0700
TZNAME:PDT
DTSTART:20230312T100000
END:DAYLIGHT
BEGIN:STANDARD
TZOFFSETFROM:-0700
TZOFFSETTO:-0800
TZNAME:PST
DTSTART:20231105T090000
END:STANDARD
BEGIN:DAYLIGHT
TZOFFSETFROM:-0800
TZOFFSETTO:-0700
TZNAME:PDT
DTSTART:20240310T100000
END:DAYLIGHT
BEGIN:STANDARD
TZOFFSETFROM:-0700
TZOFFSETTO:-0800
TZNAME:PST
DTSTART:20241103T090000
END:STANDARD
BEGIN:DAYLIGHT
TZOFFSETFROM:-0800
TZOFFSETTO:-0700
TZNAME:PDT
DTSTART:20250309T100000
END:DAYLIGHT
BEGIN:STANDARD
TZOFFSETFROM:-0700
TZOFFSETTO:-0800
TZNAME:PST
DTSTART:20251102T090000
END:STANDARD
END:VTIMEZONE
BEGIN:VEVENT
DTSTART;TZID=America/New_York:20250301T090000
DTEND;TZID=America/New_York:20250301T190000
DTSTAMP:20260423T194437
CREATED:20250116T175110Z
LAST-MODIFIED:20260120T054507Z
UID:20345-1740819600-1740855600@www.naturalnurse.com
SUMMARY:[2025] Fourteenth Annual Florida Herbal Conference
DESCRIPTION:5 CEUs are available.\n(See details below)\nI am so happy to share herbal knowledge with you at the 14th annual Florida Herbal Conference\, and I’d love to invite you to join me there where I will be presenting!\n Botanical Secrets- From Doctrine of Signatures to Adaptogens\n\nEllen Kamhi\, PhD\, RN\, AHN-BC\, RH(AHG) The Natural Nurse®\, will present ancient theories and modern scientific validation about the spectacular healing activities of Herbal Medicine. We will delve deeply into Botanical Secrets that can be gleaned from The Doctrine of Signatures and investigate the health supportive potential credited to a group of herbs referred to as Adaptogens. Modern research has uncovered various mechanisms of action that may explain their ability to help the body resist and adapt to stress. These include positive effects on biosynthesis of RNA and proteins\, balancing carbohydrate metabolism\, reducing cortisol\, and decreasing inflammatory mediators. Lets investigate the secrets ! \n REGISTER HERE\n\n\n  \nEvery year\, the Florida Herbal Conference features educational opportunities for herbal enthusiasts through workshops\, keynote speaker\, plant walks\, and networking\, with chances to explore vendors and enjoy musical performances. \nThis year\, we are excited to celebrate the 14th anniversary of gathering our herbalism community with a one-day event at Mead Botanical Garden in Winter Park. \nThis memorable event is designed for herbal enthusiasts of any level and vocation to learn from each other\, as well as our keynote speakers\, teachers\, and the plants themselves. We will build relationships with our herbal sisters and brothers\, meet vendors with services and goods that bolster our passions in herbalism\, and we’ll get grounded in our practice through education\, fellowship\, and community in nature. All the while\, we’ll dance and sing along with uplifting musicians. \nThe focus for our 2025 Florida Herbal Conference is on the healing flora of Florida. Our conference seeks to educate about and advocate for the conservation and preservation of our bioregional ecology. Together\, we gather to begin the process of healing ourselves and each other as we help heal the planet. A portion of all proceeds will also be donated to support United Plant Savers. \nDate: March 1\, 2025    Time: 9am – 7pm EST \n\n\nTuition: $40 / Early Bird is $20 through January 31\, 2025 \nLocation: Mead Botanical Garden\nAddress: 1300 S Denning Dr\, Winter Park\, FL 32789 \nLevel: All are welcome! This will be great for everyone from budding herbalists to the advanced practitioner! \n5 CEUs are available to Massage Therapists\, Dietitians\, Nurses & Midwives in the state of Florida through CE Broker for students who successfully complete the course through attendance and submission of assignments. To add CEU credits to your enrollment\, click here. An additional $15 educational credit processing fee will apply. \nBe sure to bring your water bottle\, your favorite note taking tools and mask (if you choose to wear one). We will have a variety of teas and filtered water available. Please reach out to our office@holisticlivingschool.org with any questions or concerns. \nThe 14th annual Florida Herbal Conference is presented by the Florida School of Holistic Living and sponsored by Leaves and Roots and Sage Mountain Botanical Sanctuary. \n\n\n\nLearn More and Register:\nhttps://www.holisticlivingschool.org/product/2025-florida-herbal-conference-general-registration/\n  \n\n 
URL:https://www.naturalnurse.com/event/2025-fourteenth-annual-florida-herbal-conference/
LOCATION:Mead Botanical Garden\, 1300 S Denning Dr\,\, Winter Park\,\, 32789\, United States
CATEGORIES:2025 Events,Conventions & Conferences,Holistic Living School,Summit and Conference
ATTACH;FMTTYPE=image/jpeg:https://www.naturalnurse.com/wp-content/uploads/2016/02/FLherbLogoFinal.jpg
ORGANIZER;CN="Florida Holistic Living School Conference":MAILTO:info@floridaherbalconference.org
END:VEVENT
BEGIN:VEVENT
DTSTART;TZID=America/New_York:20250211T183000
DTEND;TZID=America/New_York:20250211T200000
DTSTAMP:20260423T194437
CREATED:20241202T203932Z
LAST-MODIFIED:20250205T184632Z
UID:20179-1739298600-1739304000@www.naturalnurse.com
SUMMARY:[2025-Session 1] 6 Natural Remedies Classes at Century Village
DESCRIPTION:(Century Village Residents Only) \nNATURAL REMEDIES – Safe and Effective Use!\nEllen Kamhi PhD\, RN\, AHG_RH\, AHN-BC\, The Natural Nurse®\, has been involved in natural health care since 1964. She is a medical school instructor\, teaches botanical pharmacology\, is a professional member of the American Herbalist Guild\, and is Board Certified as a Holistic Nurse. Dr Kamhi has authored many books\, including THE NATURAL MEDICINE CHEST. She writes the monthly article “Health Matters” in the Century Village Reporter. \nTopics  Include:\n\n Herbs for Health and Energy\n Wild Plants that Grow in Century Village that can be used for Food and Medicine\n Homeopathics – are they real and do they help?\n Supplements and Vitamins- better off with them or without them?\n Organic\, Natural\, Gluten Free- what does it all mean?\n\n\n  \nCome with your QUESTIONS! \nTues Jan 7\, 2025\n6:30-8:00 pm \nNatural Remedies Class 1\nCentury Village\, Deerfield Beach Florida\nRegister: wpascal@cveevents.com\, 954-428-6892 Ext 4 \n\n Tues Jan 14\, 2025\n6:30-8:00 pm \nNatural Remedies Class 2\nCentury Village\, Deerfield Beach Florida\nRegister: wpascal@cveevents.com\, 954-428-6892 Ext 4 \n\nTues Jan 21\, 2025\n6:30-8:00 pm \nNatural Remedies Class 3\nCentury Village\, Deerfield Beach\, Florida\nRegister: wpascal@cveevents.com\, 954-428-6892 Ext 4 \n\nTues Jan 28\, 2025\n6:30-8:00 pm \nNatural Remedies Class 4\nCentury Village\, Deerfield Beach\, Florida\nRegister: wpascal@cveevents.com\, 954-428-6892 Ext 4 \n\nTues Feb 4\, 2025\n6:30-8:00 pm \nNatural Remedies Class 5\nCentury Village\, Deerfield Beach\, Florida\nRegister: wpascal@cveevents.com\, 954-428-6892 Ext 4 \n\nTues Feb 11\, 2025\n6:30-8:00 pm \nNatural Remedies Class 6\nCentury Village\, Deerfield Beach\, Florida\nRegister: wpascal@cveevents.com\, 954-428-6892 Ext 4 \n  \nImage credit:\nImage by Sasin Tipchai from Pixabay
URL:https://www.naturalnurse.com/event/2025-1-natural-remedies-classes-century-village-6/
LOCATION:Century Village Deerfield Beach\, GPG Room\, FL\, United States
CATEGORIES:2025 Events,Lectures
ATTACH;FMTTYPE=image/jpeg:https://www.naturalnurse.com/wp-content/uploads/2024/12/century-village_2025-session1-1600x440-1.jpg
ORGANIZER;CN="Century Village Deerfield Beach":MAILTO:Goodfishdr@aol.com
END:VEVENT
BEGIN:VEVENT
DTSTART;TZID=America/New_York:20250209T130000
DTEND;TZID=America/New_York:20250209T140000
DTSTAMP:20260423T194437
CREATED:20250130T035846Z
LAST-MODIFIED:20260309T200635Z
UID:20371-1739106000-1739109600@www.naturalnurse.com
SUMMARY:[FREE] Q& A about Natural Nurse Herbal Certification 2025
DESCRIPTION:OPEN and FREE to ALL\nRegister: https://www.holisticlivingschool.org/product/natural-nurse-qa-with-ellen-kamhi-free-2/ \n\nJoin us for a chance to learn more about our 2025 Natural Nurse Herbal Certification Course from The Natural Nurse® herself\, Ellen Kamhi. Get answers to your questions about what the course entails and how it can help further your holistic career in a live virtual Q&A. We will also have a special promo code for attendees to the live event for a discount on tuition when registering for the entire course. Click here for more information on the 2025 Natural Nurse series: 2025 Natural Nurse Herbal Certification Course. \n\nCost to attend: FREE \nDate: February 9\, 2025 \nTime: 1:00 PM – 2:00 PM \nLocation: live virtual meeting via Zoom\nZoom link will be sent to you after registration via the email you used to register. You may need to check your spam folder and safe list us if necessary. \nIf you cannot join us during the scheduled meeting\, please view it later on our YouTube Channel. \n\n\n 
URL:https://www.naturalnurse.com/event/free-q-a-about-natural-nurse-herbal-certification-2025/
LOCATION:Zoom Online by FSHL
CATEGORIES:2025 Events,Holistic Living School
ATTACH;FMTTYPE=image/jpeg:https://www.naturalnurse.com/wp-content/uploads/2025/01/Natural_Nurse_2025_QA_with_Ellen_Kamhi_-_FREE_-_February_9_2025.jpg
ORGANIZER;CN="Florida School of Holistic Living":MAILTO:info@holisticlivingschool.org
END:VEVENT
BEGIN:VEVENT
DTSTART;TZID=America/Los_Angeles:20241106T090000
DTEND;TZID=America/Los_Angeles:20241108T235900
DTSTAMP:20260423T194437
CREATED:20241028T012314Z
LAST-MODIFIED:20260120T053343Z
UID:19987-1730883600-1731110340@www.naturalnurse.com
SUMMARY:[ONLINE] The Healers' Summit
DESCRIPTION:A very powerful and valuable FREE resource will be available to you on November 6 & 7\, 2024. \nGET YOUR FREE PASS here: https://www.6figurehealerssummit.com/link.php?id=29&h=2262af0ae8 \nThis event is called The Healers’ Summit\, and this free event is a video series that’s packed with tools\, strategies\, and free gifts from various experts in the field of conventional\, alternative and integrative health\, including myself. \nThis resource is a must-have for any adult or practitioner searching for natural solutions to improve health and quality of life. \nThere are more than 20 experts featured in The Healers’ Summit\, and availability is limited so make sure you register now before this event is full. \nThis event will be aired on November 6 & 7\, 2024 from 9am Pacific Time.  The event will be replayed until midnight\, November 8 for those who cannot attend the premier event. \nSome of the topics these experts will be covering in the video interviews include: \n– Relationships as a Key to Resilience \n– Pain Relief 2.0: The Gut\, Brain\, and Pain Connection \n– Addressing Health Through Vagus Nerve Activation \n– PAIN- Cooling the Fire Dragon\, Naturally! \n– Self-Employment: How micro-corporations empower providers and patients in the marketplace \n– Optimizing The Mind Gut Connection \n– Regenerative Pain Medicine as a First Line Therapy for Interventions \n– Mindful Beauty: A New Paradigm in Skincare To Heal Your Skin From The Inside Out \n– How to Stay Healthy in a Toxic Workplace \n– Tapping into the Endocannabinoid System for Better Health \n– and more… \nGet the information you need about effective\, alternative health modalities in short 30-minute videos! Real conversations from real experts!! \n SIGN UP for FREE ACCESS
URL:https://www.naturalnurse.com/event/online-the-healers-summit/
LOCATION:Online Series
CATEGORIES:2025 Events,Free Webinar
ATTACH;FMTTYPE=image/png:https://www.naturalnurse.com/wp-content/uploads/2024/10/Dr.-Ellen-Kamhi.png
END:VEVENT
END:VCALENDAR