BEGIN:VCALENDAR
VERSION:2.0
PRODID:-//The Natural Nurse - ECPv6.15.17.1//NONSGML v1.0//EN
CALSCALE:GREGORIAN
METHOD:PUBLISH
X-WR-CALNAME:The Natural Nurse
X-ORIGINAL-URL:https://www.naturalnurse.com
X-WR-CALDESC:Events for The Natural Nurse
REFRESH-INTERVAL;VALUE=DURATION:PT1H
X-Robots-Tag:noindex
X-PUBLISHED-TTL:PT1H
BEGIN:VTIMEZONE
TZID:America/New_York
BEGIN:DAYLIGHT
TZOFFSETFROM:-0500
TZOFFSETTO:-0400
TZNAME:EDT
DTSTART:20230312T070000
END:DAYLIGHT
BEGIN:STANDARD
TZOFFSETFROM:-0400
TZOFFSETTO:-0500
TZNAME:EST
DTSTART:20231105T060000
END:STANDARD
BEGIN:DAYLIGHT
TZOFFSETFROM:-0500
TZOFFSETTO:-0400
TZNAME:EDT
DTSTART:20240310T070000
END:DAYLIGHT
BEGIN:STANDARD
TZOFFSETFROM:-0400
TZOFFSETTO:-0500
TZNAME:EST
DTSTART:20241103T060000
END:STANDARD
BEGIN:DAYLIGHT
TZOFFSETFROM:-0500
TZOFFSETTO:-0400
TZNAME:EDT
DTSTART:20250309T070000
END:DAYLIGHT
BEGIN:STANDARD
TZOFFSETFROM:-0400
TZOFFSETTO:-0500
TZNAME:EST
DTSTART:20251102T060000
END:STANDARD
END:VTIMEZONE
BEGIN:VEVENT
DTSTART;VALUE=DATE:20240912
DTEND;VALUE=DATE:20240916
DTSTAMP:20260424T212025
CREATED:20240831T062510Z
LAST-MODIFIED:20240831T064446Z
UID:19796-1726099200-1726444799@www.naturalnurse.com
SUMMARY:2024 SOHO Expo Orlando Florida
DESCRIPTION:Join The Natural Nurse and many other experts in the 2024 SOHO Expo Education Program in Orlando Florida. FREE for SENPA members \nEllen Kamhi PhD\, RN will present a lecture about: \nBotanical Secrets–From Doctrine of Signatures to Adaptogens\nEllen Kamhi\, PhD\, RN\, The Natural Nurse®\, will present ancient theories and modern scientific validation about the spectacular healing activities of Herbal Medicine. We will delve deeply into Botanical Secrets that can be gleaned from The Doctrine of Signatures and investigate the health supportive potential credited to a group of herbs referred to as Adaptogens. Modern research has uncovered various mechanisms of action that may explain their ability to help the body resist and adapt to stress. These include positive effects on biosynthesis of RNA and proteins\, balancing carbohydrate metabolism\, reducing cortisol\, and decreasing inflammatory mediators. Lets investigate the secrets! \n \non Friday\, September 13\, 2024 at 7:30 PM – 8:30 PM\n \nRegistration is required. To register please go to this link: https://senpa.org/soho-events/soho-expo/ and open the Attendee Resources tab or contact Ellen Kamhi PhD RN. \nSOHO ADAPTOGENS SEPT 2024\n  \n 
URL:https://www.naturalnurse.com/event/2024-soho-expo-orlando-florida/
LOCATION:Gaylord Palms Kissimmee FL\, 6000 West Osceola Parkway\, Kissimmee\, FL\, 34746\, United States
CATEGORIES:2024 Events,Health Expos
ATTACH;FMTTYPE=image/jpeg:https://www.naturalnurse.com/wp-content/uploads/2018/09/soho-expo.jpg
ORGANIZER;CN="SENPA (South East Natural Products Association)":MAILTO:info@senpa.org
END:VEVENT
BEGIN:VEVENT
DTSTART;TZID=America/New_York:20240915T093000
DTEND;TZID=America/New_York:20240915T110000
DTSTAMP:20260424T212025
CREATED:20240707T044124Z
LAST-MODIFIED:20260120T053752Z
UID:19471-1726392600-1726398000@www.naturalnurse.com
SUMMARY:[ONLINE] 2024 Career Paths In Natural Health with Ellen Kamhi
DESCRIPTION:Register here: https://www.holisticlivingschool.org/product/career-paths-in-natural-health-with-ellen-kamhi-september-15-2024/\n\n\n3 CEUs are offered for Massage Therapists\, Dietitians\, Nurses\, and Midwives\n\nLearn how to pursue a career in natural health from The Natural Nurse® Ellen Kamhi\, PhD\, RN\, AHG\, AHN-BC. With many paths available\, Ellen explains the professional training for the various fields. She provides contact information to specific schools\, programs\, and organizations where you can begin the search to become a recognized natural health care provider. \nTuition: $35 / Early Bird Price: $25 through September 1\, 2024 \nDate: September 15\, 2024 \nTime: 9:30 to 11:00 AM \nLocation: Online via Zoom \nAll of our classes\, unless otherwise noted\, are available and accessible to everyone – whether you are an experienced herbalist\, a budding herbalist\, or simply herb-curious. Everyone is welcome. \nAll registrants will receive the course recording and handouts\, with access to materials for one year. \n3 CEUs are available to Massage Therapists\, Dietitians\, Nurses & Midwives in the state of Florida through CE Broker for students who successfully complete the course through attendance and submission of assignments. To add CEU credits to your enrollment\, click here. An additional $15 educational credit processing fee will apply \nPlease review this link for our school’s tuition and cancellation policies.
URL:https://www.naturalnurse.com/event/online-career-paths-in-natural-health-ellen-kamhi/
LOCATION:ONLINE
CATEGORIES:2024 Events,CEU available,Continuing Education Courses,Holistic Living School,On Demand
ATTACH;FMTTYPE=image/jpeg:https://www.naturalnurse.com/wp-content/uploads/2024/07/Career-Paths-In-Natural-Health-Ellen-Kamhi-September-15-2024-1.jpg
ORGANIZER;CN="Florida School of Holistic Living":MAILTO:info@holisticlivingschool.org
END:VEVENT
BEGIN:VEVENT
DTSTART;TZID=America/New_York:20240921T110000
DTEND;TZID=America/New_York:20240921T150000
DTSTAMP:20260424T212025
CREATED:20240619T173815Z
LAST-MODIFIED:20240919T180839Z
UID:19342-1726916400-1726930800@www.naturalnurse.com
SUMMARY:Herb Walk and Medicine Making  Funshop at Gilbertie's Farm\, CT 2024
DESCRIPTION:SOLD OUT\nOnline tickets here: https://www.gilbertiesorganics.com/event-details/local-herb-walk-make-your-own-medicine-workshop\n\n \n \nEdible & Medicinal Herb Walk and Medicine Making Funshop \nGilbertie’s Organics and Natural Alternatives presents:\nA Medicine Making and Herbal Plant Identification Intensive Workshop\nWith Naturopathic physician and Herbal professor Dr. Eugene Zampieron\, ND\, RH(AHG) and Dr.\nWHEN: Saturday\, September 21st  11AM – 3 PM\nWhere: Gilberties Organics\, 7 Sylvan Lane\, Westport CT 06612 –\n\nBack by popular demand\, this is an event you don’t want to miss!\nJoin Dr Eugene Zampieron\, ND\, RH(AHG)  (DrZnaturally) and Dr. Lindsay Chimileski ND\, RH(AHG)\, for an exciting herbal identification walk and medicine making workshop.\nThey will take participants on an herb walk to identify medicinal and edible plants through the Gilbertie’s property\, discussing the folklore\, chemistry\, and traditional uses of herbs.\nThey will then harvest many herbs and lead a workshop teaching participants to transform the herbs into cough syrups\, tinctures\, salves and other herbal medicaments.\nThe duo have led many excursions to the Island of Jamaica for Ecotoursforcures.\nAll participants will leave the workshop with medicines to take home and use.\nThe cost of the workshop is $55.\nBRING TWO SMALL COVERED JARS TO TAKE HOME YOUR TINCTURE & SALVE!\nTo get ticket: https://www.gilbertiesorganics.com/event-details/local-herb-walk-make-your-own-medicine-workshop\n 
URL:https://www.naturalnurse.com/event/herb-walk-medicine-making-funshop-at-gilberties-farm-ct-2-2024/
LOCATION:Gilbertie’s Organic Herb Garden\, 7 Sylvan Ln\,\, Westport\, CT\, 06880\, United States
CATEGORIES:2024 Events,Herbal Worshops
ATTACH;FMTTYPE=image/jpeg:https://www.naturalnurse.com/wp-content/uploads/2024/06/gilberties-funshop-1600x900-1.jpg
END:VEVENT
BEGIN:VEVENT
DTSTART;TZID=America/New_York:20240929T110000
DTEND;TZID=America/New_York:20240929T160000
DTSTAMP:20260424T212025
CREATED:20240619T175411Z
LAST-MODIFIED:20240930T205445Z
UID:19350-1727607600-1727625600@www.naturalnurse.com
SUMMARY:[2024] Fall Season Chinatown Herb Walk Tour in NYC
DESCRIPTION:https://www.naturalnurse.com/wp-content/uploads/2024/07/Chinatown-PSA-natural-Nurse-DrZ-radio-show.m4a\nHave you always wanted to explore Chinatown but were unsure where to go and which herbal vendors are reputable? With Dr. Z  (Eugene Zampieron ND\, RH(AHG) and the Natural Nurse® (Ellen Kamhi Ph.D.\, RN\, RH(AHG) as your tour guides\, you will explore Chinatown from a whole new perspective. They have been leading people through Chinatown twice a year for over 20 years. With their expertise in natural herbal medicine\, you’ll experience an authentic cultural excursion like going to another country on a budget for a day and learn about various Chinese herbal remedies. \n \nFor more information\, please visit the online brochure here. \nRegister NOW by filling out this form – This tour sells out!\nTuition: $55.00 (LUNCH NOT included)\n(Tuition covers Chinese Cultural Museum\, Chinese doctor’s honorarium\, fees\, handouts)\nCall DrZ at (203) 263-2970 for more information or to register\, email us at DoctorZnaturally@gmail.com\nTo register by mail\, make a check out and mail check to:\nNatural Alternatives   413 Grassy Hill\, Woodbury\, CT 06798\nOr Venmo tuition to DrZ at\nEugene Zampieron@Eugene-Zampieron\nSpecific directions to the location & itinerary sent via email after registration is complete.\n 
URL:https://www.naturalnurse.com/event/2024-fall-season-chinatown-herb-walk-tour-in-nyc/
LOCATION:Chinatown NYC\, Manhattan\, NY\, 10013\, United States
CATEGORIES:2024 Events,China Town
ATTACH;FMTTYPE=image/jpeg:https://www.naturalnurse.com/wp-content/uploads/2022/07/chinatown-1600x440-1.jpg
ORGANIZER;CN="Natural Alternatives":MAILTO:drznaturally@gmail.com
END:VEVENT
END:VCALENDAR