BEGIN:VCALENDAR
VERSION:2.0
PRODID:-//The Natural Nurse - ECPv6.15.17.1//NONSGML v1.0//EN
CALSCALE:GREGORIAN
METHOD:PUBLISH
X-ORIGINAL-URL:https://www.naturalnurse.com
X-WR-CALDESC:Events for The Natural Nurse
REFRESH-INTERVAL;VALUE=DURATION:PT1H
X-Robots-Tag:noindex
X-PUBLISHED-TTL:PT1H
BEGIN:VTIMEZONE
TZID:America/New_York
BEGIN:DAYLIGHT
TZOFFSETFROM:-0500
TZOFFSETTO:-0400
TZNAME:EDT
DTSTART:20230312T070000
END:DAYLIGHT
BEGIN:STANDARD
TZOFFSETFROM:-0400
TZOFFSETTO:-0500
TZNAME:EST
DTSTART:20231105T060000
END:STANDARD
BEGIN:DAYLIGHT
TZOFFSETFROM:-0500
TZOFFSETTO:-0400
TZNAME:EDT
DTSTART:20240310T070000
END:DAYLIGHT
BEGIN:STANDARD
TZOFFSETFROM:-0400
TZOFFSETTO:-0500
TZNAME:EST
DTSTART:20241103T060000
END:STANDARD
BEGIN:DAYLIGHT
TZOFFSETFROM:-0500
TZOFFSETTO:-0400
TZNAME:EDT
DTSTART:20250309T070000
END:DAYLIGHT
BEGIN:STANDARD
TZOFFSETFROM:-0400
TZOFFSETTO:-0500
TZNAME:EST
DTSTART:20251102T060000
END:STANDARD
END:VTIMEZONE
BEGIN:VEVENT
DTSTART;VALUE=DATE:20240301
DTEND;VALUE=DATE:20240304
DTSTAMP:20260425T073728
CREATED:20240124T220721Z
LAST-MODIFIED:20260120T053729Z
UID:18727-1709251200-1709510399@www.naturalnurse.com
SUMMARY:[2024] Thirteenth Annual Florida Herbal Conference
DESCRIPTION:I am so happy to share herbal knowledge with you at the 13th annual Florida Herbal Conference\, and I’d love to invite you to join me there where I will be presenting!\n \nEnjoy over forty classes\, meet many top herbalists and teachers\, and connect with other herbalists on the Retreats by the Lake on the shores of Tiger Lake in Lake Wales\, FL\, March 1-3\, 2024. with special guest speakers Mimi Prunella Hernandez and 7Song and musical guests Høly River. Plus a lineup of amazing teachers\, yoga\, plant walks\, a youth program\, Chef Hugo back with a nutritious delicious meal plan.\nLearn More and Register for in-person attendance:\n https://www.holisticlivingschool.org/2024-conference/\n\nCan’t join us in person? We’ll have a special VIRTUAL conference experience again this year! Enjoy 11 live sessions including opening and closing circle\, keynote events\, and five classes.\n\n\n Register for VIRTUAL ONLY\n\n\n \nThe program will inspire and enliven you\, making this an event you won’t want to miss. \nThe conference is hosted by The Florida School of Holistic Living. \nFor more information: https://www.floridaherbalconference.org/\n 
URL:https://www.naturalnurse.com/event/13th-florida-herbal-conference-ellen-kamhi-teacher/
LOCATION:Retreats by The Lake at Lake Wales\, 2819 Tiger Lake Rd\, Lake Wales\, FL\, 33898\, United States
CATEGORIES:2024 Events,Conventions & Conferences,Holistic Living School
ATTACH;FMTTYPE=image/jpeg:https://www.naturalnurse.com/wp-content/uploads/2024/01/Homepage-Cover1.jpg
ORGANIZER;CN="Florida Holistic Living School Conference":MAILTO:info@floridaherbalconference.org
END:VEVENT
BEGIN:VEVENT
DTSTART;TZID=America/New_York:20240305T183000
DTEND;TZID=America/New_York:20240305T193000
DTSTAMP:20260425T073728
CREATED:20240121T055225Z
LAST-MODIFIED:20240121T060402Z
UID:18705-1709663400-1709667000@www.naturalnurse.com
SUMMARY:[FREE] HILDEGARD - Weaving the Tapestry of Healing from the Cosmic Elements
DESCRIPTION:FREE and OPEN to ALL\nemail:      rsvp.upsilon@gmail.com     TO RECEIVE Zoom Link \n  \n1 CE Hour available for NURSES provided by NYU Rory Meyers College of Nursing \n \nFor more information\, email: rsvp.upsilon@gmail.com
URL:https://www.naturalnurse.com/event/free-webinar-weaving-the-tapestry-of-healing-from-the-cosmic-elements/
LOCATION:ONLINE
CATEGORIES:2024 Events,CEU available,Continuing Education Courses,Free Webinar
ORGANIZER;CN="UPSILON":MAILTO:rsvp.upsilon@gmail.com
END:VEVENT
BEGIN:VEVENT
DTSTART;TZID=America/New_York:20240310T093000
DTEND;TZID=America/New_York:20240310T110000
DTSTAMP:20260425T073728
CREATED:20231031T042737Z
LAST-MODIFIED:20240831T050024Z
UID:18235-1710063000-1710068400@www.naturalnurse.com
SUMMARY:[ONLINE] 2024 Natural Nurse Herbal Certification - Class 1 – Basics of Herbal Medicine
DESCRIPTION:REGISTER HERE: https://www.holisticlivingschool.org/product/natural-nurse-basics-of-herbal-medicine-2024/\n   3 CE Broker Credits are available for Licensed:  Nurses\, Midwives\, Massage Therapists\, Acupuncturists & Nutritionists when this class is taken individually\nSunday\, March 10\, 2024\n9:30 am – 11:00 am ET\n \nBasics of Herbal Medicine – In Basics of Herbal Medicine\, you will learn essential vocabularies\, such as the difference between extracts\, tinctures\, capsules\, infusions\, and decoctions\, standardized\, holistic balance\, as well as the safety and efficacy of herbal medicines. \nThis series\, offered by nurse and herbalist Ellen Kamhi\, RN\, is designed to offer flexibility for beginning or advanced herbal students. Use this series of classes to ignite your inspiration for better health with practical plant-based tools. Feel free to attend any one class on an individual basis\, or all four of the classes in the series. Now offered ONLINE! \nJoin nurse and herbalist Ellen Kamhi for an empowering and enriching journey into basic herbal medicine. Attend any one of the four workshops as a drop-in course\, or attend the entire series for a discount. Practitioners wishing to receive Continuing Education Units and others who would like to receive a Florida School of Holistic Living Certificate\, must attend the full series\, pay the CEU processing fee\, and complete all assignments. \nThis class meets for four Sundays over a four-month period\, from 9:30-11 am. The class will be live online via Zoom with the instructor in real-time. It will be interactive with question and answer sessions. All registrants will receive the course recording and handouts\, with access to materials for one year. \nNatural Nurse Herbal Certification Course:\n\n\n BASICS of Herbal Medicine Sunday March 10\, 2024  9:30 am – 11:00 am\n Botany & Botanical Nomenclature Sunday April 14\, 2024 9:30 am – 11:00 am\n Using Herbs for Yourself & Your Family Sunday May 19\, 2024  9:30 am-11:00 am\n Feeling the Consciousness of Plants  Sunday June 09\, 2024  9:30 am – 11:00 am\n\n\nAssignments can be emailed to the instructor. Capstone Herbal Preparation Project will need to be ‘snail-mailed’ to the instructor. All attendees who complete the full series and submit all assignments will receive a Certificate of Completion from the Florida School of Holistic Living. \nParticipants can choose to take the full course\, or any one of the modules\, for their own personal learning\, without paying the accreditation fee. \nStudents may register for a single class\, or for the full four-part series. Save $25 for total price of 4 classes\, when choosing the full series. An additional $45 savings is available to CEU seeking students. Notice 18 CEUs available for the series vs. 12 CEUs for all classes taken individually.  \n18 CE Broker Credits: Nurses\, Midwives\, Massage Therapists\, Acupuncturists\, Nutritionists \nFlorida School of Holistic Living Certificate available for any attendees who complete the requirements below (Recommended for all interested individuals\, as well as natural health professionals.):  \nTo receive CEU’s or a Certificate participants must: \n\nAttend all four classes*\nPurchase course textbook\, The Natural Medicine Chest\, by Ellen Kamhi\, PhD RN and Eugene Zampieron\, ND\nComplete homework assignments\n\nParticipants will receive a certificate indicating the level of course work and hours of study completed. \n  \n 
URL:https://www.naturalnurse.com/event/online-2024-natural-nurse-herbal-certification-class-1-basics-of-herbal-medicine/
LOCATION:Zoom Online by FSHL
CATEGORIES:2024 Events,CEU available,Continuing Education Courses,Holistic Living School,Online Herbal Medicine Course
ATTACH;FMTTYPE=image/jpeg:https://www.naturalnurse.com/wp-content/uploads/2023/10/Natural-Nurse-Basics-of-Herbal-Medicine-live-2024.jpg
ORGANIZER;CN="Florida School of Holistic Living":MAILTO:info@holisticlivingschool.org
END:VEVENT
BEGIN:VEVENT
DTSTART;VALUE=DATE:20240323
DTEND;VALUE=DATE:20240330
DTSTAMP:20260425T073728
CREATED:20230612T215711Z
LAST-MODIFIED:20251230T194821Z
UID:17112-1711152000-1711756799@www.naturalnurse.com
SUMMARY:EcoTours for Cures ® The Education Vacation in the Island of Jamaica 2024
DESCRIPTION:Travel with Dr. Eugene R. Zampieron (Dr. Z) and a host of esteemed botanical experts/teachers such as Dr. Lindsay Chimileski ND\, RH(AHG) to the island of \nJamaica\,WI on EcoTours for Cures ® The Education Vacation!\nDates: March  23-29\, 2024 \nHike deep into tropical Rainforests…\nSwim in majestic waterfalls\,\n(still unknown to the Tourist traps)\nDiscover a part of Jamaica\, UNTOUCHED by tourism\nFunshops on Caribbean EthnoBotany &\nMedicinal Herbs\, Roots and Natural (ITAL) Foods\nTravel with Jamaican Bush doctors &\nmelt into the pulse of their natural lifestyle & Culture\nMoonlit Fire Ceremonies\nNight beach cookouts\nEscape the cold\, nasty winter \n…on the Caribbean sea \necotours_2024\nTo view photos of past trips and more information about the tour\, visit Our Online Brochure \nFor terms and conditions of booking\, visit here \nPhone: ‪(203) 263-2970\nContact page: https://ecotoursforcures.com/info/
URL:https://www.naturalnurse.com/event/ecotours-for-cures-the-education-vacation-in-the-island-of-jamaica-2024/
LOCATION:Island of Jamaica
CATEGORIES:2024 Events,Jamaica West Indies
ATTACH;FMTTYPE=image/jpeg:https://www.naturalnurse.com/wp-content/uploads/2023/06/ecotours_2024-1600x520-1.jpg
END:VEVENT
END:VCALENDAR