BEGIN:VCALENDAR
VERSION:2.0
PRODID:-//The Natural Nurse - ECPv6.15.17.1//NONSGML v1.0//EN
CALSCALE:GREGORIAN
METHOD:PUBLISH
X-ORIGINAL-URL:https://www.naturalnurse.com
X-WR-CALDESC:Events for The Natural Nurse
REFRESH-INTERVAL;VALUE=DURATION:PT1H
X-Robots-Tag:noindex
X-PUBLISHED-TTL:PT1H
BEGIN:VTIMEZONE
TZID:America/New_York
BEGIN:DAYLIGHT
TZOFFSETFROM:-0500
TZOFFSETTO:-0400
TZNAME:EDT
DTSTART:20220313T070000
END:DAYLIGHT
BEGIN:STANDARD
TZOFFSETFROM:-0400
TZOFFSETTO:-0500
TZNAME:EST
DTSTART:20221106T060000
END:STANDARD
BEGIN:DAYLIGHT
TZOFFSETFROM:-0500
TZOFFSETTO:-0400
TZNAME:EDT
DTSTART:20230312T070000
END:DAYLIGHT
BEGIN:STANDARD
TZOFFSETFROM:-0400
TZOFFSETTO:-0500
TZNAME:EST
DTSTART:20231105T060000
END:STANDARD
BEGIN:DAYLIGHT
TZOFFSETFROM:-0500
TZOFFSETTO:-0400
TZNAME:EDT
DTSTART:20240310T070000
END:DAYLIGHT
BEGIN:STANDARD
TZOFFSETFROM:-0400
TZOFFSETTO:-0500
TZNAME:EST
DTSTART:20241103T060000
END:STANDARD
END:VTIMEZONE
BEGIN:VEVENT
DTSTART;TZID=America/New_York:20230216T180000
DTEND;TZID=America/New_York:20230216T190000
DTSTAMP:20260423T194437
CREATED:20230118T174630Z
LAST-MODIFIED:20230118T215308Z
UID:15828-1676570400-1676574000@www.naturalnurse.com
SUMMARY:[FREE WEBINAR] Hemp\, THC\, CBD\, Cannabis - Endocannabinoids
DESCRIPTION:FREE and OPEN to ALL \n                                                     REGISTER- email  rsvp.upsilon@gmail.com\nYou MAY have to cut and paste to complete email \nemail:      rsvp.upsilon@gmail.com     TO RECEIVE Zoom Link \n  \n1 CE Hour available for NURSES provided by NYU Rory Meyers College of Nursing \nHemp is taking the world by storm… with a dizzying variety of products and claims. What’s true? What’s hype? This presentation will provide history and sound scientific data to describe the therapeutic qualities of Cannabis components\, including Full Spectrum Hemp\, Flower sourced extracts\, CBD\, THC and more as well as identifying CB 1 and CB 2 receptor sites and both endogenous and exogenous endocannabinoids. \nWe will include a discussion of the latest FDA regulatory environment\, and how to negotiate the wide variety of options\, such as where the plant is grown\, carrier oils\, and dosage suggestions.* \n*These statements have not been evaluated by the Food and Drug Administration. This webinar and products discussed are not intended to diagnose\, treat\, cure\, or prevent any disease. \nFor more information\, email: rsvp.upsilon@gmail.com
URL:https://www.naturalnurse.com/event/free-webinar-hemp-thc-cbd-cannabis-endocannabinoids/
LOCATION:ONLINE
CATEGORIES:2023 Events,CEU available,Continuing Education Courses,Free Webinar
ATTACH;FMTTYPE=image/jpeg:https://www.naturalnurse.com/wp-content/uploads/2019/05/hemp-thc-cbd-endocannabinoids-gaia-1600x440.jpg
ORGANIZER;CN="UPSILON":MAILTO:rsvp.upsilon@gmail.com
END:VEVENT
BEGIN:VEVENT
DTSTART;TZID=America/New_York:20230212T130000
DTEND;TZID=America/New_York:20230212T140000
DTSTAMP:20260423T194437
CREATED:20230125T052932Z
LAST-MODIFIED:20230223T032655Z
UID:15913-1676206800-1676210400@www.naturalnurse.com
SUMMARY:[FREE ONLINE] Q& A about Natural Nurse Herbal Certification
DESCRIPTION:OPEN and FREE to ALL\nRegister: https://www.holisticlivingschool.org/product/natural-nurse-q-and-a/ \nJoin us for a chance to learn more about our our 2023 Natural Nurse Herbal Certification Course from The Natural Nurse® herself\, Ellen Kamhi. Get answers to your questions about what the course entails and how it can help further your holistic career in a live virtual Q&A. We will also have a special promo code for attendees to the live event for a discount on tuition when registering for the entire course. \nCost to attend: FREE \nDate: February 12\, 2023 \nTime: 1 PM \nLocation: live virtual meeting via Zoom\nZoom link will be sent to you after registration via email. \nIf you cannot join us during the scheduled meeting\, please view it later on our YouTube Channel.
URL:https://www.naturalnurse.com/event/natural-nurse-qa-with-ellen-kamhi/
LOCATION:Zoom Online by FSHL
CATEGORIES:2023 Events,Holistic Living School
ATTACH;FMTTYPE=image/jpeg:https://www.naturalnurse.com/wp-content/uploads/2023/01/natural-nurse-qa_february-2023_square.jpg
ORGANIZER;CN="Florida School of Holistic Living":MAILTO:info@holisticlivingschool.org
END:VEVENT
BEGIN:VEVENT
DTSTART;TZID=America/New_York:20230212T093000
DTEND;TZID=America/New_York:20230212T110000
DTSTAMP:20260423T194437
CREATED:20221231T061957Z
LAST-MODIFIED:20230223T032644Z
UID:15587-1676194200-1676199600@www.naturalnurse.com
SUMMARY:Crystallization Patterns
DESCRIPTION:Register here: https://www.holisticlivingschool.org/product/crystallization-patterns-february-2023/ \n3 CE Units are available for Licensed:  Nurses\, Midwives\, Massage Therapists\, Acupuncturists & Nutritionists\nCrystallization patterns are a key factor in the interaction between energetic essence and biological systems. In this class\, students explore how crystallization patterns relate to herbalism and natural healing. Examples of topics covered in this class include: water crystallization and herbal crystallization diagnostic patterns. \nTuition: $35 / Early Bird Price: $25 through January 29\, 2023 \nDate: February 12\, 2023 \nTime: 9:30 to 11:00 AM \nLocation: Online via Zoom \nAll of our classes\, unless otherwise noted\, are available and accessible to everyone – whether you are an experienced herbalist\, a budding herbalist\, or simply herb-curious. Everyone is welcome. \nAll registrants will receive the course recording and handouts\, with access to materials for one year. \n 
URL:https://www.naturalnurse.com/event/crystallization-patterns/
LOCATION:Online Course\, United States
CATEGORIES:2023 Events,CEU available,Continuing Education Courses,Holistic Living School
ORGANIZER;CN="Florida School of Holistic Living":MAILTO:info@holisticlivingschool.org
END:VEVENT
BEGIN:VEVENT
DTSTART;TZID=America/New_York:20230122T093000
DTEND;TZID=America/New_York:20230122T110000
DTSTAMP:20260423T194437
CREATED:20211220T032049Z
LAST-MODIFIED:20230223T032554Z
UID:11038-1674379800-1674385200@www.naturalnurse.com
SUMMARY:Supplement Savvy - Choosing the Best Quality Supplements
DESCRIPTION:Register here: https://www.holisticlivingschool.org/product/supplement-savvy-january-2023/ \n3 CE Units are available for Licensed:  Nurses\, Midwives\, Massage Therapists\, Acupuncturists & Nutritionists\nWe have a choice of where to get our supplements. For Herbalists – the BEST choice is often wildcrafting in your local natural habitat. However\, there are times when we may wish to use a commercially available herb or nutraceutical. Let’s make INFORMED Choices! Be a supplement savvy consumers. \nLEARN and SHARE:\n• Herb Label Reading- Tincture or Extract?\n• Dried Herb Equivalent?\n• Best time to take different kinds of vitamins and minerals\n• Which supplements to take together or separately to support absorption\n• Additives – Mag Stearate\, Benzoate?\n• Best and worst forms of EACH supplement\n• GMO status of supplements\n• Drug-Herb – supplement interactions\n• Drug nutrient depletion \nLearn the ‘rules of thumb’ about the best way to use different kinds of herbs\, vitamins\, minerals and nutraceuticals. Topics that can be ‘legally’ discussed with clients in a practice vs a store setting\, such as nutrients that are documented to be depleted when using particular pharmaceuticals\, and the importance of repletion. \nTuition: $35 / Early Bird Price: $25 through January 8\, 2023 \nDate: January 22\, 2023 \nTime: 9:30 to 11:00 AM \nLocation: Online via Zoom \nAll of our classes\, unless otherwise noted\, are available and accessible to everyone – whether you are an experienced herbalist\, a budding herbalist\, or simply herb-curious. Everyone is welcome. \nAll registrants will receive the course recording and handouts\, with access to materials for one year.
URL:https://www.naturalnurse.com/event/supplement-savvy-for-knowledgeable-health-providers-consumers/
LOCATION:Online Course\, United States
CATEGORIES:2023 Events,CEU available,Continuing Education Courses,Holistic Living School
ATTACH;FMTTYPE=image/jpeg:https://www.naturalnurse.com/wp-content/uploads/2022/12/Supplement-Savvy_with-Ellen_January-2023_square-1.jpg
ORGANIZER;CN="Florida School of Holistic Living":MAILTO:info@holisticlivingschool.org
END:VEVENT
END:VCALENDAR