BEGIN:VCALENDAR
VERSION:2.0
PRODID:-//The Natural Nurse - ECPv6.15.17.1//NONSGML v1.0//EN
CALSCALE:GREGORIAN
METHOD:PUBLISH
X-WR-CALNAME:The Natural Nurse
X-ORIGINAL-URL:https://www.naturalnurse.com
X-WR-CALDESC:Events for The Natural Nurse
REFRESH-INTERVAL;VALUE=DURATION:PT1H
X-Robots-Tag:noindex
X-PUBLISHED-TTL:PT1H
BEGIN:VTIMEZONE
TZID:America/New_York
BEGIN:DAYLIGHT
TZOFFSETFROM:-0500
TZOFFSETTO:-0400
TZNAME:EDT
DTSTART:20210314T070000
END:DAYLIGHT
BEGIN:STANDARD
TZOFFSETFROM:-0400
TZOFFSETTO:-0500
TZNAME:EST
DTSTART:20211107T060000
END:STANDARD
BEGIN:DAYLIGHT
TZOFFSETFROM:-0500
TZOFFSETTO:-0400
TZNAME:EDT
DTSTART:20220313T070000
END:DAYLIGHT
BEGIN:STANDARD
TZOFFSETFROM:-0400
TZOFFSETTO:-0500
TZNAME:EST
DTSTART:20221106T060000
END:STANDARD
BEGIN:DAYLIGHT
TZOFFSETFROM:-0500
TZOFFSETTO:-0400
TZNAME:EDT
DTSTART:20230312T070000
END:DAYLIGHT
BEGIN:STANDARD
TZOFFSETFROM:-0400
TZOFFSETTO:-0500
TZNAME:EST
DTSTART:20231105T060000
END:STANDARD
END:VTIMEZONE
BEGIN:VEVENT
DTSTART;VALUE=DATE:20220101
DTEND;VALUE=DATE:20220102
DTSTAMP:20260424T135733
CREATED:20220118T155612Z
LAST-MODIFIED:20220129T045040Z
UID:11235-1640995200-1641081599@www.naturalnurse.com
SUMMARY:[ONLINE] 2022 Herbs and Dowsing Healing Techniques for the Coming Time
DESCRIPTION:Contact to Sign Up and For More Information \n\nDiscover how you can be in charge of your health. Ellen Kamhi\,will share professional techniques you can safely use at home to discover which foods\, vitamins\, minerals\, herbs and homeopathic are best for you! Empower yourself by learning how to use Herbs Dowsing Healing Techniques to honor and interface with Herbal medicine. Enhance your ability to choose: which herb for whom\, when\, how much\, how often\, which combination…..learn how to use intention and understand the laws of non-locality to free your ability to influence healing at home as well as from a distance. Bring a pendulum to class if you have one. (not required)
URL:https://www.naturalnurse.com/event/herbs-dowsing-healing-techniques-ellen-kamhi/
CATEGORIES:2022 Events,CEU available,Continuing Education Courses,Holistic Living School
ORGANIZER;CN="Florida School of Holistic Living":MAILTO:info@holisticlivingschool.org
END:VEVENT
END:VCALENDAR