BEGIN:VCALENDAR
VERSION:2.0
PRODID:-//The Natural Nurse - ECPv6.15.17.1//NONSGML v1.0//EN
CALSCALE:GREGORIAN
METHOD:PUBLISH
X-ORIGINAL-URL:https://www.naturalnurse.com
X-WR-CALDESC:Events for The Natural Nurse
REFRESH-INTERVAL;VALUE=DURATION:PT1H
X-Robots-Tag:noindex
X-PUBLISHED-TTL:PT1H
BEGIN:VTIMEZONE
TZID:America/New_York
BEGIN:DAYLIGHT
TZOFFSETFROM:-0500
TZOFFSETTO:-0400
TZNAME:EDT
DTSTART:20190310T070000
END:DAYLIGHT
BEGIN:STANDARD
TZOFFSETFROM:-0400
TZOFFSETTO:-0500
TZNAME:EST
DTSTART:20191103T060000
END:STANDARD
BEGIN:DAYLIGHT
TZOFFSETFROM:-0500
TZOFFSETTO:-0400
TZNAME:EDT
DTSTART:20200308T070000
END:DAYLIGHT
BEGIN:STANDARD
TZOFFSETFROM:-0400
TZOFFSETTO:-0500
TZNAME:EST
DTSTART:20201101T060000
END:STANDARD
BEGIN:DAYLIGHT
TZOFFSETFROM:-0500
TZOFFSETTO:-0400
TZNAME:EDT
DTSTART:20210314T070000
END:DAYLIGHT
BEGIN:STANDARD
TZOFFSETFROM:-0400
TZOFFSETTO:-0500
TZNAME:EST
DTSTART:20211107T060000
END:STANDARD
END:VTIMEZONE
BEGIN:VEVENT
DTSTART;TZID=America/New_York:20200517T093000
DTEND;TZID=America/New_York:20200517T110000
DTSTAMP:20260423T233005
CREATED:20200421T212002Z
LAST-MODIFIED:20210618T191742Z
UID:8607-1589707800-1589713200@www.naturalnurse.com
SUMMARY:[ONLINE] Hildegard of Bingen – Mystic\, Psychic\, Visionary\, Herbalist – Weaving the Tapestry of Healing from the Cosmic Elements
DESCRIPTION:On-Demand (Anytime) Class\n3 CE Broker Credits are available for Licensed:  Nurses\, Midwives\, Massage Therapists\, Acupuncturists & Nutritionists\nRegister here: https://www.holisticlivingschool.org/product/hildegard-of-bingen-mystic-psychic-visionary-herbalist-2021/\n\n\nHildegard of Bingen (1098-1179) was a Benedictine Nun who is considered to be the founder of scientific natural history in Germany. Through mystical visions\, psychic impressions and observation of nature\, she developed a system of natural therapies\, using food\, gemstones\, and medicinal herbs. In this presentation\, we will investigate her recommendations based on diagnosis\, prognosis\, and treatments which combined physical treatment with holistic methods centered on “spiritual healing”\, including the application of tinctures\, herbs\, and precious stones\, recognizing that the four elements (fire\, air\, water\, and earth)\, the four seasons\, the four humors\, the four zones of the earth\, and the four major winds must be kept in balance. We will also review the modern Scientific Validation that supports the continued use of her methods.\n\n\nTuition is $35; for CEU credits add $15
URL:https://www.naturalnurse.com/event/online-hildegard-bingen-healing-cosmic-elements/
LOCATION:ONLINE
CATEGORIES:2021 events,Holistic Living School
ATTACH;FMTTYPE=image/jpeg:https://www.naturalnurse.com/wp-content/uploads/2020/04/Hildegard-of-Bigen-May-2020.jpg
ORGANIZER;CN="Florida School of Holistic Living":MAILTO:info@holisticlivingschool.org
END:VEVENT
END:VCALENDAR