BEGIN:VCALENDAR
VERSION:2.0
PRODID:-//The Natural Nurse - ECPv6.15.17.1//NONSGML v1.0//EN
CALSCALE:GREGORIAN
METHOD:PUBLISH
X-ORIGINAL-URL:https://www.naturalnurse.com
X-WR-CALDESC:Events for The Natural Nurse
REFRESH-INTERVAL;VALUE=DURATION:PT1H
X-Robots-Tag:noindex
X-PUBLISHED-TTL:PT1H
BEGIN:VTIMEZONE
TZID:America/New_York
BEGIN:DAYLIGHT
TZOFFSETFROM:-0500
TZOFFSETTO:-0400
TZNAME:EDT
DTSTART:20190310T070000
END:DAYLIGHT
BEGIN:STANDARD
TZOFFSETFROM:-0400
TZOFFSETTO:-0500
TZNAME:EST
DTSTART:20191103T060000
END:STANDARD
BEGIN:DAYLIGHT
TZOFFSETFROM:-0500
TZOFFSETTO:-0400
TZNAME:EDT
DTSTART:20200308T070000
END:DAYLIGHT
BEGIN:STANDARD
TZOFFSETFROM:-0400
TZOFFSETTO:-0500
TZNAME:EST
DTSTART:20201101T060000
END:STANDARD
BEGIN:DAYLIGHT
TZOFFSETFROM:-0500
TZOFFSETTO:-0400
TZNAME:EDT
DTSTART:20210314T070000
END:DAYLIGHT
BEGIN:STANDARD
TZOFFSETFROM:-0400
TZOFFSETTO:-0500
TZNAME:EST
DTSTART:20211107T060000
END:STANDARD
END:VTIMEZONE
BEGIN:VEVENT
DTSTART;TZID=America/New_York:20200209T093000
DTEND;TZID=America/New_York:20200209T110000
DTSTAMP:20260423T220515
CREATED:20191204T051554Z
LAST-MODIFIED:20191204T051706Z
UID:8071-1581240600-1581246000@www.naturalnurse.com
SUMMARY:[ONLINE] Herbal Manufacturing - Legal Considerations
DESCRIPTION:Register here: https://www.holisticlivingschool.org/events/herbal-manufacturing-legal-considerations/\n\n3 CEUs are offered for Massage Therapists\, Dietitians\, Nurses\, and Midwives in the state of Florida for an additional $15 processing fee.\n\nConsidering preparing and selling herbal products? Designing your own attractive labels? If you stay ‘low and local’\, traditional sharing and trading may allow you to stay under the radar. However\, to move into a more commercial setting\, such as health food stores and online retail\, there is a vast array of Good Manufacturing Practice and label requirements that must be met and mastered if you are committed to avoiding the very expensive pitfalls of becoming ‘pen pals’ with the FTC and FDA.\n\nIn this lecture we will outline definitions of marketing and labeling that is regulated by government organizations in the United States\, and specific resources where a manufacturer can access compliance criteria. Ellen Kamhi PhD RN will share her expertise as an herbal formulator and regulatory consultant in the Nutraceutical Industry\, so you will not be forced to say “ I did not know” – not a defense!\nSun\, February 9\, 9:30am – 11:00am \nFee: $ 35.00 \nEarly Bird Registration: $25.00 when you register before February 2
URL:https://www.naturalnurse.com/event/online-herbal-manufacturing-legal-considerations/
LOCATION:ONLINE
CATEGORIES:2020 events,CEU available,Continuing Education Courses,Holistic Living School
ATTACH;FMTTYPE=image/jpeg:https://www.naturalnurse.com/wp-content/uploads/2019/12/Herbal-Manufacturing-FEb-2020.jpg
ORGANIZER;CN="Florida School of Holistic Living":MAILTO:info@holisticlivingschool.org
END:VEVENT
BEGIN:VEVENT
DTSTART;TZID=America/New_York:20200119T093000
DTEND;TZID=America/New_York:20200119T093000
DTSTAMP:20260423T220515
CREATED:20191204T050424Z
LAST-MODIFIED:20191226T060849Z
UID:8067-1579426200-1579426200@www.naturalnurse.com
SUMMARY:[ONLINE] Hemp THC CBD Cannabis – Endocannabinoids – What’s all the BUZZ ?
DESCRIPTION:3 CE UNITS for RN\, NP\, RD\, Midwife\, Nutritionist\, LMT\n\nRegister here: https://www.holisticlivingschool.org/events/hemp-thc-cbd-cannabis/\n\n\n                                  \n\nHemp is taking the world by storm…with a dizzying variety of products and claims. What’s true? What’s hype? This presentation will provide history and sound scientific data to describe the therapeutic qualities of Cannabis components\, including Full Spectrum Hemp\, Flower sourced extracts\, CBD\, THC and more\, as well as identifying CB 1 and CB 2 receptor sites and both endogenous and exogenous endocannabinoids. We will include a discussion of the latest FDA regulatory environment\, and how to negotiate the wide variety of options\, such as where the plant is grown\, carrier oils\, and dosage suggestions.*\n\n\n Attendee will recognize the controversies in terms of the use of herbal cannabis\nAttendee will explore the differences/similarities between Endogenous and Exogenous Endocannabinoids\n Attendee will understand the current regulatory environment of Cannabis-related regulations\n\n\nSun\, January 19\, 9:30am – 11:00am \nFee: $ 35.00 \nEarly Bird Registration: $25.00 when you register before January 5 \n*These statements have not been evaluated by the Food and Drug Administration. This webinar and products discussed are not intended to diagnose\, treat\, cure\, or prevent any disease. \n 
URL:https://www.naturalnurse.com/event/online-hemp-thc-cbd-cannabis-endocannabinoids-jan-2020/
LOCATION:ONLINE
CATEGORIES:2020 events,CEU available,Holistic Living School
ATTACH;FMTTYPE=image/jpeg:https://www.naturalnurse.com/wp-content/uploads/2019/12/HempCannabis-Jan-19-2020.jpg
ORGANIZER;CN="Florida School of Holistic Living":MAILTO:info@holisticlivingschool.org
END:VEVENT
BEGIN:VEVENT
DTSTART;TZID=America/New_York:20200107T183000
DTEND;TZID=America/New_York:20200107T200000
DTSTAMP:20260423T220515
CREATED:20191101T060610Z
LAST-MODIFIED:20211220T051344Z
UID:7879-1578421800-1578427200@www.naturalnurse.com
SUMMARY:[2020-Session 1] Natural Remedies Classes (4) at Century Village
DESCRIPTION:(Century Village Residents Only) \nNATURAL REMEDIES – Safe and Effective Use!\nEllen Kamhi PhD\, RN\, AHG_RH\, AHN-BC\, The Natural Nurse®\, has been involved in natural health care since 1964. She is a medical school instructor\, teaches botanical pharmacology\, is a professional member of the American Herbalist Guild\, and is Board Certified as a Holistic Nurse. Dr Kamhi has authored many books\, including THE NATURAL MEDICINE CHEST. She writes the monthly article “Health Matters” in the Century Village Reporter. \nTopics  Include:\n\n Herbs for Health and Energy\n Wild Plants that Grow in Century Village that can be used for Food and Medicine\n Homeopathics – are they real and do they help?\n Supplements and Vitamins- better off with them or without them?\n Organic\, Natural\, Gluten Free- what does it all mean?\n\n\n  \nCome with your QUESTIONS! \nTues Jan 07\, 2020\n6:30-8:00 pm \nNatural Remedies Class 1\nCentury Village\, Deerfield Beach Florida\nRegister: wpascal@cveevents.com\, 954-428-6892 Ext 4 \n\n Tues Jan 14\, 2020\n6:30-8:00 pm \nNatural Remedies Class 2\nCentury Village\, Deerfield Beach Florida\nRegister: wpascal@cveevents.com\, 954-428-6892 Ext 4 \n\nTues Jan 21\, 2020\n6:30-8:00 pm \nNatural Remedies Class 3\nCentury Village\, Deerfield Beach\, Florida\nRegister: wpascal@cveevents.com\, 954-428-6892 Ext 4 \n\nTues Jan 28\, 2020\n6:30-8:00 pm \nNatural Remedies Class 4\nCentury Village\, Deerfield Beach\, Florida\nRegister: wpascal@cveevents.com\, 954-428-6892 Ext 4 \nImage credit:\nImage by Sasin Tipchai from Pixabay
URL:https://www.naturalnurse.com/event/2020-1-natural-remedies-classes-century-village/
LOCATION:Century Village Deerfield Beach\, GPG Room\, FL\, United States
CATEGORIES:2020 events,Funshop
ATTACH;FMTTYPE=image/jpeg:https://www.naturalnurse.com/wp-content/uploads/2019/11/century-village_natural-remedies_1600x440.jpg
ORGANIZER;CN="Century Village Deerfield Beach":MAILTO:Goodfishdr@aol.com
END:VEVENT
END:VCALENDAR