BEGIN:VCALENDAR
VERSION:2.0
PRODID:-//The Natural Nurse - ECPv6.15.17.1//NONSGML v1.0//EN
CALSCALE:GREGORIAN
METHOD:PUBLISH
X-WR-CALNAME:The Natural Nurse
X-ORIGINAL-URL:https://www.naturalnurse.com
X-WR-CALDESC:Events for The Natural Nurse
REFRESH-INTERVAL;VALUE=DURATION:PT1H
X-Robots-Tag:noindex
X-PUBLISHED-TTL:PT1H
BEGIN:VTIMEZONE
TZID:America/New_York
BEGIN:DAYLIGHT
TZOFFSETFROM:-0500
TZOFFSETTO:-0400
TZNAME:EDT
DTSTART:20180311T070000
END:DAYLIGHT
BEGIN:STANDARD
TZOFFSETFROM:-0400
TZOFFSETTO:-0500
TZNAME:EST
DTSTART:20181104T060000
END:STANDARD
BEGIN:DAYLIGHT
TZOFFSETFROM:-0500
TZOFFSETTO:-0400
TZNAME:EDT
DTSTART:20190310T070000
END:DAYLIGHT
BEGIN:STANDARD
TZOFFSETFROM:-0400
TZOFFSETTO:-0500
TZNAME:EST
DTSTART:20191103T060000
END:STANDARD
BEGIN:DAYLIGHT
TZOFFSETFROM:-0500
TZOFFSETTO:-0400
TZNAME:EDT
DTSTART:20200308T070000
END:DAYLIGHT
BEGIN:STANDARD
TZOFFSETFROM:-0400
TZOFFSETTO:-0500
TZNAME:EST
DTSTART:20201101T060000
END:STANDARD
END:VTIMEZONE
BEGIN:VEVENT
DTSTART;VALUE=DATE:20190228
DTEND;VALUE=DATE:20190303
DTSTAMP:20260423T220313
CREATED:20181028T060741Z
LAST-MODIFIED:20181028T060741Z
UID:6170-1551312000-1551571199@www.naturalnurse.com
SUMMARY:13th Annual Evidence-based Complementary & Alternative Cancer Therapies Conference
DESCRIPTION:Register Here\nImmunotherapy from a natural perspective\nEllen Kamhi PhD RN- Herbs For Immune Support- NATURAL PLANTS TO THE RESCUE !
URL:https://www.naturalnurse.com/event/13th-annual-evidence-based-complementary-alternative-cancer-therapies-conference/
LOCATION:Embassy Suites Hotel\, 1601 Belvedere Road\, West Palm Beach\, FL\, 33406\, United States
CATEGORIES:2019 events,Conventions & Conferences
ATTACH;FMTTYPE=image/png:https://www.naturalnurse.com/wp-content/uploads/2018/10/aapr-logo.png
ORGANIZER;CN="The Annie Appleseed Project":MAILTO:annieappleseedpr@aol.com
END:VEVENT
BEGIN:VEVENT
DTSTART;VALUE=DATE:20190222
DTEND;VALUE=DATE:20190225
DTSTAMP:20260423T220313
CREATED:20181028T053120Z
LAST-MODIFIED:20190115T015428Z
UID:6161-1550793600-1551052799@www.naturalnurse.com
SUMMARY:2019 FLORIDA HERBAL CONFERENCE
DESCRIPTION:Early Registration Until Nov 15\, 2018 \nhttps://floridaherbalconference.org/ \n \nDo you love herbs\, healing\, and the beautiful outdoors? Join us for the seventh annual Florida Herbal Conference\, held February 22-24\, 2019 in Lake Wales\, FL\, featuring Ellen Kamhi PhD RN\, along with many teachers. \n \nEllen Kamhi PhD RN will be presenting the following workshops: \nBOTANICAL REMEDIES FOR PAIN AND INFLAMMATION  \nCurrent medical literature is documenting the link between inflammation and degenerative illnesses\, including Arthritis\, Alzheimer’s\, Diabetes\, Heart disease and Cancer. Societies around the globe have experimented with natural remedies that modulate inflammation for centuries. Scientific evidence supports many of these traditional therapeutics\, which have a much better risk to benefit profile than conventional drugs such as Vioxx\, Celebrex and NSAID’s\, especially for long term use. In this presentation we will discuss the basic etiology and range of substantiated natural constituents that may help prevent or ameliorate inflammation. For each botanical\, we will elucidate: traditional/folkloric use\, chemical constituents\, possible mechanism of action\, suggested dosage\, cautions including possible herb/drug interactions \nHERBS\, DOWSING & RADIONICS: SELF-CARE TECHNIQUES FOR THE COMING TIMES  \nEmpower yourself by learning How To Use Dowsing and Radionics To Honor and Interface With Herbal Medicine. The ancient art of dowsing has been a time honored system used by healers around the world as a sacred tool to measure and tune into vibrational fields that surround all plants\, animals\, humans and imponderable essences. There are many kinds of dowsing tools\, including pendulums\, dowsing ‘rods’ and advanced electronic field readers\, and body centered ‘stickplates’. Radionics is a system of measuring and influencing energy patterns\, frequencies\, signatures and vibrational rhythms. Basic to radionic theory and practice is the concept that everything shares a common ground in that we are all bathed in the electro-magnetic and other energy fields of the entire Universe. Through the use of simple tools\, energy and intention\, healthy patterns can be evaluated and restored. Dowsing and radionics are practical tools that enhance sharing HERBS AS MEDICINE\, by having a tool to evaluate formulations and dosing specific to EACH INDIVIDUAL. In addition\, via Radionics\, plant medicines can be ‘broadcast at a distance’ to enhance healing for ourselves\, friends and loved ones. \n \nWith herbal teachers gathering to share their wisdom\, participants will enjoy choosing from over 40 workshops\, plant walks\, and classes throughout the weekend\, ranging from Clinical Herbalism to Kitchen and Garden medicine. Recreational activities such as drumming\, yoga\, singing\, and canoeing provide a variety of options to unwind and relax under the beautiful live oak trees. Enjoy evening keynotes and interactive musical experiences plus a drumming circle around the fire. Take home treasures from artisans and crafters in our Herbal Marketplace. \nThe program will inspire and enliven you\, making this an event you won’t want to miss. \nThe conference is hosted by The Florida School of Holistic Living. Camping is included in registration\, and indoor cabin lodging and weekend meal plans are also available. Proceeds will benefit United Plant Savers. \nFor more information: www.FloridaHerbalConference.org.
URL:https://www.naturalnurse.com/event/2019-florida-herbal-conference/
LOCATION:Retreats by The Lake at Lake Wales\, 2819 Tiger Lake Rd\, Lake Wales\, FL\, 33898\, United States
CATEGORIES:2019 events,Conventions & Conferences
ATTACH;FMTTYPE=image/jpeg:https://www.naturalnurse.com/wp-content/uploads/2016/02/FLherbLogoFinal.jpg
ORGANIZER;CN="Florida Holistic Living School Conference":MAILTO:info@floridaherbalconference.org
END:VEVENT
BEGIN:VEVENT
DTSTART;TZID=America/New_York:20190212T183000
DTEND;TZID=America/New_York:20190226T193000
DTSTAMP:20260423T220313
CREATED:20181125T212026Z
LAST-MODIFIED:20260309T200559Z
UID:6303-1549996200-1551209400@www.naturalnurse.com
SUMMARY:[Live Webinar Intensive Series] - Scientific Validation of Herbal Medicine
DESCRIPTION:Click here for more details: https://www.americanherbalistsguild.com/live-webinar-intensive-series-scientific-validation-herbal-medicine-ellen-kamhi-phd-rn-ahgrh-ahn-bc\nDive into this 3-week intensive series with Ellen Kamhi\, PhD\, RN\, RH(AHG)\, AHN-BC\, as we explore the scientific validation of herbal medicine. \nLive Dates: 6:30-7:30 pm EST\, Tuesdays\, February 12\, 19\, and 26\nClasses will be recorded and available for participant viewing at any time. \nRegister at the links below. Please note: once your transaction has been completed\, selecting “Return to Merchant” on the PayPal invoice screen will take you to the Zoom webinar registration form. Please complete all steps. \nAHG Member Payment Link: $75 \nNon-Member Payment Link: $100 \nEllen Kamhi PhD RN will discussion about the ‘inside story’ of how herbs actually work. We will transverse the indigenous traditional use and delve into the depths of scientific validity.\n\n\n Why does berberine kill bacteria without causing the development of resistant strains?\n How does Red Yeast Rice interfere with cellular pathways to inhibit Co Q 10?\n Does silymarin upregulate the P 450 Liver Enzymes to enhance Detoxification?\n\n\nUnderstand mechanisms of action of how herbs heal \, along with possible adverse effects and herb drug interactions.  In Session 3\, we will investigate ancient beliefs along with scientific inquiry into the HOW and WHY of what many herbalists experience themselves in the Field – Interspecies Communication with Plants. \n Register for this webinar
URL:https://www.naturalnurse.com/event/live-webinar-intensive-series-scientific-validation-of-herbal-medicine/
LOCATION:ONLINE
CATEGORIES:2019 events,Online Herbal Medicine Course
ATTACH;FMTTYPE=image/jpeg:https://www.naturalnurse.com/wp-content/uploads/2018/11/webinar-scientific-validation-botanical-medicine_1600x628.jpg
ORGANIZER;CN="American Herbalists Guild":MAILTO:office@americanherbalistsguild.com
END:VEVENT
BEGIN:VEVENT
DTSTART;TZID=America/New_York:20190210T150000
DTEND;TZID=America/New_York:20190210T170000
DTSTAMP:20260423T220313
CREATED:20181026T053335Z
LAST-MODIFIED:20181026T053335Z
UID:6144-1549810800-1549818000@www.naturalnurse.com
SUMMARY:Dowsing and Radionics - Measuring and Interacting with Energy Fields for Health Balance
DESCRIPTION:FREE AND OPEN TO ALL \nEmpower yourself by learning how to use Dowsing and Radionics to honor and interface with Herbal medicine. Enhance your ability to choose: which herb for whom\, when\, how much\, how often\, which combination. \nRadionics is a system of measuring and influencing energy patterns\, frequencies\, signatures and vibrational rhythms. Basic to radionic theory and practice is the concept that everything shares a common ground in that we are all bathed in the electro-magnetic and other energy fields of the entire Universe. Through the use of simple tools\, energy and intention\, healthy patterns can be evaluated and restored. \nPlease check back for more details
URL:https://www.naturalnurse.com/event/dowsing-radionics-energy-fields-health/
LOCATION:Theosophy Society of Deerfield Beach\, 831 SE 9th St\, Deerfield Beach\, FL\, 33441\, United States
CATEGORIES:2019 events
ATTACH;FMTTYPE=image/jpeg:https://www.naturalnurse.com/wp-content/uploads/2015/12/dowsing-pendulum.jpg
END:VEVENT
BEGIN:VEVENT
DTSTART;TZID=America/New_York:20190206T130000
DTEND;TZID=America/New_York:20190206T140000
DTSTAMP:20260423T220313
CREATED:20181024T192714Z
LAST-MODIFIED:20181026T044449Z
UID:6137-1549458000-1549461600@www.naturalnurse.com
SUMMARY:Nature Club Of Century Village
DESCRIPTION:Join Ellen Kamhi\, PhD\, RN\, The Natural Nurse® \, as we explore edible and medicinal wild plants. Many of these are our neighbors right here in Florida in Century Village !\nFree to all Century Village residents- GPA Clubhouse \nMerryl Kafka \nContact: President of the CVE Nature Club. Goodfishdr@aol.com \n917-838-2647
URL:https://www.naturalnurse.com/event/nature-club-of-century-village/
LOCATION:Century Village Deerfield Beach\, GPA Room\, FL\, United States
CATEGORIES:2019 events,Funshop
ATTACH;FMTTYPE=image/jpeg:https://www.naturalnurse.com/wp-content/uploads/2018/10/nature-club-century-village-1600x440.jpg
ORGANIZER;CN="Century Village Deerfield Beach":MAILTO:Goodfishdr@aol.com
END:VEVENT
BEGIN:VEVENT
DTSTART;TZID=America/New_York:20190205T160000
DTEND;TZID=America/New_York:20190205T170000
DTSTAMP:20260423T220313
CREATED:20181024T190517Z
LAST-MODIFIED:20181206T215505Z
UID:6133-1549382400-1549386000@www.naturalnurse.com
SUMMARY:ONLINE  1.5 CE: The EYES Have It! Eye Health Naturally!
DESCRIPTION:Click Here to Register (for Healthcare Professionals and Students Only)\nSponsored by GAIA HERBS \nOur eyes have been called “the Windows to our Soul”! Eye health is supported by antioxidants to protect against oxidative damage that occurs through many factors\, including aging\, limited consumption of protective nutrients\, and the constant onslaught of pollutants\, as well as modern day stress caused by blue light emissions from computers\, cell phones and other devices. We can help to promote healthy vision and support normal eye function with eye exercise and Rainbow Nutrients\, and by including naturally occurring antioxidants in our daily regimen. These include anthocyanins from bilberry\, proanthocyanidins from grape seed\, and carotenoids such as lutein from marigold along with nutrients such as Vitamin C and astaxanthin.* \nHerbs discussed include marigold\, bilberry\, blueberry\, grape seed\, eyebright and rosemary.\n\nThis webinar is for healthcare professionals and students only. \nCE Info:\n\n This webinar will be submitted for 1.0 credit of Naturopathic Continuing Education by The American Association of Naturopathic Physicians.\n To receive CE credit\, you must attend the live event and register using ND credentials.\n It is only eligible for those in the U.S. After attending the live event\, you will receive your CE certificate via email within 3-4 weeks.\n\n\n\nFREE for Professionals and Students\n \n 
URL:https://www.naturalnurse.com/event/online-1-5-ce-the-eyes-have-it-eye-health-naturally/
LOCATION:ONLINE
CATEGORIES:2019 events,CEU available
ATTACH;FMTTYPE=image/png:https://www.naturalnurse.com/wp-content/uploads/2018/01/logo-professional.png
ORGANIZER;CN="Gaia Herbs Professional Solutions":MAILTO:smc@gaiaherbs.com
END:VEVENT
BEGIN:VEVENT
DTSTART;TZID=America/New_York:20190125T170000
DTEND;TZID=America/New_York:20190125T200000
DTSTAMP:20260423T220313
CREATED:20181024T185731Z
LAST-MODIFIED:20181024T185731Z
UID:6128-1548435600-1548446400@www.naturalnurse.com
SUMMARY:EARTHSAVE MIAMI FREE VEGAN DINNER
DESCRIPTION:Florida Wild Food Foraging- Nourishing the Vegan Within \nJoin Ellen Kamhi\, The Natural Nurse. Learn about edible and medicinal Wild Florida Plants\, along with other herbals & nutritional supplements to keep Vegans thriving! \nFREE EVENT\, Please Register for Food Count
URL:https://www.naturalnurse.com/event/earthsave-miami-free-vegan-dinner/
LOCATION:Tamarac Community Center Paradise Ballroom\, 8601 W. Commercial Blvd\, Tamarac\, FL\, 33351\, United States
CATEGORIES:2019 events
ATTACH;FMTTYPE=image/jpeg:https://www.naturalnurse.com/wp-content/uploads/2018/10/miami-vegan-dinner-1600x440.jpg
ORGANIZER;CN="EARTHSAVE MIAMI":MAILTO:brookkatz@hotmail.com
END:VEVENT
BEGIN:VEVENT
DTSTART;TZID=America/New_York:20190121T190000
DTEND;TZID=America/New_York:20190121T210000
DTSTAMP:20260423T220313
CREATED:20190112T005533Z
LAST-MODIFIED:20190114T174203Z
UID:6474-1548097200-1548104400@www.naturalnurse.com
SUMMARY:[Heartspace Meeting] The Natural Guide to Great Sex
DESCRIPTION:How hormone levels affect your sexual wellness\n Quick and easy ways to measure your hormone levels\n Natural hormone enhancing remedies and how to use them\n Natural herbal aphrodisiacs for men and women\n Lovemaking rituals to enhance performance from Tantra\, Tao\, Kabbala\n Mind-body sexual enhancement tools using sight and sound and aroma to stimulate the senses\n Stimulating the “RING OF FIRE”\n\n\nBook: The Natural Guide to Great Sex by Ellen Kamhi PhD\, RN\, AHG\, AHN-BC \nThe Natural Guide to Great Sex: Improve Your Love Life with Nature’s Alternatives to HRT and Viagra \n\n\nNote from the organizer (Rachel):\nWe will have our pot luck dinner at 7:00 – 8:00 then Ellen will give her presentation. Donation of $5.00 with food and $10.00 without food will be taken at the door. Please bring dinner food\, not desserts\, so we can have healthy foods\, with fewer desserts. Also\, please bring exact change\, either  a $5.00 or $10.00 bill. Thank you. \nGurunam’s address is 5200 N. Flagler Dr. West Palm Beach. 33407. When you get to the gate\, tell the guard you are going to the Heartspace meeting or Gurunam’s event. At the door press 3# to open the door. \nTake 95 to 45th St. Go east to Flagler Dr. and go north to 5200. Please invite your friends to join us. For any information\, call me at 561-243-0164. If you want to text me\, text at 561-504-4991. I look forward to seeing you all there.
URL:https://www.naturalnurse.com/event/heartspace-natural-guide-great-sex/
LOCATION:Gurunam Khalsa Heartspace Meeting Room\, 5200 N. Flagler Dr.\, West Palm Beach\, FL\, 33407\, United States
CATEGORIES:2019 events,Lectures
ATTACH;FMTTYPE=image/jpeg:https://www.naturalnurse.com/wp-content/uploads/2019/01/heartspace-meeting_1600x440.jpg
ORGANIZER;CN="Rachel Rose":MAILTO:rrose27@aol.com
END:VEVENT
BEGIN:VEVENT
DTSTART;VALUE=DATE:20190110
DTEND;VALUE=DATE:20190205
DTSTAMP:20260423T220313
CREATED:20181228T051631Z
LAST-MODIFIED:20260120T053342Z
UID:6412-1547078400-1549324799@www.naturalnurse.com
SUMMARY:FREE WEBINAR - MAGNIFICENT MIDLIFE WOMAN - Learn the Secrets
DESCRIPTION:Love Your Life- Revitalize After 40!\nThey say older means wiser\, but the aging process also brings a lot of change. Lets revisit and revitalize: \nMark your calendar for a great start to the New Year- \nStarts Sunday JAN 10th through FEB 4th sign up now for FREE !\nWe will discuss solutions to challenges with: \n\n\n Skin\n Hair\n Vision\n Sleep habits\n Memory\n Libido\n\n\nLots to navigate!! \nHere is a FREE online event that’s perfect for you! \nMy colleague Sheree Clark is presenting \nThe Magnificent Midlife Woman:\nHow to Feel Fabulous in Your Skin\, Your Body\, and Your Life When You’re 40+. \nFree Interviews on topics affecting women at midlife. \nFrom weight to sex drive\, from alcohol to divorce\, Sheree isn’t afraid to ask the questions that are on your mind. The audio interviews are short but focused – Sheree is an experienced show host – and I’m honored to be included in her series. \nEnjoy this unique chance to listen to dozens of the best health\, exercise\, sobriety\, relationship and lifestyle authors\, teachers and researchers out there. \nYou’ll get insights\, tips\, resources…and if I know Sheree\, count on a few surprises\, too! \nClick here to claim your FREE spot in Magnificent Midlife Woman. \nP.S. Don’t miss the chance for your personal breakthrough! \nGo here to register – YOU can also copy and paste this URL to your web browser https://pg605.isrefer.com/go/mmw2019/ekam
URL:https://www.naturalnurse.com/event/free-webinar-magnificent-midlife-woman/
LOCATION:ONLINE
CATEGORIES:2019 events,Free Webinar
ATTACH;FMTTYPE=image/jpeg:https://www.naturalnurse.com/wp-content/uploads/2018/12/featured-image-magnificent-midlife.jpeg
END:VEVENT
BEGIN:VEVENT
DTSTART;TZID=America/New_York:20190108T183000
DTEND;TZID=America/New_York:20190129T200000
DTSTAMP:20260423T220314
CREATED:20160920T185411Z
LAST-MODIFIED:20181024T170006Z
UID:3113-1546972200-1548792000@www.naturalnurse.com
SUMMARY:Jan 2019 NATURAL MEDICINE CLASS - CENTURY VILLAGE
DESCRIPTION:(Century Village Residents Only) \nTues Jan 08\, 2019\n6:30-8:00 pm \nNatural Medicine Class 1\nCentury Village\, Deerfield Beach Florida\nRegister: wpascal@cveevents.com\, 954-428-6892 Ext 4 \n\n Tues Jan 15\, 2019\n6:30-8:00 pm \nNatural Medicine Class 2\nNatural Herbs for Health\nCentury Village\, Deerfield Beach Florida\nRegister: wpascal@cveevents.com\, 954-428-6892 Ext 4 \n\nTues Jan 22\, 2019\n6:30-8:00 pm \nNatural Medicine Class 3\nNatural Herbs for Health\nCentury Village\, Deerfield Beach\, Florida\nRegister: wpascal@cveevents.com\, 954-428-6892 Ext 4 \n\nTues Jan 29\, 2019\n6:30-8:00 pm \nNatural Medicine Class 4\nNatural Herbs for Health\nCentury Village\, Deerfield Beach\, Florida\nRegister: wpascal@cveevents.com\, 954-428-6892 Ext 4
URL:https://www.naturalnurse.com/event/jan19-natural-medicine-class-century-village/
LOCATION:Century Village Deerfield Beach\, GPG Room\, FL\, United States
CATEGORIES:2019 events,Funshop
ATTACH;FMTTYPE=image/png:https://www.naturalnurse.com/wp-content/uploads/2016/09/herbs-for-health.png
ORGANIZER;CN="Century Village Deerfield Beach":MAILTO:Goodfishdr@aol.com
END:VEVENT
END:VCALENDAR