BEGIN:VCALENDAR
VERSION:2.0
PRODID:-//The Natural Nurse - ECPv6.15.17.1//NONSGML v1.0//EN
CALSCALE:GREGORIAN
METHOD:PUBLISH
X-WR-CALNAME:The Natural Nurse
X-ORIGINAL-URL:https://www.naturalnurse.com
X-WR-CALDESC:Events for The Natural Nurse
REFRESH-INTERVAL;VALUE=DURATION:PT1H
X-Robots-Tag:noindex
X-PUBLISHED-TTL:PT1H
BEGIN:VTIMEZONE
TZID:America/New_York
BEGIN:DAYLIGHT
TZOFFSETFROM:-0500
TZOFFSETTO:-0400
TZNAME:EDT
DTSTART:20170312T070000
END:DAYLIGHT
BEGIN:STANDARD
TZOFFSETFROM:-0400
TZOFFSETTO:-0500
TZNAME:EST
DTSTART:20171105T060000
END:STANDARD
BEGIN:DAYLIGHT
TZOFFSETFROM:-0500
TZOFFSETTO:-0400
TZNAME:EDT
DTSTART:20180311T070000
END:DAYLIGHT
BEGIN:STANDARD
TZOFFSETFROM:-0400
TZOFFSETTO:-0500
TZNAME:EST
DTSTART:20181104T060000
END:STANDARD
BEGIN:DAYLIGHT
TZOFFSETFROM:-0500
TZOFFSETTO:-0400
TZNAME:EDT
DTSTART:20190310T070000
END:DAYLIGHT
BEGIN:STANDARD
TZOFFSETFROM:-0400
TZOFFSETTO:-0500
TZNAME:EST
DTSTART:20191103T060000
END:STANDARD
END:VTIMEZONE
BEGIN:VEVENT
DTSTART;VALUE=DATE:20180119
DTEND;VALUE=DATE:20180120
DTSTAMP:20260423T203605
CREATED:20171129T215326Z
LAST-MODIFIED:20200217T203356Z
UID:4839-1516320000-1516406399@www.naturalnurse.com
SUMMARY:Holistic Self-Care: Your Secret Power for Enhancing Patient Care
DESCRIPTION:Schedule\n9:00-9:10 Welcome & Centering\n9:10-10:10 Holistic Self-Care: Your Secret Power for Enhancing Patient Care – Lourdes Lorenz-Miller\, MSN-IH\, RN\, AHN-BC\, NEA-BC\n10:10-11:10 Mindfulness & Self-Compassion  – Patricia Liehr\, PhD\, RN\n11:10-11:20 Break\n11:20-12:20 The Pleasure & Power of Using Essential Oils – Bettina Moench\n12:20-1:30 Lunch\n1:30-2:30 Using Herbs for Better Balance\, Energy & Well-Being Ellen Kamhi\, PhD\, RN\, AHG\, AHN-BC\n2:30-3:30 Energy Healing as a Self-Care Practice – Deb Shields\, PhD\, RN\, CCRN\, QTTT\, AHN-BC\n3:30-3:45 Break\n3:45-4:45 Resilience & Joy in the Journey – Barry Gallison\, DNP\, MS\, APRN-BC\, NEA-BC\, CPHQ\, AHN-BC &\nJan Kinder\, RN\, BA\, HN-BC\, CMT\n4:45-5:00 Closing \nContact Hours – 6.0\nAHNA is accredited as a provider of continuing nursing education by the American Nurses Credentialing Center’s\nCOA.\nProvider approved by the California Board of Registered Nursing\, Provider # 10442 \nCE Certificates\nRequirements for Successful Completion:\nIn order to receive full contact hour credit for this CNE activity\, you must:\n– Register for this conference at http://www.ahna.org/Shop/Specialty-CNE or onsite.\n– Be present no later the five (5) minutes after starting time.\n– Remain until the scheduled ending time.\n– Complete an evaluation at the end of the activity.\n– After you finish the evaluation\, you will be handed your Certification of Completion . \nNurse Planners\nTerri Roberts\, JD\, RN\nSharon Burch\, MSN\, APRN\, NC-BC\nLinda Thomas\, PhD\, RN-BC\, CCRN\, CHTP/I\, HTAP \nConflict of Interest\nThe planners and presenters of this CNE activity have disclosed no relevant financial relationship with any commercial companies related to this activity. \nCommercial Support\nThere is no commercial support for this activity.\nAccredited status does not imply endorsement of any product/service by AHNA or ANCC. \nNeed Lodging Overnight?\nGreat Escape Inn\n4620 N. Ocean Dr\, Lauderdale-by-the-Sea\, FL 33308\n$119/night\nFor hotel reservations: http://bit.ly/AHNAPompano\n(855) 772-2772
URL:https://www.naturalnurse.com/event/holistic-self-care-secret-power-enhancing-patient-care/
CATEGORIES:2018 events,Conventions & Conferences
ATTACH;FMTTYPE=image/png:https://www.naturalnurse.com/wp-content/uploads/2017/11/holistic-self-care-conference-1600x440.png
ORGANIZER;CN="American Holistic Nurse Association Healing Light Chapter  of Broward County":MAILTO:cinemaxx75@gmail.com
END:VEVENT
BEGIN:VEVENT
DTSTART;TZID=America/New_York:20180107T093000
DTEND;TZID=America/New_York:20180107T110000
DTSTAMP:20260423T203605
CREATED:20171014T023131Z
LAST-MODIFIED:20180320T204642Z
UID:4729-1515317400-1515322800@www.naturalnurse.com
SUMMARY:[ONLINE] Immune Boost\, Naturally!
DESCRIPTION:Folklore and Science BOTH promote the use of Natural Remedies to enhance immune function\, including preventing infection\, increasing natural defenses\, relieving congestion and coughs\, soothing a sore throat\, reducing a fever and quieting an upset stomach. \nMedical science now promotes a watch and wait strategy instead over-prescribing pharmaceutical antibiotics which leads to resistant bacteria. Let’s explore a variety of herbs that support immune function via various mechanisms of action\, such as improving white blood cell viability\, impeding viral duplication\, soothing mucous membranes and more! \nTuition: $35\nReceive $10 off your tuition when you register by January 1st. \n3 CEUs offered to licensed Massage Therapists\, Dietitians\, Nurses\, and Midwives in the state of Florida for an additional $15 processing fee.
URL:https://www.naturalnurse.com/event/online-immune-boost-naturally/
LOCATION:Online Course\, United States
CATEGORIES:2018 events,CEU available,Holistic Living School
ATTACH;FMTTYPE=image/jpeg:https://www.naturalnurse.com/wp-content/uploads/2017/10/immune-boost-naturally-1600x440.jpg
ORGANIZER;CN="Florida School of Holistic Living":MAILTO:info@holisticlivingschool.org
END:VEVENT
END:VCALENDAR