BEGIN:VCALENDAR
VERSION:2.0
PRODID:-//The Natural Nurse - ECPv6.15.17.1//NONSGML v1.0//EN
CALSCALE:GREGORIAN
METHOD:PUBLISH
X-WR-CALNAME:The Natural Nurse
X-ORIGINAL-URL:https://www.naturalnurse.com
X-WR-CALDESC:Events for The Natural Nurse
REFRESH-INTERVAL;VALUE=DURATION:PT1H
X-Robots-Tag:noindex
X-PUBLISHED-TTL:PT1H
BEGIN:VTIMEZONE
TZID:America/New_York
BEGIN:DAYLIGHT
TZOFFSETFROM:-0500
TZOFFSETTO:-0400
TZNAME:EDT
DTSTART:20140309T070000
END:DAYLIGHT
BEGIN:STANDARD
TZOFFSETFROM:-0400
TZOFFSETTO:-0500
TZNAME:EST
DTSTART:20141102T060000
END:STANDARD
BEGIN:DAYLIGHT
TZOFFSETFROM:-0500
TZOFFSETTO:-0400
TZNAME:EDT
DTSTART:20150308T070000
END:DAYLIGHT
BEGIN:STANDARD
TZOFFSETFROM:-0400
TZOFFSETTO:-0500
TZNAME:EST
DTSTART:20151101T060000
END:STANDARD
BEGIN:DAYLIGHT
TZOFFSETFROM:-0500
TZOFFSETTO:-0400
TZNAME:EDT
DTSTART:20160313T070000
END:DAYLIGHT
BEGIN:STANDARD
TZOFFSETFROM:-0400
TZOFFSETTO:-0500
TZNAME:EST
DTSTART:20161106T060000
END:STANDARD
BEGIN:DAYLIGHT
TZOFFSETFROM:-0500
TZOFFSETTO:-0400
TZNAME:EDT
DTSTART:20170312T070000
END:DAYLIGHT
BEGIN:STANDARD
TZOFFSETFROM:-0400
TZOFFSETTO:-0500
TZNAME:EST
DTSTART:20171105T060000
END:STANDARD
END:VTIMEZONE
BEGIN:VEVENT
DTSTART;TZID=America/New_York:20160124T103000
DTEND;TZID=America/New_York:20160124T123000
DTSTAMP:20260423T220308
CREATED:20151208T052253Z
LAST-MODIFIED:20171216T210045Z
UID:744-1453631400-1453638600@www.naturalnurse.com
SUMMARY:Spirituality Workshop: OPENING TO LIFE AFTER 60
DESCRIPTION:How to safely use Echinacea\, Green Tea\, Golden Seal\, & Oil of Oregano. Support your overall wellness\, improve your love life with nature’s alternatives to Viagra. \n$10.00 donation is appreciated.
URL:https://www.naturalnurse.com/event/spirituality-workshop-opening-to-life-after-60/
LOCATION:WEISMAN DELRAY COMMUNITY CENTER\, 7091 WEST ATLANTIC AVENUE\, Delray Beach\, FL\, 33446\, United States
CATEGORIES:2016 events,Funshop
ATTACH;FMTTYPE=image/jpeg:https://www.naturalnurse.com/wp-content/uploads/2015/12/couple-843489_1920.jpg
ORGANIZER;CN="BARBARA":MAILTO:bhasha108@aol.com
END:VEVENT
BEGIN:VEVENT
DTSTART;TZID=America/New_York:20160123T153000
DTEND;TZID=America/New_York:20160123T170000
DTSTAMP:20260423T220308
CREATED:20151203T004333Z
LAST-MODIFIED:20201021T031039Z
UID:686-1453563000-1453568400@www.naturalnurse.com
SUMMARY:Scientific Validation of Botanical Medicine
DESCRIPTION:Join Ellen Kamhi PhD RN for a discussion about the ‘inside story’ of how herbs actually work. We will transverse the indigenous traditional use and delve into the depths of scientific validity. Why does berberine kill bacteria without causing the development of resistant strains? How does Red Yeast Rice interfere with cellular pathways to inhibit Co Q 10? Does silymarin upregulate the P 450 Liver Enzymes to enhance Detoxification? Understand mechanisms of action of how herbs heal \, along with possible adverse effects and herb drug interactions. We will also investigate current and past research that investigate the consciousness of plants. \nThis series offers 18 CEUs for Florida Licensed Massage Therapists\, Dietitians\, Nurses\, Midwives\, Acupuncture Physicians\, and Nutrition Counselors. \nThis class\, offered by nurse and herbalist Ellen Kamhi\, PhD\, RN\, AHG is designed to offer flexibility for beginning or advanced herbal students. Use this series of classes to ignite your inspiration towards better health with practical plant-based tools. Feel free to attend any one class on an individual basis\, or all four of the classes in the series. \nJoin nurse and herbalist Ellen Kamhi for an empowering and enriching journey into basic herbal medicine.  Attend any one of the four workshops as a drop-in course\, or attend the entire series for a discount.  Practitioners wishing to receive Continuing Education Units must attend the full series. \nCost: $40.00
URL:https://www.naturalnurse.com/event/scientific-validation-of-botanical-medicine/
LOCATION:Your Big Picture Cafe\, 5935 S University Drive\, Davie\, FL\, 33328\, United States
CATEGORIES:2016 events,Holistic Living School
ATTACH;FMTTYPE=image/gif:https://www.naturalnurse.com/wp-content/uploads/2015/11/newlogo-e1453134148390.gif
ORGANIZER;CN="Florida School of Holistic Living":MAILTO:info@holisticlivingschool.org
END:VEVENT
BEGIN:VEVENT
DTSTART;TZID=America/New_York:20160123T133000
DTEND;TZID=America/New_York:20160123T150000
DTSTAMP:20260423T220308
CREATED:20151128T035756Z
LAST-MODIFIED:20201021T031039Z
UID:684-1453555800-1453561200@www.naturalnurse.com
SUMMARY:The Natural Nurse Herbal Medicine Course [Class Two - Botany & Botanical Nomenclature]
DESCRIPTION:The importance of Latin names when communicating with other herbalists\, the Doctrine of Signatures\, and Shamanic health rituals.\nThis series offers 18 CEUs for Florida Licensed Massage Therapists\, Dietitians\, Nurses\, Midwives\, Acupuncture Physicians\, and Nutrition Counselors. \nThis class\, offered by nurse and herbalist Ellen Kamhi\, PhD\, RN\, AHG is designed to offer flexibility for beginning or advanced herbal students. Use this series of classes to ignite your inspiration towards better health with practical plant-based tools. Feel free to attend any one class on an individual basis\, or all four of the classes in the series. \nJoin nurse and herbalist Ellen Kamhi for an empowering and enriching journey into basic herbal medicine.  Attend any one of the four workshops as a drop-in course\, or attend the entire series for a discount.  Practitioners wishing to receive Continuing Education Units must attend the full series. \nStudents may register for a single class\, or for the full four-part series. \nCost: $50.00
URL:https://www.naturalnurse.com/event/the-natural-nurse-herbal-medicine-course-class-two-botany-botanical-nomenclature/
LOCATION:Your Big Picture Cafe\, 5935 S University Drive\, Davie\, FL\, 33328\, United States
CATEGORIES:2016 events,Holistic Living School
ATTACH;FMTTYPE=image/gif:https://www.naturalnurse.com/wp-content/uploads/2015/11/newlogo-e1453134148390.gif
ORGANIZER;CN="Florida School of Holistic Living":MAILTO:info@holisticlivingschool.org
END:VEVENT
BEGIN:VEVENT
DTSTART;TZID=America/New_York:20160121T183000
DTEND;TZID=America/New_York:20160121T200000
DTSTAMP:20260423T220308
CREATED:20151204T021325Z
LAST-MODIFIED:20171216T204108Z
UID:724-1453401000-1453406400@www.naturalnurse.com
SUMMARY:Natural Remedies-Safe and Effective Use! Class 2
DESCRIPTION:Class 2 – Herbs for What Ails You! Plus outside herbal identification walk\n \n 
URL:https://www.naturalnurse.com/event/natural-remedies-safe-and-effective-use-class-2/
LOCATION:Century Village Deerfield Beach\, GPG Room\, FL\, United States
CATEGORIES:2016 events,Funshop
ATTACH;FMTTYPE=image/jpeg:https://www.naturalnurse.com/wp-content/uploads/2015/10/Slider-Ellen-herb-walk.jpg
END:VEVENT
BEGIN:VEVENT
DTSTART;TZID=America/New_York:20160121T130000
DTEND;TZID=America/New_York:20160121T140000
DTSTAMP:20260423T220308
CREATED:20151204T020406Z
LAST-MODIFIED:20171216T204040Z
UID:713-1453381200-1453384800@www.naturalnurse.com
SUMMARY:Herbs for the Menopause Years and Beyond!
DESCRIPTION:Pen Women’s Luncheon \nLecture on: Herbs for the Menopause Years and Beyond!
URL:https://www.naturalnurse.com/event/herbs-for-the-menopause-years-and-beyond/
CATEGORIES:2016 events,Lectures
ATTACH;FMTTYPE=image/jpeg:https://www.naturalnurse.com/wp-content/uploads/2015/12/black-cohosh-969277_1600.jpg
END:VEVENT
BEGIN:VEVENT
DTSTART;TZID=America/New_York:20160119T193000
DTEND;TZID=America/New_York:20160119T213000
DTSTAMP:20260423T220308
CREATED:20151204T012500Z
LAST-MODIFIED:20171216T204002Z
UID:708-1453231800-1453239000@www.naturalnurse.com
SUMMARY:Crystallization Patterns a Key to the interaction between Energetic Essence and Biological Systems
DESCRIPTION:
URL:https://www.naturalnurse.com/event/crystallization-patterns-a-key-to-the-interaction-between-energetic-essence-and-biological-systems/
CATEGORIES:2016 events,Lectures
ATTACH;FMTTYPE=image/jpeg:https://www.naturalnurse.com/wp-content/uploads/2015/12/ice-668367_1600.jpg
END:VEVENT
BEGIN:VEVENT
DTSTART;TZID=America/New_York:20160114T183000
DTEND;TZID=America/New_York:20160114T200000
DTSTAMP:20260423T220308
CREATED:20151203T071556Z
LAST-MODIFIED:20171216T203927Z
UID:697-1452796200-1452801600@www.naturalnurse.com
SUMMARY:Natural Remedies-Safe and Effective Use! Class 1
DESCRIPTION:Class 1 – Organic\, GMO\, Natural\, Whats the Buzz? \n 
URL:https://www.naturalnurse.com/event/natural-remedies-safe-and-effective-use-class-1/
CATEGORIES:2016 events,Funshop
ATTACH;FMTTYPE=image/png:https://www.naturalnurse.com/wp-content/uploads/2015/12/organic-vs-gmo-lavender.png
END:VEVENT
BEGIN:VEVENT
DTSTART;TZID=America/New_York:20160109T133000
DTEND;TZID=America/New_York:20160109T150000
DTSTAMP:20260423T220308
CREATED:20151128T013214Z
LAST-MODIFIED:20201021T031039Z
UID:681-1452346200-1452351600@www.naturalnurse.com
SUMMARY:The Natural Nurse Herbal Medicine Course [Class One - The Basics of Herbal Medicine]
DESCRIPTION:Essential vocabulary extracts\, tinctures\, capsules\, infusions\, and decoctions\, as well as the safety and efficacy of herbal medicines.\nThis series offers 18 CEUs for Florida Licensed Massage Therapists\, Dietitians\, Nurses\, Midwives\, Acupuncture Physicians\, and Nutrition Counselors. \nThis class\, offered by nurse and herbalist Ellen Kamhi\, PhD\, RN\, AHG is designed to offer flexibility for beginning or advanced herbal students. Use this series of classes to ignite your inspiration towards better health with practical plant-based tools. Feel free to attend any one class on an individual basis\, or all four of the classes in the series. \nJoin nurse and herbalist Ellen Kamhi for an empowering and enriching journey into basic herbal medicine.  Attend any one of the four workshops as a drop-in course\, or attend the entire series for a discount.  Practitioners wishing to receive Continuing Education Units must attend the full series. \nStudents may register for a single class\, or for the full four-part series. \nCost: $50.00
URL:https://www.naturalnurse.com/event/the-natural-nurse-herbal-medicine-course-class-one-the-basics-of-herbal-medicine/
LOCATION:Your Big Picture Cafe\, 5935 S University Drive\, Davie\, FL\, 33328\, United States
CATEGORIES:2016 events,Holistic Living School
ATTACH;FMTTYPE=image/gif:https://www.naturalnurse.com/wp-content/uploads/2015/11/newlogo-e1453134148390.gif
ORGANIZER;CN="Florida School of Holistic Living":MAILTO:info@holisticlivingschool.org
END:VEVENT
BEGIN:VEVENT
DTSTART;TZID=America/New_York:20151203T190000
DTEND;TZID=America/New_York:20151203T210000
DTSTAMP:20260423T220308
CREATED:20151128T012144Z
LAST-MODIFIED:20210217T230334Z
UID:676-1449169200-1449176400@www.naturalnurse.com
SUMMARY:Lecture: Drug Nutrient Depletions
DESCRIPTION:As a health industry professional\, whether or not you prescribe pharmaceutical drugs\, it’s important to understand the nutritional deficiencies that using pharmaceuticals can cause\, and how appropriate dietary recommendations\, and supplementation can offset this common cause of health problems. Join Ellen Kamhi\, PhD\, RN as we review specific drugs: High Blood Pressure Medications\, Cholesterol Lowering Drugs\, Anti-Inflammatory\, Hormone Replacement\, and other pharmaceuticals\, and the known depletions that they cause. It is also most interesting to note the ‘mirroring effect’ of the nutrient depletions and adverse effect profile of these drugs. Health Food Store Personnel can Legally Advise Customers on which supplements would be wise to replete …. for example- Statin Drugs- Co Q 10\, Birth Control- B Vitamins\, Aspirin- Vitamin C
URL:https://www.naturalnurse.com/event/lecture-drug-nutrient-depletions/
CATEGORIES:2016 events,Health Expos
END:VEVENT
END:VCALENDAR