BEGIN:VCALENDAR
VERSION:2.0
PRODID:-//The Natural Nurse - ECPv6.15.17.1//NONSGML v1.0//EN
CALSCALE:GREGORIAN
METHOD:PUBLISH
X-WR-CALNAME:The Natural Nurse
X-ORIGINAL-URL:https://www.naturalnurse.com
X-WR-CALDESC:Events for The Natural Nurse
REFRESH-INTERVAL;VALUE=DURATION:PT1H
X-Robots-Tag:noindex
X-PUBLISHED-TTL:PT1H
BEGIN:VTIMEZONE
TZID:America/New_York
BEGIN:DAYLIGHT
TZOFFSETFROM:-0500
TZOFFSETTO:-0400
TZNAME:EDT
DTSTART:20220313T070000
END:DAYLIGHT
BEGIN:STANDARD
TZOFFSETFROM:-0400
TZOFFSETTO:-0500
TZNAME:EST
DTSTART:20221106T060000
END:STANDARD
BEGIN:DAYLIGHT
TZOFFSETFROM:-0500
TZOFFSETTO:-0400
TZNAME:EDT
DTSTART:20230312T070000
END:DAYLIGHT
BEGIN:STANDARD
TZOFFSETFROM:-0400
TZOFFSETTO:-0500
TZNAME:EST
DTSTART:20231105T060000
END:STANDARD
BEGIN:DAYLIGHT
TZOFFSETFROM:-0500
TZOFFSETTO:-0400
TZNAME:EDT
DTSTART:20240310T070000
END:DAYLIGHT
BEGIN:STANDARD
TZOFFSETFROM:-0400
TZOFFSETTO:-0500
TZNAME:EST
DTSTART:20241103T060000
END:STANDARD
END:VTIMEZONE
BEGIN:VEVENT
DTSTART;TZID=America/New_York:20230715T140000
DTEND;TZID=America/New_York:20230715T150000
DTSTAMP:20260425T220143
CREATED:20230628T224125Z
LAST-MODIFIED:20231030T210927Z
UID:17280-1689429600-1689433200@www.naturalnurse.com
SUMMARY:USPA Masterclass: Crystallization Patterns - Key to the interaction between Energetic Essence and Biological Systems
DESCRIPTION:Free USPA Mastersclass on Zoom\nEllen Kamhi PhD\, RN\, AHN-BC\, RH(AHG)  will present: \n“Crystallization Patterns – Key to the interaction between Energetic Essence and Biological Systems”\nTo register for the conference\, please visit this page: https://us02web.zoom.us/meeting/register/tZUpceChrj0iGNx8hjzWBxHjhmAcV5wBkOuS#/registration \nAbout this Masterclass\nEnergy emanations influence the formation of reality. The ‘law of attraction’ holds that images formed by the mind\, or created through other mechanisms\, influence the flow of energy as it revolves in a spiral action\, descending from the higher realms into experiential reality. Lets explore how crystallization patterns relate to Herbalism and Natural Healing. Examples include Yantras\, Electronic Diagnostic Patterns\, Dr. Emoto- Water Crystallization\, and Herbal Crystallization Diagnostic Patterns.
URL:https://www.naturalnurse.com/event/uspa-masterclass-crystallization-patterns-interaction-energetic-essence-biological-systems/
LOCATION:Zoom Online by USPA
CATEGORIES:2023 Events,Conventions & Conferences
ATTACH;FMTTYPE=image/jpeg:https://www.naturalnurse.com/wp-content/uploads/2023/06/USPA-2023-Crystallization-patterns-1600x440-1.jpg
ORGANIZER;CN="US Psychotronic Association":MAILTO:contact@psychotronics.org
END:VEVENT
END:VCALENDAR