BEGIN:VCALENDAR
VERSION:2.0
PRODID:-//The Natural Nurse - ECPv6.15.17.1//NONSGML v1.0//EN
CALSCALE:GREGORIAN
METHOD:PUBLISH
X-ORIGINAL-URL:https://www.naturalnurse.com
X-WR-CALDESC:Events for The Natural Nurse
REFRESH-INTERVAL;VALUE=DURATION:PT1H
X-Robots-Tag:noindex
X-PUBLISHED-TTL:PT1H
BEGIN:VTIMEZONE
TZID:America/New_York
BEGIN:DAYLIGHT
TZOFFSETFROM:-0500
TZOFFSETTO:-0400
TZNAME:EDT
DTSTART:20160313T070000
END:DAYLIGHT
BEGIN:STANDARD
TZOFFSETFROM:-0400
TZOFFSETTO:-0500
TZNAME:EST
DTSTART:20161106T060000
END:STANDARD
BEGIN:DAYLIGHT
TZOFFSETFROM:-0500
TZOFFSETTO:-0400
TZNAME:EDT
DTSTART:20170312T070000
END:DAYLIGHT
BEGIN:STANDARD
TZOFFSETFROM:-0400
TZOFFSETTO:-0500
TZNAME:EST
DTSTART:20171105T060000
END:STANDARD
BEGIN:DAYLIGHT
TZOFFSETFROM:-0500
TZOFFSETTO:-0400
TZNAME:EDT
DTSTART:20180311T070000
END:DAYLIGHT
BEGIN:STANDARD
TZOFFSETFROM:-0400
TZOFFSETTO:-0500
TZNAME:EST
DTSTART:20181104T060000
END:STANDARD
BEGIN:DAYLIGHT
TZOFFSETFROM:-0500
TZOFFSETTO:-0400
TZNAME:EDT
DTSTART:20190310T070000
END:DAYLIGHT
BEGIN:STANDARD
TZOFFSETFROM:-0400
TZOFFSETTO:-0500
TZNAME:EST
DTSTART:20191103T060000
END:STANDARD
BEGIN:DAYLIGHT
TZOFFSETFROM:-0500
TZOFFSETTO:-0400
TZNAME:EDT
DTSTART:20200308T070000
END:DAYLIGHT
BEGIN:STANDARD
TZOFFSETFROM:-0400
TZOFFSETTO:-0500
TZNAME:EST
DTSTART:20201101T060000
END:STANDARD
END:VTIMEZONE
BEGIN:VEVENT
DTSTART;TZID=America/New_York:20190317T093000
DTEND;TZID=America/New_York:20190317T110000
DTSTAMP:20260424T035301
CREATED:20170313T171647Z
LAST-MODIFIED:20201021T040817Z
UID:3149-1552815000-1552820400@www.naturalnurse.com
SUMMARY:[ONLINE] HERBAL CERTIFICATION COURSE: Basics of Herbal Medicine (I)
DESCRIPTION:REGISTER HERE: https://www.holisticlivingschool.org/events/online-natural-nurse-class-one-basics/ \n18 CE Credits\nDATES:\n\n\n Sun March 17\n Sun April 14\n Sun May 12\n Sun June 9\n\n\n18 CE BROKER CREDITS (when 4 class series is complete) for Licensed:\n\n\n Registered Nurses (RN)\n Nurse Practitioners\n Midwives\n Massage Therapists\n Acupuncturists\n Registered Dietitians (RD)\n Nutritionists\n\n\nThis class\, offered by Certified Holistic Nurse and Registered Herbalist Ellen Kamhi PhD\, is designed to offer flexibility for beginning or advanced herbal students. Use this series of classes to ignite your inspiration towards better health with practical plant-based tools. \nAttend any one class on an individual basis\, or all four of the classes in the series. Now offered ONLINE! \nJoin nurse and herbalist Ellen Kamhi PhD\, RN\, AHG for an empowering and enriching journey into basic herbal medicine. Attend any one of the four workshops as a drop-in course\, or attend the entire series for a discount. Practitioners wishing to receive Continuing Education Units and others who would like to receive a Florida School of Holistic Living Certificate\, must attend the full series\, pay the CE processing fee\, and complete all assignments. \nEssential vocabulary\, the difference between extracts\, tinctures\, capsules\, infusions\, and decoctions\, standardized\, holistic balance\, as well as the safety and efficacy of herbal medicines.\n“Basics of Herbal Medicine” can be taken as a stand alone class or as a required class in the 4 part Natural Nurse Herbal Certification Course. \nNatural Nurse Herbal Certification Course: \n\nBASICS of Herbal Medicine Sunday March 17\, 2019  9:30 am – 11:00 am\nBotany & Botanical Nomenclature Sunday April 14\, 2019  9:30 am – 11:00 am\nUsing Herbs for Yourself & Your Family Sunday May 12\, 2019  9:30 am-11:00 am\nFeeling the Consciousness of Plants  Sunday June 09\, 2019  9:30 am – 11:00 am\n\nThis 4 class course\, offered by nurse and herbalist Ellen Kamhi\, PhD\, RN\, is designed to offer flexibility for beginning or advanced herbal students. Use this series of classes to ignite your inspiration towards better health with practical plant-based tools.  Students may register for a single class\, or as a requirement for the Natural Nurse Herbal Certification Course (18 CE)\n \nThis class meets for four Sundays over a four month period\, from 9:30 am-11:00 am.  The class will be live online with the instructor in real time. It will be interactive with question and answer sessions.  If you miss a class\, you can make it up anytime before the end of the course\, by calling into the recording of the class (archives). \nThe instructor will email the Call-in information the day before class\, along with links to Power Points and other learning tools/instructional materials we will use during class. \nAssignments can be emailed to instructor.\nCapstone Herbal Preparation Project will need to be ‘snail mailed’ to instructor.\nAll attendees who complete the full series and submit all assignments will receive a Certificate of Completion from the Florida School of Holistic Living. \nParticipants can choose to take the full course\, or any one of the modules\, for their own personal learning\, without paying the accreditation fee. \nPractitioners wishing to receive 18 Continuing Education Units (CEU)  or Certificate of Completion must:\n\n Register for & attend all four classes in the series*\n Pay an additional $15.00 CEU processing fee\n Purchase the course text book\, The Natural Medicine Chest\, by Ellen Kamhi\, PhD RN and Eugene Zampieron\, ND (available as Kindle Edition)\n Successfully complete all homework assignments\n\n\n18 CE Broker Credits are available for Licensed:  Nurses\, Midwives\, Massage Therapists\, Acupuncturists & Nutritionists \nTuition:\n$50 for a single class\n$175 for all four classes\n$15 for 18 CEUs fee
URL:https://www.naturalnurse.com/event/herbal-certification-course-basics-herbal-medicine/
LOCATION:ONLINE
CATEGORIES:2019 events,CEU available,Continuing Education Courses,Online Herbal Medicine Course
ATTACH;FMTTYPE=image/jpeg:https://www.naturalnurse.com/wp-content/uploads/2017/03/Natural-Nurse-1-Basics.jpg
ORGANIZER;CN="Florida School of Holistic Living":MAILTO:info@holisticlivingschool.org
END:VEVENT
BEGIN:VEVENT
DTSTART;TZID=America/New_York:20180412T183000
DTEND;TZID=America/New_York:20180412T200000
DTSTAMP:20260424T035301
CREATED:20170305T012413Z
LAST-MODIFIED:20201021T040816Z
UID:3729-1523557800-1523563200@www.naturalnurse.com
SUMMARY:[ONLINE] Scientific Validation of Botanical Medicine
DESCRIPTION:Join Ellen Kamhi PhD RN for an ONLINE discussion about the ‘inside story’ of how herbs actually work. We will transverse the indigenous traditional use and delve into the depths of scientific validity. \n\n\nWhy does berberine kill bacteria without causing the development of resistant strains?\nHow does Red Yeast Rice interfere with cellular pathways to inhibit Co Q 10?\nDoes silymarin upregulate the P 450 Liver Enzymes to enhance Detoxification?\n\n\nUnderstand mechanisms of action of how herbs heal \, along with possible adverse effects and herb drug interactions. We will also investigate current and past research that investigate the consciousness of plants. \nThis class is hosted online via phone. \nTuition: $35\nReceive $10 off tuition when you register and paid in full by April 5th. \nRegister here: https://www.holisticlivingschool.org/events/online-scientific-validation-of-botanical-medicine-4/ \n1.5 CEUs available to Massage Therapists\, Acupuncturists\, Dietitians\, Midwives and Nurses. \nPlease contact (407) 595.3731 or office@holisticlivingschool.org for questions about this class.
URL:https://www.naturalnurse.com/event/online-scientific-validation-botanical-medicine/
LOCATION:Online Course\, United States
CATEGORIES:2018 events,Continuing Education Courses,Holistic Living School,Online Herbal Medicine Course
ATTACH;FMTTYPE=image/jpeg:https://www.naturalnurse.com/wp-content/uploads/2017/03/scientificvalidation_april-1024x536.jpg
ORGANIZER;CN="Florida School of Holistic Living":MAILTO:info@holisticlivingschool.org
END:VEVENT
BEGIN:VEVENT
DTSTART;TZID=America/New_York:20170806T093000
DTEND;TZID=America/New_York:20170806T110000
DTSTAMP:20260424T035301
CREATED:20170725T204341Z
LAST-MODIFIED:20201021T040817Z
UID:4267-1502011800-1502017200@www.naturalnurse.com
SUMMARY:[ONLINE] Autoimmune: Potential Causes & Natural Defenses
DESCRIPTION:Autoimmune diseases\, such as rheumatoid arthritis\, ankylosing spondylitis\, and lupus\, involve destruction of healthy cells by the body’s own defensive mechanism. If the immune system’s error in judgment is not corrected\, the attack can progress to the heart\, lungs\, and other vital organs.\nThe mechanism that causes the deregulation of the immune response is not entirely understood. Heavy metal toxicity\, leaky gut syndrome\, infectious bacteria and parasites\, and nutritional imbalances can weaken the body so that the immune system becomes overloaded. \nIn this webinar we will investigate the history of early medical recognition of autoimmune illness\, evidence based natural therapies that can help with inflammation and pain relief\, as well as down-regulating aggressive immune behavior\, without suppressing or altering the body’s natural defenses. \nTuition: $35\nReceive $10 off your tuition when you register before August 1st! \nVisit this page to register: https://www.holisticlivingschool.org/events/online-autoimmune-potential-causes-natural-defenses/ \n3 CEUs offered to licensed Massage Therapists\, Dietitians\, Nurses and Midwives in the state of Florida for an additional $15 processing fee.
URL:https://www.naturalnurse.com/event/online-autoimmune-potential-causes-natural-defenses/
LOCATION:Online Course\, United States
CATEGORIES:2017 events,Continuing Education Courses,Holistic Living School,Online Herbal Medicine Course
ATTACH;FMTTYPE=image/png:https://www.naturalnurse.com/wp-content/uploads/2017/07/Event_Autoimmune_Aug6.png
ORGANIZER;CN="Florida School of Holistic Living":MAILTO:info@holisticlivingschool.org
END:VEVENT
BEGIN:VEVENT
DTSTART;TZID=America/New_York:20170412T160000
DTEND;TZID=America/New_York:20170412T170000
DTSTAMP:20260424T035301
CREATED:20170312T220623Z
LAST-MODIFIED:20171216T185155Z
UID:3751-1492012800-1492016400@www.naturalnurse.com
SUMMARY:Berberine Containing Plants – a Bitter/Sweet Alkaloid Story!
DESCRIPTION:Plants are composed of a complex variety of chemical constituents that give them their beauty\, diversity and supportive actions. Among all of the constituents found in plants\, nitrogen containing alkaloids are among the most powerful\, as well as the most addictive and toxic! Nearly all plants that offer support enclose some kind of alkaloids within their structure. \nBerberine is an alkaloid that is found in many plants we commonly use in herbalism. In this session\, we will explore the wide range of applications of berberine and related alkaloids along with a discussion of ancient traditional use\, and modern investigations into mechanisms of actions\, herb-drug interactions\, and best applications. \nWe will discuss a variety of plants\, including:\nGoldenseal\, Coptis\, Barberry\, Oregon Grape\, and California Poppy. \nThis webinar has been been submitted and is pending approval for 1.0 Continuing Education (CE) credit hour for Naturopathic Doctors (ND)\, Registered Dietitians (RD)\, and Dietetic Technicians (DTR). \nDietitians and dietetic technicians registered should only claim credit commensurate with the extent of their participation in the activity. \nTo receive CE credit\, you must attend the live event and register using one of these credentials (ND\, RD\, or DTR). \nPDP Suggested Learning Needs Codes:\n2010 (Botanicals\, phytochemicals)\n3100 (Supplemental nutrients\, botanicals) \nAfter attending the live event\, you will receive your CE certificate via email within 3-4 weeks after the webinar. \n Register\nImages credits: \nGoldenseal – By James Steakley – Own work\, CC BY-SA 3.0\, https://commons.wikimedia.org/w/index.php?curid=6809222 \nBerberis vulgaris – By Arnstein Rønning – Own work\, CC BY-SA 3.0\, https://commons.wikimedia.org/w/index.php?curid=16499955 \nCalifornia Poppies – By Kaldari – Own work\, CC0\, https://commons.wikimedia.org/w/index.php?curid=8949327 \nOregon Grape – By The original uploader was Meggar at English Wikipedia – Transferred from en.wikipedia to Commons.\, CC BY-SA 3.0\, https://commons.wikimedia.org/w/index.php?curid=1375500 \nCoptis – Public Domain\, https://commons.wikimedia.org/w/index.php?curid=549404
URL:https://www.naturalnurse.com/event/berberine-containing-plants-bittersweet-alkaloid-story/
LOCATION:Gaia Webinar\, NC\, United States
CATEGORIES:2017 events,Continuing Education Courses
ATTACH;FMTTYPE=image/jpeg:https://www.naturalnurse.com/wp-content/uploads/2017/03/gaia-herbs-2017_1600x440.jpg
ORGANIZER;CN="Gaia Herbs Professional Solutions":MAILTO:smc@gaiaherbs.com
END:VEVENT
BEGIN:VEVENT
DTSTART;TZID=America/New_York:20170114T093000
DTEND;TZID=America/New_York:20170114T110000
DTSTAMP:20260424T035301
CREATED:20161112T210216Z
LAST-MODIFIED:20201021T040606Z
UID:2402-1484386200-1484391600@www.naturalnurse.com
SUMMARY:Scientific Validation of Botanical Medicine(Online)
DESCRIPTION:ONLINE discussion about the ‘inside story’ of how herbs actually work. We will transverse the indigenous traditional use and delve into the depths of scientific validity. Why does berberine kill bacteria without causing the development of resistant strains? How does Red Yeast Rice interfere with cellular pathways to inhibit Co Q 10? Does silymarin upregulate the P 450 Liver Enzymes to enhance Detoxification? Understand mechanisms of action of how herbs heal \, along with possible adverse effects and herb drug interactions. We will also investigate current and past research that investigate the consciousness of plants. \nThis class is hosted online via phone. \nTuition: $35\nReceive $10 off tuition when you register by December 16th. \n1.5 CEUs available to Massage Therapists\, Acupuncturists\, Dietitians\, Midwives and Nurses. \nPlease contact (305) 851-5657 or southflorida@holisticlivingschool.org for questions about this class. \nTo register: https://www.holisticlivingschool.org/events/online-scientific-validation-of-botanical-medicine/ \n 
URL:https://www.naturalnurse.com/event/scientific-validation-botanical-medicineonline/
LOCATION:ONLINE
CATEGORIES:2017 events,Continuing Education Courses,Online Herbal Medicine Course
ATTACH;FMTTYPE=image/jpeg:https://www.naturalnurse.com/wp-content/uploads/2016/03/scientific-validation-botanical-medicine-feature-image-e1508637320416.jpg
END:VEVENT
BEGIN:VEVENT
DTSTART;TZID=America/New_York:20170110T180000
DTEND;TZID=America/New_York:20170221T193000
DTSTAMP:20260424T035301
CREATED:20160920T183354Z
LAST-MODIFIED:20200304T190651Z
UID:3109-1484071200-1487705400@www.naturalnurse.com
SUMMARY:ON GROUND HERBAL CERTIFICATION COURSE- Winter 2017
DESCRIPTION:BOCA RATON FLORIDA- OPEN TO ALL!!\nTAKE ANY CLASS INDIVIDUALLY\, Or The Full Series for\n18   CE Credits or a Certificate in Herbal Medicine \n  (ALSO AVAILABLE ONLINE !) \nThis series offers 18 CEUs  for Florida Licensed Massage Therapists\, Dietitians\, Nurses\, Midwives\, Acupuncturists\, and Nutrition Counselors. \n\nTues Jan 10\, 2017 \n6:00-7:30pm \nSession I \nThe Basics of Herbal Medicine\nEssential vocabulary extracts\, tinctures\, capsules\, infusions\, and decoctions\, as well as the safety and efficacy of herbal medicines. \nInformation and Registration: 561-413-3499 \nhttp://bodywellness.com/herb-classes-certifications/ \n\nTues Jan 24\, 2017 \n6:00-7:30 pm \nSession II \nBotany & Botanical Nomenclature\nThe importance of Latin names when communicating with other herbalists\, the Doctrine of Signatures\, and Shamanic health rituals. \nInformation and Registration: 561-413-3499 \nhttp://bodywellness.com/herb-classes-certifications/ \n\nTues Feb 7\, 2017 \n6:00-7:30pm \nSession III \nUsing Herbs for Yourself and Your Family- Herbal Protocols for Common Health Issues\nCommon herbal “first aids” for colds and flu\, ear infections\, stomach upsets\, and other mild heath issues. \nInformation and Registration: 561-413-3499 \nhttp://bodywellness.com/herb-classes-certifications/ \n\nTues Feb 21\, 2017\n6:00-7:30 pm \nSession IV \nFeeling the Consciousness of Plants-Interspecies Communication  \nHow to integrate plants into your life\, soul\, and medicine\, and how to decide which remedy is the “right” one. Learn simple plant dowsing techniques and consider herb-drug interactions. \nInformation and Registration:\n561-413-3499 \nhttp://bodywellness.com/herb-classes-certifications/
URL:https://www.naturalnurse.com/event/ground-herbal-certification-course-winter-2017/
LOCATION:Body Wellness®\, 2385 NW Executive Center Drive\, Boca Raton\, FL\, 33431\, United States
CATEGORIES:2017 events,Continuing Education Courses,Online Herbal Medicine Course
ATTACH;FMTTYPE=image/png:https://www.naturalnurse.com/wp-content/uploads/2016/09/herbs-for-health.png
ORGANIZER;CN="Body Wellness%C2%AE":MAILTO:info@bodywellness.com 
END:VEVENT
END:VCALENDAR