BEGIN:VCALENDAR
VERSION:2.0
PRODID:-//The Natural Nurse - ECPv6.15.17.1//NONSGML v1.0//EN
CALSCALE:GREGORIAN
METHOD:PUBLISH
X-ORIGINAL-URL:https://www.naturalnurse.com
X-WR-CALDESC:Events for The Natural Nurse
REFRESH-INTERVAL;VALUE=DURATION:PT1H
X-Robots-Tag:noindex
X-PUBLISHED-TTL:PT1H
BEGIN:VTIMEZONE
TZID:America/New_York
BEGIN:DAYLIGHT
TZOFFSETFROM:-0500
TZOFFSETTO:-0400
TZNAME:EDT
DTSTART:20240310T070000
END:DAYLIGHT
BEGIN:STANDARD
TZOFFSETFROM:-0400
TZOFFSETTO:-0500
TZNAME:EST
DTSTART:20241103T060000
END:STANDARD
BEGIN:DAYLIGHT
TZOFFSETFROM:-0500
TZOFFSETTO:-0400
TZNAME:EDT
DTSTART:20250309T070000
END:DAYLIGHT
BEGIN:STANDARD
TZOFFSETFROM:-0400
TZOFFSETTO:-0500
TZNAME:EST
DTSTART:20251102T060000
END:STANDARD
BEGIN:DAYLIGHT
TZOFFSETFROM:-0500
TZOFFSETTO:-0400
TZNAME:EDT
DTSTART:20260308T070000
END:DAYLIGHT
BEGIN:STANDARD
TZOFFSETFROM:-0400
TZOFFSETTO:-0500
TZNAME:EST
DTSTART:20261101T060000
END:STANDARD
END:VTIMEZONE
BEGIN:VEVENT
DTSTART;TZID=America/New_York:20250914T093000
DTEND;TZID=America/New_York:20250914T110000
DTSTAMP:20260424T022522
CREATED:20250621T052642Z
LAST-MODIFIED:20260120T054050Z
UID:20998-1757842200-1757847600@www.naturalnurse.com
SUMMARY:[ONLINE] Homeopathy: A Great Companion to Herbal Medicine
DESCRIPTION:Register here: https://www.holisticlivingschool.org/product/homeopathy-a-great-companion-to-herbal-medicine-with-ellen-kamhi-september-14-2025/\n\n\n\n\nHerbal Medicine is thousands of years old ! Homeopathy is a relative newcomer. Dr. Samuel Hannamon was a medical doctor\, chemist and pharmacist. In the Organon of Rational Medicine (1810)\, Dr. Hannamon described “the highest ideal of cure is to restore health rapidly\, gently and permanently\, in the shortest\, surest and least harmful way”. He developed a system referred to as homeopathy\, which has a long history of gentle and effective use. In this class\, we will discuss how to use this excellent supportive system to enhance the health of yourself and your family! \nTuition: $35 / $25 Early Bird if registered before August 31\, 2025 \nLocation: Live Online via Zoom or via Recording if you can’t make the live class. \nAll of our classes\, unless otherwise noted\, are available and accessible to everyone – whether you are an experienced herbalist\, a budding herbalist\, or simply herb-curious. Everyone is welcome. \nAll registrants will receive the course recording and handouts\, with access to materials for one year. \n3 CEUs are available to Massage Therapists\, Nurses\, Dietitians\, Respiratory Therapists & Midwives in the state of Florida through CE Broker for students who successfully complete the course through attendance and submission of assignments. To add CEU credits to your enrollment\, click here. An additional $15 educational credit processing fee will apply. \nOpen to all levels from beginner to more experienced. \n\n\nAll registrants will receive the course recording and handouts\, with access to materials for one year.\n\n\n\n\n\n\n  \n\nOther classes available through Florida School of Holistic Living: \n \nhttps://www.holisticlivingschool.org/product-category/ellen-kamhi/
URL:https://www.naturalnurse.com/event/online-homeopathy-a-great-companion-to-herbal-medicine/
LOCATION:Online Course\, United States
CATEGORIES:2025 Events,CEU available,Continuing Education Courses,Holistic Living School
ATTACH;FMTTYPE=image/jpeg:https://www.naturalnurse.com/wp-content/uploads/2025/06/2025-FSHL-Class-Homeopathy.jpg
ORGANIZER;CN="Florida School of Holistic Living":MAILTO:info@holisticlivingschool.org
END:VEVENT
END:VCALENDAR