BEGIN:VCALENDAR
VERSION:2.0
PRODID:-//The Natural Nurse - ECPv6.15.17.1//NONSGML v1.0//EN
CALSCALE:GREGORIAN
METHOD:PUBLISH
X-ORIGINAL-URL:https://www.naturalnurse.com
X-WR-CALDESC:Events for The Natural Nurse
REFRESH-INTERVAL;VALUE=DURATION:PT1H
X-Robots-Tag:noindex
X-PUBLISHED-TTL:PT1H
BEGIN:VTIMEZONE
TZID:America/New_York
BEGIN:DAYLIGHT
TZOFFSETFROM:-0500
TZOFFSETTO:-0400
TZNAME:EDT
DTSTART:20250309T070000
END:DAYLIGHT
BEGIN:STANDARD
TZOFFSETFROM:-0400
TZOFFSETTO:-0500
TZNAME:EST
DTSTART:20251102T060000
END:STANDARD
BEGIN:DAYLIGHT
TZOFFSETFROM:-0500
TZOFFSETTO:-0400
TZNAME:EDT
DTSTART:20260308T070000
END:DAYLIGHT
BEGIN:STANDARD
TZOFFSETFROM:-0400
TZOFFSETTO:-0500
TZNAME:EST
DTSTART:20261101T060000
END:STANDARD
BEGIN:DAYLIGHT
TZOFFSETFROM:-0500
TZOFFSETTO:-0400
TZNAME:EDT
DTSTART:20270314T070000
END:DAYLIGHT
BEGIN:STANDARD
TZOFFSETFROM:-0400
TZOFFSETTO:-0500
TZNAME:EST
DTSTART:20271107T060000
END:STANDARD
END:VTIMEZONE
BEGIN:VEVENT
DTSTART;TZID=America/New_York:20260215T093000
DTEND;TZID=America/New_York:20260215T110000
DTSTAMP:20260423T185821
CREATED:20260105T152558Z
LAST-MODIFIED:20260105T152558Z
UID:22570-1771147800-1771153200@www.naturalnurse.com
SUMMARY:[Live ONLINE] Womens Health throughout the Cycles: Conscious Fertility Management \, Pregnancy\, Nursing \, Menopause
DESCRIPTION:Register here: https://www.holisticlivingschool.org/product/womens-health-throughout-the-cycles-conscious-fertility-management-pregnancy-nursing-menopause-with-ellen-kamhi-february-15-2026/ \n3 CEUs are offered for Massage Therapists\, Dietitians\, Nurses\, and Midwives in the state of Florida \n\n\nHerbs and Natural Self Care to the Rescue! \nHerbs have been trusted throughout history to help balance the natural ups and downs of the menstrual cycle from menarche to menopause and beyond. We will take a deep dive into the pharmacological aspects of various birth control methods\, and natural ways to self-regulate fertility. We explore the cumulative physiological effects of a variety of stress mechanisms that can cause a disruption of the natural rhythms and balancing mechanisms of women’s hormones\, which can compromise overall health along with sexual and reproductive wellness. Millions of women continue to experience health issues inked to dis-regulation of hormones. These include: \n· PMS ( Pre- menstrual syndrome) \n· Infertility \n· Depression \n· Decreased libido \n· Fibrocystic breasts \n· Menopause Challenges \nLearn how to use HERBS to Bring Back Balance! \n\nDate: February 15\, 2026    Time: 9:30am – 11:00am EST\n\n\n\n\nTuition: $35 / $25 Early Bird if registered before February 1\, 2026 \n\n\n\n\nLocation: Live Online via Zoom or via Recording if you can’t make the live class. \nAll of our classes\, unless otherwise noted\, are available and accessible to everyone – whether you are an experienced herbalist\, a budding herbalist\, or simply herb-curious. Everyone is welcome. \nAll registrants will receive the course recording and handouts\, with access to materials for one year. \nLevel: All Levels
URL:https://www.naturalnurse.com/event/live-online-womens-health-throughout-the-cycles-conscious-fertility-management-pregnancy-nursing-menopause/
LOCATION:Online Course\, United States
CATEGORIES:2026 Events,CEU available,Continuing Education Courses,Holistic Living School,Online Herbal Medicine Course
ATTACH;FMTTYPE=image/jpeg:https://www.naturalnurse.com/wp-content/uploads/2026/01/2026-FSHL-Fertility.jpg
ORGANIZER;CN="Florida School of Holistic Living":MAILTO:info@holisticlivingschool.org
END:VEVENT
END:VCALENDAR