BEGIN:VCALENDAR
VERSION:2.0
PRODID:-//The Natural Nurse - ECPv6.15.17.1//NONSGML v1.0//EN
CALSCALE:GREGORIAN
METHOD:PUBLISH
X-WR-CALNAME:The Natural Nurse
X-ORIGINAL-URL:https://www.naturalnurse.com
X-WR-CALDESC:Events for The Natural Nurse
REFRESH-INTERVAL;VALUE=DURATION:PT1H
X-Robots-Tag:noindex
X-PUBLISHED-TTL:PT1H
BEGIN:VTIMEZONE
TZID:America/New_York
BEGIN:DAYLIGHT
TZOFFSETFROM:-0500
TZOFFSETTO:-0400
TZNAME:EDT
DTSTART:20230312T070000
END:DAYLIGHT
BEGIN:STANDARD
TZOFFSETFROM:-0400
TZOFFSETTO:-0500
TZNAME:EST
DTSTART:20231105T060000
END:STANDARD
BEGIN:DAYLIGHT
TZOFFSETFROM:-0500
TZOFFSETTO:-0400
TZNAME:EDT
DTSTART:20240310T070000
END:DAYLIGHT
BEGIN:STANDARD
TZOFFSETFROM:-0400
TZOFFSETTO:-0500
TZNAME:EST
DTSTART:20241103T060000
END:STANDARD
BEGIN:DAYLIGHT
TZOFFSETFROM:-0500
TZOFFSETTO:-0400
TZNAME:EDT
DTSTART:20250309T070000
END:DAYLIGHT
BEGIN:STANDARD
TZOFFSETFROM:-0400
TZOFFSETTO:-0500
TZNAME:EST
DTSTART:20251102T060000
END:STANDARD
END:VTIMEZONE
BEGIN:VEVENT
DTSTART;TZID=America/New_York:20241013T093000
DTEND;TZID=America/New_York:20241013T230000
DTSTAMP:20260424T193130
CREATED:20240919T173633Z
LAST-MODIFIED:20260120T053759Z
UID:19870-1728811800-1728860400@www.naturalnurse.com
SUMMARY:[Online] Herbs for the Spiritual Season
DESCRIPTION:To register: https://www.holisticlivingschool.org/product/herbs-for-the-spiritual-season-with-ellen-kamhi-october-13-2024/\n3 CEUs are offered for Licensed Massage Therapists\, Registered Dietitians\, Registered Nurses\, Nurse Practitioners and Midwives\n\n Plants have been used throughout history by civilizations around the world for food\, medicine\, tools\, household implements and spiritual ritual. So\, it is not surprising to discover that all holy books and civilizations from around the globe honor hundreds of descriptions of the use of herbs for all of these purposes. Let’s investigate botanicals for magic and mayhem that can support the Spiritual Celebrations of the Holiday Season and beyond. Join us for a romp through Halloween Rituals for Love and Death\, Marigold Magic\, Mandrake for flying\, and the Medicinal aspects of spices such as garlic and ginger!\n\nAll registrants will receive access to the course recording and handouts for one year from date of purchase. \nDate: October 13\, 2024 Time: 9:30am – 11am \nTuition: $35 / Early Bird is $25 through September 30\, 2024 \nClass Meets Live Online Via Zoom \nAll registrants will receive the course recording and handouts\, with access to materials for one year. \n3 CEUs are available to Massage Therapists\, Dietitians\, Nurses & Midwives in the state of Florida through CE Broker for students who successfully complete the course through attendance and submission of assignments. To add CEU credits to your enrollment\, click here. An additional $15 educational credit processing fee will apply.
URL:https://www.naturalnurse.com/event/online-herbs-for-spiritual-season-2024/
LOCATION:Online Course\, United States
CATEGORIES:2024 Events,CEU available,Holistic Living School,Online Herbal Medicine Course
ATTACH;FMTTYPE=image/png:https://www.naturalnurse.com/wp-content/uploads/2024/09/Ellen-Kamhi-Magik-and-Medicine-Spiritual-Season-2024-Square-4-768x768-1.png
ORGANIZER;CN="Florida School of Holistic Living":MAILTO:info@holisticlivingschool.org
END:VEVENT
END:VCALENDAR